BEGIN:VCALENDAR
VERSION:2.0
PRODID:-//Forty Niner - ECPv6.15.20//NONSGML v1.0//EN
CALSCALE:GREGORIAN
METHOD:PUBLISH
X-WR-CALNAME:Forty Niner
X-ORIGINAL-URL:https://fortyninercc.com
X-WR-CALDESC:Events for Forty Niner
REFRESH-INTERVAL;VALUE=DURATION:PT1H
X-Robots-Tag:noindex
X-PUBLISHED-TTL:PT1H
BEGIN:VTIMEZONE
TZID:America/Phoenix
BEGIN:STANDARD
TZOFFSETFROM:-0700
TZOFFSETTO:-0700
TZNAME:MST
DTSTART:20240101T000000
END:STANDARD
END:VTIMEZONE
BEGIN:VEVENT
DTSTART;TZID=America/Phoenix:20251205T180000
DTEND;TZID=America/Phoenix:20251205T210000
DTSTAMP:20260423T150755
CREATED:20251031T194734Z
LAST-MODIFIED:20251106T203034Z
UID:4584-1764957600-1764968400@fortyninercc.com
SUMMARY:LIVE MUSIC - Smokin' Smalls & Hot Toddy - The Bar @ Forty Niner
DESCRIPTION:Live Music with Smokin Smalls & Hot Toddy at Forty Niner \n Friday\, December 5th\, 2025\n6:00 PM – 9:00 PM \nIf you’ve seen them before\, you know you’re in for a treat! If this is your first time\, get ready to enjoy some incredible tunes. Come on down and show some love!
URL:https://fortyninercc.com/event/live-music-smokin-smalls-hot-toddy-the-bar-forty-niner-2/
LOCATION:Forty Niner\, 12000 E. Tanque Verde\, Tucson\, AZ\, 85749\, United States
CATEGORIES:Free Live Music
ATTACH;FMTTYPE=image/jpeg:https://fortyninercc.com/wp-content/uploads/2025/10/12.05.25_SmokinSmallsHotToddy.jpg
ORGANIZER;CN="Forty Niner":MAILTO:cklok@fortyninercc.com
END:VEVENT
BEGIN:VEVENT
DTSTART;TZID=America/Phoenix:20251212T180000
DTEND;TZID=America/Phoenix:20251212T210000
DTSTAMP:20260423T150755
CREATED:20251203T195824Z
LAST-MODIFIED:20251203T201646Z
UID:4739-1765562400-1765573200@fortyninercc.com
SUMMARY:LIVE MUSIC – The Mambo Cat Trio – The Bar @ Forty Niner
DESCRIPTION:Live Music with The Mambo Cat Trio at Forty Niner \nFriday\, December 12th | 6:00 PM – 9:00 PMWelcome to The Bar @ Forty Niner! Join us for an evening of amazing live music with The Mambo Cat Trio. Bring a blanket or lawn chair and enjoy great tunes and good vibes outdoors. \nFree performance for all to enjoy.
URL:https://fortyninercc.com/event/live-music-the-mambo-cat-trio-the-bar-forty-niner/
LOCATION:Forty Niner\, 12000 E. Tanque Verde\, Tucson\, AZ\, 85749\, United States
CATEGORIES:Free Live Music
ATTACH;FMTTYPE=image/jpeg:https://fortyninercc.com/wp-content/uploads/2025/12/12.12.25_TheMamboCatTrio.jpg
ORGANIZER;CN="Forty Niner":MAILTO:cklok@fortyninercc.com
END:VEVENT
BEGIN:VEVENT
DTSTART;TZID=America/Phoenix:20251219T180000
DTEND;TZID=America/Phoenix:20251219T210000
DTSTAMP:20260423T150755
CREATED:20251126T194041Z
LAST-MODIFIED:20251126T194043Z
UID:4714-1766167200-1766178000@fortyninercc.com
SUMMARY:LIVE MUSIC – The Buddy System – The Bar @ Forty Niner
DESCRIPTION:Live Music with The Buddy System at Forty Niner \nFriday\, December 19th | 6:00 PM – 9:00 PMGet ready to rock with The Buddy System! Join us for an evening of classic rock hits under the stars. Bring a blanket or lawn chair and enjoy great music and good vibes outdoors. \nFree performance for all to enjoy.
URL:https://fortyninercc.com/event/live-music-the-buddy-system-the-bar-forty-niner/
LOCATION:Forty Niner\, 12000 E. Tanque Verde\, Tucson\, AZ\, 85749\, United States
CATEGORIES:Free Live Music
ATTACH;FMTTYPE=image/jpeg:https://fortyninercc.com/wp-content/uploads/2025/11/12.19.25_TheBuddySystem.jpg
ORGANIZER;CN="Forty Niner":MAILTO:cklok@fortyninercc.com
END:VEVENT
BEGIN:VEVENT
DTSTART;TZID=America/Phoenix:20251220T180000
DTEND;TZID=America/Phoenix:20251220T210000
DTSTAMP:20260423T150755
CREATED:20251203T201538Z
LAST-MODIFIED:20251203T201546Z
UID:4752-1766253600-1766264400@fortyninercc.com
SUMMARY:LIVE MUSIC – John & Kathleen – The Bar @ Forty Niner
DESCRIPTION:Live Music with John & Kathleen at Forty Niner \nSaturday\, December 20 | 6:00 PM – 9:00 PMCelebrate the season with John & Kathleen! Enjoy an evening of Great American sound book and jazz-influenced contemporary tunes. Bring a blanket or lawn chair and soak up the music and good vibes. \nFree performance for all to enjoy.
URL:https://fortyninercc.com/event/live-music-john-kathleen-the-bar-forty-niner/
LOCATION:Forty Niner\, 12000 E. Tanque Verde\, Tucson\, AZ\, 85749\, United States
CATEGORIES:Free Community Events,Free Live Music
ATTACH;FMTTYPE=image/jpeg:https://fortyninercc.com/wp-content/uploads/2025/12/12.20.26_JohnKathleen-scaled.jpg
ORGANIZER;CN="Forty Niner":MAILTO:cklok@fortyninercc.com
END:VEVENT
BEGIN:VEVENT
DTSTART;TZID=America/Phoenix:20251226T180000
DTEND;TZID=America/Phoenix:20251226T210000
DTSTAMP:20260423T150755
CREATED:20251126T194527Z
LAST-MODIFIED:20251126T194529Z
UID:4717-1766772000-1766782800@fortyninercc.com
SUMMARY:LIVE MUSIC – The Pena Coladas – The Bar @ Forty Niner
DESCRIPTION:Live Music with The Pena Coladas at Forty Niner \nFriday\, December 26 | 6:00 PM – 9:00 PMCelebrate the season with The Pena Coladas! Enjoy an evening of classic rock covers outdoors. Bring a blanket or lawn chair and soak up the music and good vibes. \nFree performance for all to enjoy.
URL:https://fortyninercc.com/event/live-music-the-pena-coladas-the-bar-forty-niner/
LOCATION:Forty Niner\, 12000 E. Tanque Verde\, Tucson\, AZ\, 85749\, United States
CATEGORIES:Free Live Music
ATTACH;FMTTYPE=image/jpeg:https://fortyninercc.com/wp-content/uploads/2025/11/12.26.25_ThePenaColadas.jpg
ORGANIZER;CN="Forty Niner":MAILTO:cklok@fortyninercc.com
END:VEVENT
BEGIN:VEVENT
DTSTART;TZID=America/Phoenix:20251227T180000
DTEND;TZID=America/Phoenix:20251227T210000
DTSTAMP:20260423T150755
CREATED:20251203T202808Z
LAST-MODIFIED:20251203T202813Z
UID:4756-1766858400-1766869200@fortyninercc.com
SUMMARY:LIVE MUSIC – Whiskey & Wine – The Bar @ Forty Niner
DESCRIPTION:Live Music with Whiskey & Wine at Forty Niner \nSaturday\, December 27th | 6:00 PM – 9:00 PMWelcome to The Bar @ Forty Niner! Join us for an evening of amazing live music with Whiskey & Wine. Bring a blanket or lawn chair and enjoy great tunes and good vibes outdoors. \nFree performance for all to enjoy.
URL:https://fortyninercc.com/event/live-music-whiskey-wine-the-bar-forty-niner-2/
LOCATION:Forty Niner\, 12000 E. Tanque Verde\, Tucson\, AZ\, 85749\, United States
CATEGORIES:Free Live Music
ATTACH;FMTTYPE=image/jpeg:https://fortyninercc.com/wp-content/uploads/2025/12/12.27.25_WhiskeyandWine.jpg
ORGANIZER;CN="Forty Niner":MAILTO:cklok@fortyninercc.com
END:VEVENT
END:VCALENDAR