BEGIN:VCALENDAR
VERSION:2.0
PRODID:-//Forty Niner - ECPv6.15.20//NONSGML v1.0//EN
CALSCALE:GREGORIAN
METHOD:PUBLISH
X-WR-CALNAME:Forty Niner
X-ORIGINAL-URL:https://fortyninercc.com
X-WR-CALDESC:Events for Forty Niner
REFRESH-INTERVAL;VALUE=DURATION:PT1H
X-Robots-Tag:noindex
X-PUBLISHED-TTL:PT1H
BEGIN:VTIMEZONE
TZID:UTC
BEGIN:STANDARD
TZOFFSETFROM:+0000
TZOFFSETTO:+0000
TZNAME:UTC
DTSTART:20240101T000000
END:STANDARD
END:VTIMEZONE
BEGIN:VEVENT
DTSTART;TZID=UTC:20250308T150000
DTEND;TZID=UTC:20250308T180000
DTSTAMP:20260424T084345
CREATED:20250221T025531Z
LAST-MODIFIED:20250221T025531Z
UID:1533-1741446000-1741456800@fortyninercc.com
SUMMARY:LIVE MUSIC - Jacob Acosta Duo - The Bar @ Forty Niner
DESCRIPTION:Get ready to groove with Jacob Acosta\, the human jukebox\, as he takes the stage at The Bar @ Forty Niner!\nThis multi-talented musician is known for his incredible versatility and ability to connect with audiences of all ages. With a degree in classical guitar and a passion for exploring various genres\, Jacob has mastered everything from blues rock and indie-shoegaze to pop\, deep house\, progressive house\, organic house\, americana\, and folk. He’s even been known to sing in up to four different languages!\nDon’t miss this opportunity to experience the incredible talent of Jacob Acosta as he brings his unique blend of musical styles and infectious energy to The Bar @ Forty Niner. Get ready for a night of dancing\, singing\, and celebrating the power of music to connect us all!
URL:https://fortyninercc.com/event/live-music-jacob-acosta-duo-the-bar-forty-niner/
LOCATION:Forty Niner\, 12000 E. Tanque Verde\, Tucson\, AZ\, 85749\, United States
CATEGORIES:Free Community Events,Free Live Music
ATTACH;FMTTYPE=image/jpeg:https://fortyninercc.com/wp-content/uploads/2025/02/0308_JacobAcosta.jpg
ORGANIZER;CN="Forty Niner":MAILTO:cklok@fortyninercc.com
END:VEVENT
END:VCALENDAR