BEGIN:VCALENDAR
VERSION:2.0
PRODID:-//Forty Niner - ECPv6.15.20//NONSGML v1.0//EN
CALSCALE:GREGORIAN
METHOD:PUBLISH
X-WR-CALNAME:Forty Niner
X-ORIGINAL-URL:https://fortyninercc.com
X-WR-CALDESC:Events for Forty Niner
REFRESH-INTERVAL;VALUE=DURATION:PT1H
X-Robots-Tag:noindex
X-PUBLISHED-TTL:PT1H
BEGIN:VTIMEZONE
TZID:America/Phoenix
BEGIN:STANDARD
TZOFFSETFROM:-0700
TZOFFSETTO:-0700
TZNAME:MST
DTSTART:20240101T000000
END:STANDARD
END:VTIMEZONE
BEGIN:VEVENT
DTSTART;TZID=America/Phoenix:20250516T180000
DTEND;TZID=America/Phoenix:20250516T210000
DTSTAMP:20260424T050904
CREATED:20250430T205340Z
LAST-MODIFIED:20250430T211214Z
UID:2435-1747418400-1747429200@fortyninercc.com
SUMMARY:LIVE MUSIC – Blondie All Over – The Bar @ Forty Niner
DESCRIPTION:Get ready to rock out at The Bar @ Forty Niner!  Blondie All Over will be bringing their incredible sound to the stage.\n Friday\, May 16\, 2025 6:00 PM – 9:00 PM\nDon’t miss this chance to see them live! It’s going to be an awesome night of music. 
URL:https://fortyninercc.com/event/live-music-blondie-all-over-the-bar-forty-niner/
LOCATION:Forty Niner\, 12000 E. Tanque Verde\, Tucson\, AZ\, 85749\, United States
CATEGORIES:Free Live Music
ATTACH;FMTTYPE=image/jpeg:https://fortyninercc.com/wp-content/uploads/2025/04/051625_BlondieAllOver.jpg
ORGANIZER;CN="Forty Niner":MAILTO:cklok@fortyninercc.com
END:VEVENT
END:VCALENDAR