BEGIN:VCALENDAR
VERSION:2.0
PRODID:-//Forty Niner - ECPv6.15.20//NONSGML v1.0//EN
CALSCALE:GREGORIAN
METHOD:PUBLISH
X-WR-CALNAME:Forty Niner
X-ORIGINAL-URL:https://fortyninercc.com
X-WR-CALDESC:Events for Forty Niner
REFRESH-INTERVAL;VALUE=DURATION:PT1H
X-Robots-Tag:noindex
X-PUBLISHED-TTL:PT1H
BEGIN:VTIMEZONE
TZID:America/Phoenix
BEGIN:STANDARD
TZOFFSETFROM:-0700
TZOFFSETTO:-0700
TZNAME:MST
DTSTART:20240101T000000
END:STANDARD
END:VTIMEZONE
BEGIN:VEVENT
DTSTART;TZID=America/Phoenix:20251003T190000
DTEND;TZID=America/Phoenix:20251003T210000
DTSTAMP:20260423T200750
CREATED:20250827T184732Z
LAST-MODIFIED:20250909T014826Z
UID:3970-1759518000-1759525200@fortyninercc.com
SUMMARY:LIVE MUSIC - Keila & Charles
DESCRIPTION:Join us for a back to back weekend of the talented duo Keila & Charles on the stage at Forty Niner. \nOn Friday\, October 3\, from 7:00 PM to 9:00 PM\, prepare to be touched by music that’s both lyrical and emotional. Keila is a seasoned singer/songwriter with a passion for connecting with people through music. With over 15 years of experience\, she’s a familiar face in the local Tucson music scene\, known for her work with ‘The Buckboard Band’ and her own band ‘Dust&Rain.’ \nCome on out for a night of heartfelt music and good times!
URL:https://fortyninercc.com/event/live-music-keila-charles-the-bar-forty-niner-2/
LOCATION:Forty Niner\, 12000 E. Tanque Verde\, Tucson\, AZ\, 85749\, United States
CATEGORIES:Free Live Music
ATTACH;FMTTYPE=image/jpeg:https://fortyninercc.com/wp-content/uploads/2025/08/10.03.25_KeilaCharles.jpg
ORGANIZER;CN="Forty Niner":MAILTO:cklok@fortyninercc.com
END:VEVENT
END:VCALENDAR