BEGIN:VCALENDAR
VERSION:2.0
PRODID:-//Forty Niner - ECPv6.15.20//NONSGML v1.0//EN
CALSCALE:GREGORIAN
METHOD:PUBLISH
X-ORIGINAL-URL:https://fortyninercc.com
X-WR-CALDESC:Events for Forty Niner
REFRESH-INTERVAL;VALUE=DURATION:PT1H
X-Robots-Tag:noindex
X-PUBLISHED-TTL:PT1H
BEGIN:VTIMEZONE
TZID:America/Phoenix
BEGIN:STANDARD
TZOFFSETFROM:-0700
TZOFFSETTO:-0700
TZNAME:MST
DTSTART:20240101T000000
END:STANDARD
END:VTIMEZONE
BEGIN:VEVENT
DTSTART;TZID=America/Phoenix:20251227T180000
DTEND;TZID=America/Phoenix:20251227T210000
DTSTAMP:20260423T165557
CREATED:20251203T202808Z
LAST-MODIFIED:20251203T202813Z
UID:4756-1766858400-1766869200@fortyninercc.com
SUMMARY:LIVE MUSIC – Whiskey & Wine – The Bar @ Forty Niner
DESCRIPTION:Live Music with Whiskey & Wine at Forty Niner \nSaturday\, December 27th | 6:00 PM – 9:00 PMWelcome to The Bar @ Forty Niner! Join us for an evening of amazing live music with Whiskey & Wine. Bring a blanket or lawn chair and enjoy great tunes and good vibes outdoors. \nFree performance for all to enjoy.
URL:https://fortyninercc.com/event/live-music-whiskey-wine-the-bar-forty-niner-2/
LOCATION:Forty Niner\, 12000 E. Tanque Verde\, Tucson\, AZ\, 85749\, United States
CATEGORIES:Free Live Music
ATTACH;FMTTYPE=image/jpeg:https://fortyninercc.com/wp-content/uploads/2025/12/12.27.25_WhiskeyandWine.jpg
ORGANIZER;CN="Forty Niner":MAILTO:cklok@fortyninercc.com
END:VEVENT
END:VCALENDAR