BEGIN:VCALENDAR
VERSION:2.0
PRODID:-//Forty Niner - ECPv6.15.20//NONSGML v1.0//EN
CALSCALE:GREGORIAN
METHOD:PUBLISH
X-ORIGINAL-URL:https://fortyninercc.com
X-WR-CALDESC:Events for Forty Niner
REFRESH-INTERVAL;VALUE=DURATION:PT1H
X-Robots-Tag:noindex
X-PUBLISHED-TTL:PT1H
BEGIN:VTIMEZONE
TZID:America/Phoenix
BEGIN:STANDARD
TZOFFSETFROM:-0700
TZOFFSETTO:-0700
TZNAME:MST
DTSTART:20250101T000000
END:STANDARD
END:VTIMEZONE
BEGIN:VEVENT
DTSTART;TZID=America/Phoenix:20260314T150000
DTEND;TZID=America/Phoenix:20260314T210000
DTSTAMP:20260423T115913
CREATED:20260221T020904Z
LAST-MODIFIED:20260221T022233Z
UID:5138-1773500400-1773522000@fortyninercc.com
SUMMARY:St. Patrick’s Day Parade & Festival at Forty Niner
DESCRIPTION:St. Patrick’s Day Parade & Festival at Forty Niner\nJoin us for a day of luck\, laughter\, and community at the Forty Niner & 49er HOA St. Patrick’s Day Parade & Festival! We’re turning Forty Niner green for a family-friendly celebration you won’t want to miss. \nWhether you’re here for the parade\, the kids’ zone\, or the live tunes\, there is something for every member of the family. \nEvent Schedule | Saturday\, March 14\n\n\n3:00 PM: The Parade Kicks Off! \n\n\n3:30 PM – 6:00 PM: Festival & Kids’ Activities (Bounce Houses\, Temp Tattoos\, and more) \n\n\n6:00 PM – 9:00 PM: Live Music & Evening Adult Festivities \n\n\nFood & Drink\nOur Live Grill will be fired up until 6:00pm on the Rincon Patio serving up fresh grilled burgers and dogs! \nEntertainment\nStick around after the festival for a live performance by My Bestfriends Band from 6:00 PM to 9:00 PM. It’s the perfect way to wrap up a Saturday at the club!
URL:https://fortyninercc.com/event/5138/
LOCATION:Forty Niner\, 12000 E. Tanque Verde\, Tucson\, AZ\, 85749\, United States
CATEGORIES:Community Events,Free Community Events,Free Live Music
ATTACH;FMTTYPE=image/jpeg:https://fortyninercc.com/wp-content/uploads/2026/02/031426_StPatricksFestival.jpg
ORGANIZER;CN="Forty Niner":MAILTO:cklok@fortyninercc.com
END:VEVENT
END:VCALENDAR