BEGIN:VCALENDAR
VERSION:2.0
PRODID:-//Forty Niner - ECPv6.15.20//NONSGML v1.0//EN
CALSCALE:GREGORIAN
METHOD:PUBLISH
X-ORIGINAL-URL:https://fortyninercc.com
X-WR-CALDESC:Events for Forty Niner
REFRESH-INTERVAL;VALUE=DURATION:PT1H
X-Robots-Tag:noindex
X-PUBLISHED-TTL:PT1H
BEGIN:VTIMEZONE
TZID:America/Phoenix
BEGIN:STANDARD
TZOFFSETFROM:-0700
TZOFFSETTO:-0700
TZNAME:MST
DTSTART:20250101T000000
END:STANDARD
END:VTIMEZONE
BEGIN:VEVENT
DTSTART;TZID=America/Phoenix:20260109T180000
DTEND;TZID=America/Phoenix:20260109T210000
DTSTAMP:20260425T060129
CREATED:20260109T194855Z
LAST-MODIFIED:20260109T194857Z
UID:4843-1767981600-1767992400@fortyninercc.com
SUMMARY:LIVE MUSIC – Caleb Bloom – The Bar @ Forty Niner
DESCRIPTION:Live Music with Caleb Bloom at Forty Niner \nFriday\, January 9th | 6:00 PM – 9:00 PMWelcome back to The Bar @ Forty Niner! Join us for an evening of amazing live music with Caleb Bloom. Bring a blanket or lawn chair and enjoy great tunes and good vibes outdoors. \nFree performance for all to enjoy.
URL:https://fortyninercc.com/event/live-music-caleb-bloom-the-bar-forty-niner-4/
LOCATION:Forty Niner\, 12000 E. Tanque Verde\, Tucson\, AZ\, 85749\, United States
CATEGORIES:Free Live Music
ATTACH;FMTTYPE=image/jpeg:https://fortyninercc.com/wp-content/uploads/2026/01/01.09.26_CalebBloom.jpg
ORGANIZER;CN="Forty Niner":MAILTO:cklok@fortyninercc.com
END:VEVENT
BEGIN:VEVENT
DTSTART;TZID=America/Phoenix:20260110T180000
DTEND;TZID=America/Phoenix:20260110T210000
DTSTAMP:20260425T060129
CREATED:20251226T213525Z
LAST-MODIFIED:20251226T213527Z
UID:4792-1768068000-1768078800@fortyninercc.com
SUMMARY:LIVE MUSIC – SORE! – The Bar @ Forty Niner
DESCRIPTION:Join us for an evening of live music with the artist Sore! on the stage at Forty Niner. \nOn Saturday\, January 10\, from 6:00 PM to 9:00 PM\, prepare to be moved as Sore! takes you on an emotional journey\, exploring the depths of feeling through poignant lyrics and heartfelt compositions. Come enjoy a night of powerful and expressive music in a cozy atmosphere. \nFree for all to enjoy. Blanket and lawn chairs are always welcomed.
URL:https://fortyninercc.com/event/live-music-sore-the-bar-forty-niner-2/
LOCATION:Forty Niner\, 12000 E. Tanque Verde\, Tucson\, AZ\, 85749\, United States
CATEGORIES:Free Live Music
ATTACH;FMTTYPE=image/jpeg:https://fortyninercc.com/wp-content/uploads/2025/12/01.10.26_Sore.jpg
ORGANIZER;CN="Forty Niner":MAILTO:cklok@fortyninercc.com
END:VEVENT
BEGIN:VEVENT
DTSTART;TZID=America/Phoenix:20260116T180000
DTEND;TZID=America/Phoenix:20260116T210000
DTSTAMP:20260425T060129
CREATED:20260109T195123Z
LAST-MODIFIED:20260109T195126Z
UID:4846-1768586400-1768597200@fortyninercc.com
SUMMARY:LIVE MUSIC – Ben Tully – The Bar @ Forty Niner
DESCRIPTION:Live Music with Ben Tully at Forty Niner \nFriday\, January 16th | 6:00 PM – 9:00 PMWelcome back to The Bar @ Forty Niner! Join us for an evening of amazing live music with Ben Tully. Bring a blanket or lawn chair and enjoy great tunes and good vibes outdoors. \nFree performance for all to enjoy.
URL:https://fortyninercc.com/event/live-music-ben-tully-the-bar-forty-niner/
LOCATION:Forty Niner\, 12000 E. Tanque Verde\, Tucson\, AZ\, 85749\, United States
CATEGORIES:Free Live Music
ATTACH;FMTTYPE=image/jpeg:https://fortyninercc.com/wp-content/uploads/2026/01/01.16.26_BenTully.jpg
ORGANIZER;CN="Forty Niner":MAILTO:cklok@fortyninercc.com
END:VEVENT
BEGIN:VEVENT
DTSTART;TZID=America/Phoenix:20260117T180000
DTEND;TZID=America/Phoenix:20260117T210000
DTSTAMP:20260425T060129
CREATED:20260109T195829Z
LAST-MODIFIED:20260109T195831Z
UID:4849-1768672800-1768683600@fortyninercc.com
SUMMARY:LIVE MUSIC – Deven Wagner – The Bar @ Forty Niner
DESCRIPTION:Live Music with Deven Wagner at Forty Niner \nSaturday\, January 17th | 6:00 PM – 9:00 PMWelcome back to The Bar @ Forty Niner! Join us for an evening of amazing live music with Deven Wagner. Bring a blanket or lawn chair and enjoy great tunes and good vibes outdoors. \nFree performance for all to enjoy.
URL:https://fortyninercc.com/event/live-music-deven-wagner-the-bar-forty-niner-2/
LOCATION:Forty Niner\, 12000 E. Tanque Verde\, Tucson\, AZ\, 85749\, United States
CATEGORIES:Free Live Music
ATTACH;FMTTYPE=image/jpeg:https://fortyninercc.com/wp-content/uploads/2026/01/01.17.26_DevenWagner.jpg
ORGANIZER;CN="Forty Niner":MAILTO:cklok@fortyninercc.com
END:VEVENT
BEGIN:VEVENT
DTSTART;TZID=America/Phoenix:20260130T180000
DTEND;TZID=America/Phoenix:20260130T210000
DTSTAMP:20260425T060129
CREATED:20260127T200429Z
LAST-MODIFIED:20260127T200439Z
UID:4976-1769796000-1769806800@fortyninercc.com
SUMMARY:LIVE MUSIC - The Cherry Springers - The Bar @ Forty Niner
DESCRIPTION:Live Music Night with The Cherry Springers!\nGet ready for an evening of killer tunes and desert vibes. This Friday\, we’re thrilled to host The Cherry Springers at Forty Niner. Whether you’re a fan of fresh original tracks or love singing along to your favorite covers\, this duo brings a unique energy you won’t want to miss. \nGrab a drink\, find a spot on the patio\, and enjoy some live music under the Arizona sky.
URL:https://fortyninercc.com/event/live-music-the-cherry-springers-the-bar-forty-niner-2/
LOCATION:Forty Niner\, 12000 E. Tanque Verde\, Tucson\, AZ\, 85749\, United States
CATEGORIES:Free Live Music
ATTACH;FMTTYPE=image/jpeg:https://fortyninercc.com/wp-content/uploads/2026/01/01.30.26_CherrySpringers.jpg
ORGANIZER;CN="Forty Niner":MAILTO:cklok@fortyninercc.com
END:VEVENT
BEGIN:VEVENT
DTSTART;TZID=America/Phoenix:20260131T180000
DTEND;TZID=America/Phoenix:20260131T210000
DTSTAMP:20260425T060129
CREATED:20260127T200619Z
LAST-MODIFIED:20260127T200619Z
UID:4979-1769882400-1769893200@fortyninercc.com
SUMMARY:LIVE MUSIC - Whiskey & Wine - The Bar @ Forty Niner
DESCRIPTION:Live Music Night with Whiskey & Wine!\n\n\n\n\n\n\n\n\nCap off your January with a soulful evening featuring Whiskey & Wine. This acoustic duo is taking the stage to perform a wide range of acoustic covers that are perfect for a relaxed Saturday night at the club. \nWhether you’re looking for a great date night spot or a place to unwind with friends\, come join us for great music\, good drinks\, and the best company in Tucson.
URL:https://fortyninercc.com/event/live-music-whiskey-and-wine/
LOCATION:Forty Niner\, 12000 E. Tanque Verde\, Tucson\, AZ\, 85749\, United States
CATEGORIES:Free Live Music
ATTACH;FMTTYPE=image/jpeg:https://fortyninercc.com/wp-content/uploads/2026/01/01.31.26_WhiskeyWine.jpg
ORGANIZER;CN="Forty Niner":MAILTO:cklok@fortyninercc.com
END:VEVENT
BEGIN:VEVENT
DTSTART;TZID=America/Phoenix:20260206T180000
DTEND;TZID=America/Phoenix:20260206T210000
DTSTAMP:20260425T060129
CREATED:20260127T200838Z
LAST-MODIFIED:20260127T200838Z
UID:4982-1770400800-1770411600@fortyninercc.com
SUMMARY:LIVE MUSIC - Daytrails - The Bar @ Forty Niner
DESCRIPTION:  \nLive Music Night with Daytrails!\n\n\n\n\n\nGet ready for an electric night as we welcome back the fan-favorite Daytrails! Known for their incredible energy and “Indie Rock” sound\, this is one performance you definitely don’t want to miss. They’ve been a hit at our previous events\, and we are excited to have them back on stage for another unforgettable evening. \nCome down early\, grab a drink\, and settle in for a night of great indie vibes and live music!
URL:https://fortyninercc.com/event/live-music-daytrails/
LOCATION:Forty Niner\, 12000 E. Tanque Verde\, Tucson\, AZ\, 85749\, United States
CATEGORIES:Free Live Music
ATTACH;FMTTYPE=image/jpeg:https://fortyninercc.com/wp-content/uploads/2026/01/02.06.26_DayTrails.jpg
ORGANIZER;CN="Forty Niner":MAILTO:cklok@fortyninercc.com
END:VEVENT
BEGIN:VEVENT
DTSTART;TZID=America/Phoenix:20260213T180000
DTEND;TZID=America/Phoenix:20260213T210000
DTSTAMP:20260425T060129
CREATED:20260127T204355Z
LAST-MODIFIED:20260127T205104Z
UID:4986-1771005600-1771016400@fortyninercc.com
SUMMARY:LIVE MUSIC - Asphalt Astronaut w/ Special Guest Stella - The Bar @ Forty Niner
DESCRIPTION:Live Music Night with Asphalt Astronaut & Special Guest Stella!\nPrepare for an incredible night of indie folk\, acoustic covers\, and originals as we welcome Asphalt Astronaut to the stage with a very special opening set by Stella. Whether you’re a regular or visiting for the first time\, this lineup is guaranteed to deliver a unique\, atmospheric evening of live music.
URL:https://fortyninercc.com/event/live-music-asphalt-astronaut-stella/
LOCATION:Forty Niner\, 12000 E. Tanque Verde\, Tucson\, AZ\, 85749\, United States
CATEGORIES:Free Live Music
ATTACH;FMTTYPE=image/jpeg:https://fortyninercc.com/wp-content/uploads/2026/01/02.13.26_Stella_AsphaltAstro.jpg
ORGANIZER;CN="Forty Niner":MAILTO:cklok@fortyninercc.com
END:VEVENT
BEGIN:VEVENT
DTSTART;TZID=America/Phoenix:20260220T180000
DTEND;TZID=America/Phoenix:20260220T210000
DTSTAMP:20260425T060129
CREATED:20260127T210919Z
LAST-MODIFIED:20260127T210928Z
UID:5004-1771610400-1771621200@fortyninercc.com
SUMMARY:LIVE MUSIC - Frank Fields - The Bar @ Forty Niner
DESCRIPTION:Live Music Night with Frank Fields!\nWe are honored to welcome the legendary Frank Fields to Forty Niner for a night of timeless acoustic covers. Frank’s seasoned style and classic repertoire make for the perfect evening of high-quality live music in a relaxed setting. \nWhether you’re a longtime fan or discovering his talent for the first time\, come join us for a performance that celebrates the very best of acoustic music.
URL:https://fortyninercc.com/event/live-music-frank-fields-the-bar-forty-niner-4/
LOCATION:Forty Niner\, 12000 E. Tanque Verde\, Tucson\, AZ\, 85749\, United States
CATEGORIES:Free Live Music
ATTACH;FMTTYPE=image/jpeg:https://fortyninercc.com/wp-content/uploads/2026/01/02.20.26_FrankFields.jpg
ORGANIZER;CN="Forty Niner":MAILTO:cklok@fortyninercc.com
END:VEVENT
BEGIN:VEVENT
DTSTART;TZID=America/Phoenix:20260221T180000
DTEND;TZID=America/Phoenix:20260221T210000
DTSTAMP:20260425T060129
CREATED:20260127T211121Z
LAST-MODIFIED:20260127T211121Z
UID:5007-1771696800-1771707600@fortyninercc.com
SUMMARY:LIVE MUSIC - Paul Opocensky Project - The Bar @ Forty Niner
DESCRIPTION:Live Music Night with the Paul Opocensky Project!\nWrap up your Saturday night with a performance from our very own regular\, the Paul Opocensky Project! Paul is back on the Forty Niner stage\, bringing his signature blend of acoustic covers and originals that our community has come to love. \nIt’s always a great time when Paul is in the house\, so grab a table\, order your favorite drink\, and enjoy a night of top-tier local music.
URL:https://fortyninercc.com/event/live-music-paul-opocensky-project-feb/
LOCATION:Forty Niner\, 12000 E. Tanque Verde\, Tucson\, AZ\, 85749\, United States
CATEGORIES:Free Live Music
ATTACH;FMTTYPE=image/jpeg:https://fortyninercc.com/wp-content/uploads/2026/01/02.21.26_PaulOpocenskyProject.jpg
ORGANIZER;CN="Forty Niner":MAILTO:cklok@fortyninercc.com
END:VEVENT
BEGIN:VEVENT
DTSTART;TZID=America/Phoenix:20260306T180000
DTEND;TZID=America/Phoenix:20260306T210000
DTSTAMP:20260425T060129
CREATED:20260227T235047Z
LAST-MODIFIED:20260227T235051Z
UID:5176-1772820000-1772830800@fortyninercc.com
SUMMARY:LIVE MUSIC – Bucky Mills & Secular Behavior – The Bar @ Forty Niner
DESCRIPTION:Farewell Night with Bucky Mills & Secular Behavior! \nThis Friday\, join us at Forty Niner for Bucky Mills final performance! Celebrate an incredible run with unforgettable tunes. \nRaise a glass\, soak up the Arizona evening\, and give Bucky the send-off he deserves. It’s a night of music\, memories\, and good vibes you won’t want to miss!
URL:https://fortyninercc.com/event/live-music-bucky-mills-secular-behavior-the-bar-forty-niner/
LOCATION:Forty Niner\, 12000 E. Tanque Verde\, Tucson\, AZ\, 85749\, United States
CATEGORIES:Free Live Music
ATTACH;FMTTYPE=image/jpeg:https://fortyninercc.com/wp-content/uploads/2026/02/03.06.26_BUCKYMILLS.jpg
ORGANIZER;CN="Forty Niner":MAILTO:cklok@fortyninercc.com
END:VEVENT
BEGIN:VEVENT
DTSTART;TZID=America/Phoenix:20260313T180000
DTEND;TZID=America/Phoenix:20260313T210000
DTSTAMP:20260425T060129
CREATED:20260227T235538Z
LAST-MODIFIED:20260227T235541Z
UID:5179-1773424800-1773435600@fortyninercc.com
SUMMARY:LIVE MUSIC – M.A.G – The Bar @ Forty Niner
DESCRIPTION:Live Music Night with M.A.G! \nThis Friday\, enjoy M.A.G performing acoustic originals and crowd-favorite covers at Forty Niner. Grab a drink\, relax on the patio\, and soak in the music under the Arizona sky!
URL:https://fortyninercc.com/event/live-music-m-a-g-the-bar-forty-niner/
LOCATION:Forty Niner\, 12000 E. Tanque Verde\, Tucson\, AZ\, 85749\, United States
CATEGORIES:Free Live Music
ATTACH;FMTTYPE=image/jpeg:https://fortyninercc.com/wp-content/uploads/2026/02/03.13.26_MAG.jpg
ORGANIZER;CN="Forty Niner":MAILTO:cklok@fortyninercc.com
END:VEVENT
BEGIN:VEVENT
DTSTART;TZID=America/Phoenix:20260314T150000
DTEND;TZID=America/Phoenix:20260314T210000
DTSTAMP:20260425T060129
CREATED:20260221T020904Z
LAST-MODIFIED:20260221T022233Z
UID:5138-1773500400-1773522000@fortyninercc.com
SUMMARY:St. Patrick’s Day Parade & Festival at Forty Niner
DESCRIPTION:St. Patrick’s Day Parade & Festival at Forty Niner\nJoin us for a day of luck\, laughter\, and community at the Forty Niner & 49er HOA St. Patrick’s Day Parade & Festival! We’re turning Forty Niner green for a family-friendly celebration you won’t want to miss. \nWhether you’re here for the parade\, the kids’ zone\, or the live tunes\, there is something for every member of the family. \nEvent Schedule | Saturday\, March 14\n\n\n3:00 PM: The Parade Kicks Off! \n\n\n3:30 PM – 6:00 PM: Festival & Kids’ Activities (Bounce Houses\, Temp Tattoos\, and more) \n\n\n6:00 PM – 9:00 PM: Live Music & Evening Adult Festivities \n\n\nFood & Drink\nOur Live Grill will be fired up until 6:00pm on the Rincon Patio serving up fresh grilled burgers and dogs! \nEntertainment\nStick around after the festival for a live performance by My Bestfriends Band from 6:00 PM to 9:00 PM. It’s the perfect way to wrap up a Saturday at the club!
URL:https://fortyninercc.com/event/5138/
LOCATION:Forty Niner\, 12000 E. Tanque Verde\, Tucson\, AZ\, 85749\, United States
CATEGORIES:Community Events,Free Community Events,Free Live Music
ATTACH;FMTTYPE=image/jpeg:https://fortyninercc.com/wp-content/uploads/2026/02/031426_StPatricksFestival.jpg
ORGANIZER;CN="Forty Niner":MAILTO:cklok@fortyninercc.com
END:VEVENT
BEGIN:VEVENT
DTSTART;TZID=America/Phoenix:20260320T180000
DTEND;TZID=America/Phoenix:20260320T210000
DTSTAMP:20260425T060129
CREATED:20260227T235908Z
LAST-MODIFIED:20260227T235911Z
UID:5182-1774029600-1774040400@fortyninercc.com
SUMMARY:LIVE MUSIC – Jay Faircloth – The Bar @ Forty Niner
DESCRIPTION:Live Music Night with Jay Faircloth! \nThis Friday\, join us at Forty Niner for Jay Faircloth performing acoustic originals and your favorite covers. \nGrab a drink\, relax on the patio\, and enjoy live music under the Arizona sky!
URL:https://fortyninercc.com/event/live-music-jay-faircloth-the-bar-forty-niner/
LOCATION:Forty Niner\, 12000 E. Tanque Verde\, Tucson\, AZ\, 85749\, United States
CATEGORIES:Free Live Music
ATTACH;FMTTYPE=image/jpeg:https://fortyninercc.com/wp-content/uploads/2026/02/03.20.26_JayFaircloth-1.jpg
ORGANIZER;CN="Forty Niner":MAILTO:cklok@fortyninercc.com
END:VEVENT
BEGIN:VEVENT
DTSTART;TZID=America/Phoenix:20260321T210000
DTEND;TZID=America/Phoenix:20260321T235900
DTSTAMP:20260425T060129
CREATED:20260303T021911Z
LAST-MODIFIED:20260303T022213Z
UID:5211-1774126800-1774137540@fortyninercc.com
SUMMARY:Forty Niner’s Third Saturdays
DESCRIPTION:Third Saturdays are your once-a-month excuse to linger a little longer at Forty Niner. We’re extending our hours and keeping the energy high with an extra-long night of drinks and conversation! \nThis month\, we’re leveling up the vibe with live music from Joe Weinburg! \nWhile the kitchen wraps up at 9pm\, the bar keeps the energy going well into the evening. Stop by after dinner\, plan a nightcap with friends\, or make it your go-to late-night hang. Same Forty Niner vibe—just more time to enjoy it.
URL:https://fortyninercc.com/event/forty-niners-third-saturdays-2/
LOCATION:Forty Niner\, 12000 E. Tanque Verde\, Tucson\, AZ\, 85749\, United States
CATEGORIES:Community Events,Free Community Events,Free Live Music
ATTACH;FMTTYPE=image/jpeg:https://fortyninercc.com/wp-content/uploads/2026/03/Third-SaturdayS-1.jpg
ORGANIZER;CN="Forty Niner":MAILTO:cklok@fortyninercc.com
END:VEVENT
BEGIN:VEVENT
DTSTART;TZID=America/Phoenix:20260327T180000
DTEND;TZID=America/Phoenix:20260327T210000
DTSTAMP:20260425T060129
CREATED:20260228T000110Z
LAST-MODIFIED:20260228T000113Z
UID:5185-1774634400-1774645200@fortyninercc.com
SUMMARY:LIVE MUSIC – Ben Tully – The Bar @ Forty Niner
DESCRIPTION:Live Music Night with Ben Tully! \nThis Friday\, enjoy Ben Tully performing acoustic originals and crowd-favorite covers at Forty Niner. \nGrab a drink\, unwind on the patio\, and soak in the live music under the Arizona sky!
URL:https://fortyninercc.com/event/live-music-ben-tully-the-bar-forty-niner-2/
LOCATION:Forty Niner\, 12000 E. Tanque Verde\, Tucson\, AZ\, 85749\, United States
CATEGORIES:Free Live Music
ATTACH;FMTTYPE=image/jpeg:https://fortyninercc.com/wp-content/uploads/2026/02/03.27.26_BenTully-1.jpg
ORGANIZER;CN="Forty Niner":MAILTO:cklok@fortyninercc.com
END:VEVENT
BEGIN:VEVENT
DTSTART;TZID=America/Phoenix:20260403T180000
DTEND;TZID=America/Phoenix:20260403T210000
DTSTAMP:20260425T060129
CREATED:20260324T025226Z
LAST-MODIFIED:20260324T025229Z
UID:5296-1775239200-1775250000@fortyninercc.com
SUMMARY:LIVE MUSIC – The Buddy System – The Bar @ Forty Niner
DESCRIPTION:Live Music with The Buddy System at Forty Niner \nFriday\, April 3rd | 6:00 PM – 9:00 PMGet ready to rock with The Buddy System! Join us for an evening of classic rock hits under the stars. Bring a blanket or lawn chair and enjoy great music and good vibes outdoors. \nFree performance for all to enjoy.
URL:https://fortyninercc.com/event/live-music-the-buddy-system-the-bar-forty-niner-2/
LOCATION:Forty Niner\, 12000 E. Tanque Verde\, Tucson\, AZ\, 85749\, United States
CATEGORIES:Free Community Events,Free Live Music
ATTACH;FMTTYPE=image/jpeg:https://fortyninercc.com/wp-content/uploads/2026/03/04.03.26_TheBuddySystem-1.jpg
ORGANIZER;CN="Forty Niner":MAILTO:cklok@fortyninercc.com
END:VEVENT
BEGIN:VEVENT
DTSTART;TZID=America/Phoenix:20260410T183000
DTEND;TZID=America/Phoenix:20260410T213000
DTSTAMP:20260425T060129
CREATED:20260325T193920Z
LAST-MODIFIED:20260325T193922Z
UID:5331-1775845800-1775856600@fortyninercc.com
SUMMARY:Karaoke Night
DESCRIPTION:It’s time to warm up those vocal cords and step into the spotlight! Whether you’re a shower-singer extraordinaire or a seasoned stage pro\, Karaoke Night at Forty Niner Bar is your chance to shine.\n\n\n\n\n\n\n\n\nGather your friends\, grab a drink\, and pick your favorite anthem. From classic rock power ballads to the latest pop hits\, the mic is open and the stage is yours. Best of all? It’s completely free to sing.
URL:https://fortyninercc.com/event/karaoke-night-2/
LOCATION:Forty Niner\, 12000 E. Tanque Verde\, Tucson\, AZ\, 85749\, United States
CATEGORIES:Free Community Events,Free Live Music
ATTACH;FMTTYPE=image/png:https://fortyninercc.com/wp-content/uploads/2026/03/4.10-Karaoke-Night-1920x1080-1.png
ORGANIZER;CN="Forty Niner":MAILTO:cklok@fortyninercc.com
END:VEVENT
BEGIN:VEVENT
DTSTART;TZID=America/Phoenix:20260417T180000
DTEND;TZID=America/Phoenix:20260417T210000
DTSTAMP:20260425T060129
CREATED:20260324T030633Z
LAST-MODIFIED:20260324T030636Z
UID:5308-1776448800-1776459600@fortyninercc.com
SUMMARY:LIVE MUSIC – Smokin’ Smalls & Hot Toddy – The Bar @ Forty Niner
DESCRIPTION:Live Music with Smokin Smalls & Hot Toddy at Forty Niner \n Friday\, April 17th\, 2025\n6:00 PM – 9:00 PM \nIf you’ve seen them before\, you know you’re in for a treat! If this is your first time\, get ready to enjoy some incredible tunes. Come on down and show some love!
URL:https://fortyninercc.com/event/live-music-smokin-smalls-hot-toddy-the-bar-forty-niner/
LOCATION:Forty Niner\, 12000 E. Tanque Verde\, Tucson\, AZ\, 85749\, United States
CATEGORIES:Free Community Events,Free Live Music
ATTACH;FMTTYPE=image/jpeg:https://fortyninercc.com/wp-content/uploads/2026/03/041726_SmokinSmallsHotToddy.jpg
ORGANIZER;CN="Forty Niner":MAILTO:cklok@fortyninercc.com
END:VEVENT
BEGIN:VEVENT
DTSTART;TZID=America/Phoenix:20260424T183000
DTEND;TZID=America/Phoenix:20260424T213000
DTSTAMP:20260425T060129
CREATED:20260324T031748Z
LAST-MODIFIED:20260324T031751Z
UID:5314-1777055400-1777066200@fortyninercc.com
SUMMARY:LIVE MUSIC – Vadana Hegde – The Bar @ Forty Niner
DESCRIPTION:Live Music with Vadana Hegde! \nWe’re thrilled to welcome Vadana Hegde to our stage for the very first time! Bringing a fresh Pop/Indie/Rock sound to the lineup\, she’s a must-see talent we can’t wait for you to hear. \nCome early\, grab a drink\, and experience an unforgettable evening of music and good vibes!
URL:https://fortyninercc.com/event/live-music-vadana-hegde-the-bar-forty-niner/
LOCATION:Forty Niner\, 12000 E. Tanque Verde\, Tucson\, AZ\, 85749\, United States
CATEGORIES:Free Live Music
ATTACH;FMTTYPE=image/jpeg:https://fortyninercc.com/wp-content/uploads/2026/03/042426_VadabaHegde.jpg
ORGANIZER;CN="Forty Niner":MAILTO:cklok@fortyninercc.com
END:VEVENT
BEGIN:VEVENT
DTSTART;TZID=America/Phoenix:20260425T183000
DTEND;TZID=America/Phoenix:20260425T213000
DTSTAMP:20260425T060129
CREATED:20260325T193731Z
LAST-MODIFIED:20260325T193733Z
UID:5328-1777141800-1777152600@fortyninercc.com
SUMMARY:LIVE MUSIC - Cassio - The Bar @ Forty Niner
DESCRIPTION:Experience an evening of high-energy performance as Cassio takes the stage at Forty Niner. This live session brings together an eclectic blend of Rock and Country\, promising a soulful yet rugged soundscape perfect for a Saturday night in the desert. \n\n\n\n\n\n\nWhether you’re there for the storytelling of country or the raw edge of rock\, Cassio’s unique artistry provides the perfect backdrop for great food\, drinks\, and company.
URL:https://fortyninercc.com/event/live-music-cassio-the-bar-forty-niner/
LOCATION:Forty Niner\, 12000 E. Tanque Verde\, Tucson\, AZ\, 85749\, United States
CATEGORIES:Free Live Music
ATTACH;FMTTYPE=image/jpeg:https://fortyninercc.com/wp-content/uploads/2026/03/042526_Cassio.jpg
ORGANIZER;CN="Forty Niner":MAILTO:cklok@fortyninercc.com
END:VEVENT
BEGIN:VEVENT
DTSTART;TZID=America/Phoenix:20260501T183000
DTEND;TZID=America/Phoenix:20260501T213000
DTSTAMP:20260425T060129
CREATED:20260423T225652Z
LAST-MODIFIED:20260423T225655Z
UID:5503-1777660200-1777671000@fortyninercc.com
SUMMARY:LIVE MUSIC - Ben Tully - The Bar @ Forty Niner
DESCRIPTION:If you’ve seen him before\, you know you’re in for a treat! If this is your first time\, get ready to enjoy some incredible tunes. Ben Tully is back on our stage\, and it’s the perfect way to kick off your weekend. \nCome on down\, grab a seat\, and show some love for one of our favorites!
URL:https://fortyninercc.com/event/livemusicbentully/
LOCATION:Forty Niner\, 12000 E. Tanque Verde\, Tucson\, AZ\, 85749\, United States
CATEGORIES:Free Community Events,Free Live Music
ATTACH;FMTTYPE=image/jpeg:https://fortyninercc.com/wp-content/uploads/2026/04/05.01.26_BenTully.jpg
ORGANIZER;CN="Forty Niner":MAILTO:cklok@fortyninercc.com
END:VEVENT
BEGIN:VEVENT
DTSTART;TZID=America/Phoenix:20260502T183000
DTEND;TZID=America/Phoenix:20260502T203000
DTSTAMP:20260425T060129
CREATED:20260424T152304Z
LAST-MODIFIED:20260424T153219Z
UID:5565-1777746600-1777753800@fortyninercc.com
SUMMARY:LIVE MUSIC - Moonlit - The Bar @ Forty Niner
DESCRIPTION:Experience the perfect desert evening with the sounds of Moonlit Desert. If you’ve heard them before\, you know their music captures the spirit of our surroundings perfectly. If it’s your first time\, get ready for a night of incredible atmosphere and great tunes. \nCome on down\, grab a drink\, and enjoy a beautiful night of live music under the stars!
URL:https://fortyninercc.com/event/live-music-moonlit-the-bar-forty-niner/
LOCATION:Forty Niner\, 12000 E. Tanque Verde\, Tucson\, AZ\, 85749\, United States
CATEGORIES:Free Live Music
ATTACH;FMTTYPE=image/jpeg:https://fortyninercc.com/wp-content/uploads/2026/04/05.02.26_Moonlit.jpg
ORGANIZER;CN="Forty Niner":MAILTO:cklok@fortyninercc.com
END:VEVENT
BEGIN:VEVENT
DTSTART;TZID=America/Phoenix:20260508T183000
DTEND;TZID=America/Phoenix:20260508T213000
DTSTAMP:20260425T060129
CREATED:20260424T014601Z
LAST-MODIFIED:20260424T014604Z
UID:5519-1778265000-1778275800@fortyninercc.com
SUMMARY:LIVE MUSIC - Paul Opocensky Project - The Bar @ Forty Niner
DESCRIPTION:Get ready for an evening of Acoustic Grunge Americana! If you’ve experienced a performance by the Paul Opocensky Project before\, you know his raw\, soulful sound is something special. If it’s your first time\, prepare for a night of incredible storytelling through music. \nCome on out\, grab a drink\, and enjoy some of the best live music!
URL:https://fortyninercc.com/event/live-music-paul-opocensky-project-the-bar-forty-niner-8/
LOCATION:Forty Niner\, 12000 E. Tanque Verde\, Tucson\, AZ\, 85749\, United States
CATEGORIES:Free Live Music
ATTACH;FMTTYPE=image/jpeg:https://fortyninercc.com/wp-content/uploads/2026/04/05.08.26_PaulOpocensky.jpg
ORGANIZER;CN="Forty Niner":MAILTO:cklok@fortyninercc.com
END:VEVENT
BEGIN:VEVENT
DTSTART;TZID=America/Phoenix:20260509T183000
DTEND;TZID=America/Phoenix:20260509T200000
DTSTAMP:20260425T060129
CREATED:20260424T015047Z
LAST-MODIFIED:20260424T015050Z
UID:5522-1778351400-1778356800@fortyninercc.com
SUMMARY:LIVE MUSIC - Stella - The Bar @ Forty Niner
DESCRIPTION:She’s a neighborhood favorite for a reason! Join us for an evening of Acoustic Pop with Stella. Whether you live out here or you’re just passing through\, her incredible voice and local charm always make for a memorable night. \nCome on down\, grab your favorite spot\, and show some love for one of our own!
URL:https://fortyninercc.com/event/live-music-stella-the-bar-forty-niner/
LOCATION:Forty Niner\, 12000 E. Tanque Verde\, Tucson\, AZ\, 85749\, United States
CATEGORIES:Free Live Music
ATTACH;FMTTYPE=image/jpeg:https://fortyninercc.com/wp-content/uploads/2026/04/05.09.26_Stella.jpg
ORGANIZER;CN="Forty Niner":MAILTO:cklok@fortyninercc.com
END:VEVENT
BEGIN:VEVENT
DTSTART;TZID=America/Phoenix:20260523T183000
DTEND;TZID=America/Phoenix:20260523T203000
DTSTAMP:20260425T060129
CREATED:20260424T024145Z
LAST-MODIFIED:20260424T024148Z
UID:5548-1779561000-1779568200@fortyninercc.com
SUMMARY:LIVE MUSIC - Asphalt Astronaut
DESCRIPTION:Prepare to be transported by the ethereal sounds of Asphalt Astronaut. Join us for an evening of Ambient Pop that blends atmospheric textures with captivating melodies. If you’re looking for the perfect soundtrack to a desert evening\, this is it. \nCome find a spot\, settle in\, and experience one of the most unique sounds in the local music scene!
URL:https://fortyninercc.com/event/live-music-asphalt-astronaut/
LOCATION:Forty Niner\, 12000 E. Tanque Verde\, Tucson\, AZ\, 85749\, United States
CATEGORIES:Free Live Music
ATTACH;FMTTYPE=image/jpeg:https://fortyninercc.com/wp-content/uploads/2026/04/05.23.26_AsphaltAstronaut.jpg
ORGANIZER;CN="Forty Niner":MAILTO:cklok@fortyninercc.com
END:VEVENT
BEGIN:VEVENT
DTSTART;TZID=America/Phoenix:20260529T183000
DTEND;TZID=America/Phoenix:20260529T213000
DTSTAMP:20260425T060129
CREATED:20260424T031828Z
LAST-MODIFIED:20260424T031831Z
UID:5556-1780079400-1780090200@fortyninercc.com
SUMMARY:LIVE MUSIC - R.E.D. Band - The Bar @ Forty Niner
DESCRIPTION:Get ready for a high-energy night with Red Band! Join us for an evening of incredible live music as we come together to support DM50\, a non-profit dedicated to supporting the airmen and families of Davis-Monthan Air Force Base. \nIt’s going to be a fantastic night of great tunes for a great cause. Come on down\, grab a drink\, and show some love for our military community!
URL:https://fortyninercc.com/event/live-music-r-e-d-band-the-bar-forty-niner/
LOCATION:Forty Niner\, 12000 E. Tanque Verde\, Tucson\, AZ\, 85749\, United States
CATEGORIES:Free Live Music
ATTACH;FMTTYPE=image/jpeg:https://fortyninercc.com/wp-content/uploads/2026/04/05.29.26_RedBand.jpg
ORGANIZER;CN="Forty Niner":MAILTO:cklok@fortyninercc.com
END:VEVENT
END:VCALENDAR