BEGIN:VCALENDAR
VERSION:2.0
PRODID:-//Forty Niner - ECPv6.15.20//NONSGML v1.0//EN
CALSCALE:GREGORIAN
METHOD:PUBLISH
X-ORIGINAL-URL:https://fortyninercc.com
X-WR-CALDESC:Events for Forty Niner
REFRESH-INTERVAL;VALUE=DURATION:PT1H
X-Robots-Tag:noindex
X-PUBLISHED-TTL:PT1H
BEGIN:VTIMEZONE
TZID:UTC
BEGIN:STANDARD
TZOFFSETFROM:+0000
TZOFFSETTO:+0000
TZNAME:UTC
DTSTART:20240101T000000
END:STANDARD
END:VTIMEZONE
BEGIN:VEVENT
DTSTART;TZID=UTC:20250401T073000
DTEND;TZID=UTC:20250401T140000
DTSTAMP:20260424T084046
CREATED:20250306T022931Z
LAST-MODIFIED:20250306T022932Z
UID:1628-1743492600-1743516000@fortyninercc.com
SUMMARY:Showers & Flowers: WGA Member Guest
DESCRIPTION:Celebrate Spring with the Forty Niner WGA’s Showers & Flowers Event! \nJoin the Forty Niner Women’s Golf Association (WGA) for a delightful day of golf\, camaraderie\, and springtime cheer! Our “Showers & Flowers” event\, a Member-Guest Four Person Scramble\, is the perfect way to kick off the season. \nDate: Tuesday\, April 1st\, 2025\nTime:  7:30 AM: Registration & Continental Breakfast | 8:30 AM: Tee Time\nFormat: Four Person Scramble (WGA Member + Guests)\nCost: $75 per person \nHighlights: \n\nFun & Friendly Competition: Enjoy a relaxed scramble format with your friends and fellow golfers.\nDelicious Food: Start your day with a complimentary continental breakfast during registration and refuel after your round with a delicious lunch during scoring.\nExciting Prizes: Compete for golf and raffle winner prizes!\nRaffle & 50/50: Try your luck with raffle tickets and the 50/50 raffle. Mulligans will also be available for purchase.\nBeautiful Setting: Enjoy the scenic views and well-maintained course at Forty Niner.\n\nDon’t miss out on this fantastic WGA event! Sign up yourself and your guest(s) in the book at the Pro Shop today! \nQuestions? Email Kay Brown at solana84@cox.net. \nCome join us for a day of golf\, laughter\, and springtime fun!
URL:https://fortyninercc.com/event/showers-flowers-wga-member-guest/
LOCATION:Forty Niner\, 12000 E. Tanque Verde\, Tucson\, AZ\, 85749\, United States
CATEGORIES:Golf Events
ATTACH;FMTTYPE=image/jpeg:https://fortyninercc.com/wp-content/uploads/2025/03/WGA-Member-Guest-100.jpg
ORGANIZER;CN="Forty Niner":MAILTO:cklok@fortyninercc.com
END:VEVENT
BEGIN:VEVENT
DTSTART;TZID=UTC:20250409T170000
DTEND;TZID=UTC:20250409T180000
DTSTAMP:20260424T084046
CREATED:20250306T030819Z
LAST-MODIFIED:20250306T030820Z
UID:1631-1744218000-1744221600@fortyninercc.com
SUMMARY:Forty Niner WGA Spring Social
DESCRIPTION:Celebrate Spring with the Forty Niner WGA Spring Social! \nJoin the Forty Niner Women’s Golf Association (WGA) for a delightful evening of camaraderie and springtime cheer at our Spring Social! This is the perfect opportunity to connect with fellow members\, unwind\, and enjoy the lovely atmosphere of the Rincon Room. \nDate: Wednesday\, April 9th\, 2025 Time: 5:00 PM – 6:00 PM \nLocation: The Rincon Room at Forty Niner \nCost: Only $5 per person! \nHighlights: \n\nSocialize and Connect: Enjoy a relaxed and fun happy hour with fellow WGA members. Bring a plus one and expand your network!\nDelicious Appetizers: Indulge in a selection of tasty appetizers included with your ticket.\nDrink Service Available: Quench your thirst with a variety of beverages available for purchase.\nBeautiful Setting: The Rincon Room provides the perfect backdrop for an enjoyable evening.\n\nDon’t miss out on this fantastic opportunity to celebrate spring and connect with your fellow WGA members! \nPlease RSVP ASAP to: \n\nCall/Text:\n\nKatie Warpinski: (281) 382-2687\nLaura Laporte: (739) 717-1041\n\n\nEmail:\n\nKatie Warpinski: ktwarpi@gmail.com\nLaura Laporte: lauralaporte@yahoo.com\n\n\n\nWe can’t wait to see you there!
URL:https://fortyninercc.com/event/forty-niner-wga-spring-social/
LOCATION:AZ
CATEGORIES:Golf Events
ATTACH;FMTTYPE=image/jpeg:https://fortyninercc.com/wp-content/uploads/2025/03/0409_WGASpringSocialai-scaled.jpg
END:VEVENT
END:VCALENDAR