BEGIN:VCALENDAR
VERSION:2.0
PRODID:-//Forty Niner - ECPv6.15.20//NONSGML v1.0//EN
CALSCALE:GREGORIAN
METHOD:PUBLISH
X-WR-CALNAME:Forty Niner
X-ORIGINAL-URL:https://fortyninercc.com
X-WR-CALDESC:Events for Forty Niner
REFRESH-INTERVAL;VALUE=DURATION:PT1H
X-Robots-Tag:noindex
X-PUBLISHED-TTL:PT1H
BEGIN:VTIMEZONE
TZID:America/Phoenix
BEGIN:STANDARD
TZOFFSETFROM:-0700
TZOFFSETTO:-0700
TZNAME:MST
DTSTART:20250101T000000
END:STANDARD
END:VTIMEZONE
BEGIN:VEVENT
DTSTART;TZID=America/Phoenix:20260505T150000
DTEND;TZID=America/Phoenix:20260505T180000
DTSTAMP:20260423T201152
CREATED:20260424T013218Z
LAST-MODIFIED:20260424T013221Z
UID:5511-1777993200-1778004000@fortyninercc.com
SUMMARY:Cinco De Mayo 9-Hole Tournament
DESCRIPTION:Tacos\, Tequila\, and Tee Times! \nKeep the celebration going at Forty Niner! On Tuesday\, May 5th\, we’re heading out to the course for a fast-paced\, high-energy 9-hole tournament. Grab a partner and get ready for a afternoon of competitive fun and festive vibes. \nWhether you’re playing for the lowest score or just for the Margaritas\, there are plenty of ways to walk away a winner. We’re handing out prizes for skill\, luck\, and even your wardrobe choices! \nPrizes for:\nClosest to the Pin: Show off that precision.\nOverall Score: For the duo that brings their A-game.\nBest Themed Costume: Dust off those ponchos and sombreros—creativity is highly encouraged! \nMessage to sign up or visit us in the Pro-Shop!
URL:https://fortyninercc.com/event/cinco-de-mayo-9-hole-tournament/
LOCATION:Forty Niner\, 12000 E. Tanque Verde\, Tucson\, AZ\, 85749\, United States
CATEGORIES:Golf Events
ATTACH;FMTTYPE=image/jpeg:https://fortyninercc.com/wp-content/uploads/2026/04/Tu-Historia-Cinco-de-Mayo-Llamativo-Verde.jpg
ORGANIZER;CN="Forty Niner":MAILTO:cklok@fortyninercc.com
END:VEVENT
END:VCALENDAR