BEGIN:VCALENDAR
VERSION:2.0
PRODID:-//Forty Niner - ECPv6.15.20//NONSGML v1.0//EN
CALSCALE:GREGORIAN
METHOD:PUBLISH
X-ORIGINAL-URL:https://fortyninercc.com
X-WR-CALDESC:Events for Forty Niner
REFRESH-INTERVAL;VALUE=DURATION:PT1H
X-Robots-Tag:noindex
X-PUBLISHED-TTL:PT1H
BEGIN:VTIMEZONE
TZID:America/Phoenix
BEGIN:STANDARD
TZOFFSETFROM:-0700
TZOFFSETTO:-0700
TZNAME:MST
DTSTART:20250101T000000
END:STANDARD
END:VTIMEZONE
BEGIN:VTIMEZONE
TZID:UTC
BEGIN:STANDARD
TZOFFSETFROM:+0000
TZOFFSETTO:+0000
TZNAME:UTC
DTSTART:20240101T000000
END:STANDARD
END:VTIMEZONE
BEGIN:VEVENT
DTSTART;TZID=America/Phoenix:20260317T150000
DTEND;TZID=America/Phoenix:20260317T183000
DTSTAMP:20260423T135808
CREATED:20260307T205042Z
LAST-MODIFIED:20260307T205057Z
UID:5243-1773759600-1773772200@fortyninercc.com
SUMMARY:2nd Annual Forty Niner Shamrock Scramble | 9-Hole Tournament
DESCRIPTION:Celebrate St. Patrick’s Day on the course at the Forty Niner Shamrock Scramble\, a fun and festive 9-hole golf tournament perfect for players of all skill levels. Grab a partner and join us for a 2-person scramble filled with friendly competition\, prizes\, and plenty of Irish spirit. \nThe tournament tees off Tuesday\, March 17 at 3:00 PM\, giving golfers a great afternoon to enjoy the course while competing for exciting prizes. Awards will be given for Closest to the Pin\, Best Overall Score\, and Best Themed Costume\, so don’t forget to bring your best St. Patrick’s Day gear! \nTeam entry is $70 per 2-person team\, making it an enjoyable way to celebrate the holiday with friends on the course. \nWhether you’re playing to win or just looking for a fun way to spend St. Patrick’s Day\, the Shamrock Scramble is the perfect mix of golf\, laughs\, and festive tradition. \nEvent Details \n\n\n9-Hole 2-Person Scramble \n\n\nTuesday\, March 17 \n\n\nTee Time: 3:00 PM \n\n\nEntry Fee: $70 per team \n\n\nPut on your green\, grab a partner\, and join us for a lucky day on the links! \nhttps://fortyninercc.com/product/2nd-annual-forty-niner-shamrock-scramble-9-hole-tournament/
URL:https://fortyninercc.com/event/shamrock-scramble-9-hole-tournament/
LOCATION:Forty Niner\, 12000 E. Tanque Verde\, Tucson\, AZ\, 85749\, United States
CATEGORIES:Golf Events
ATTACH;FMTTYPE=image/jpeg:https://fortyninercc.com/wp-content/uploads/2026/03/031726_StPatricksShamrockScramble-scaled.jpg
ORGANIZER;CN="Forty Niner":MAILTO:cklok@fortyninercc.com
END:VEVENT
BEGIN:VEVENT
DTSTART;TZID=America/Phoenix:20260317T100000
DTEND;TZID=America/Phoenix:20260317T150000
DTSTAMP:20260423T135808
CREATED:20260306T184015Z
LAST-MODIFIED:20260307T210631Z
UID:5239-1773741600-1773759600@fortyninercc.com
SUMMARY:PING Fitting Day
DESCRIPTION:Elevate your game with the latest technology at the PING Fitting Day! This exclusive event offers golfers the chance to experience “The New Standard in Straight” with the all-new PING G440 series. Whether you are looking to gain distance or improve accuracy\, professional fitting ensures your equipment is perfectly optimized for your swing. \nEvent Details\n\n\nDate: Tuesday\, March 17  \n\n\nTime: 10:00 AM to 3:00 PM  \n\n\nLocation: Forty Niner Driving Range \n\n\nSchedule Your Session\nFittings are by appointment only to ensure personalized attention. To reserve your spot and get optimized\, please contact: \n\n\nEmail: caseyp@fortyninercc.com \n\n\nDon’t miss the opportunity to test out the latest gear at the club! \nWould you like me to add these details to your calendar for you?
URL:https://fortyninercc.com/event/ping-fitting-day/
LOCATION:Forty Niner\, 12000 E. Tanque Verde\, Tucson\, AZ\, 85749\, United States
CATEGORIES:Golf Events
ATTACH;FMTTYPE=image/jpeg:https://fortyninercc.com/wp-content/uploads/2026/03/Ping-Fitting-Day-March-17.jpg
ORGANIZER;CN="Forty Niner":MAILTO:cklok@fortyninercc.com
END:VEVENT
BEGIN:VEVENT
DTSTART;TZID=America/Phoenix:20260313T143000
DTEND;TZID=America/Phoenix:20260313T163000
DTSTAMP:20260423T135808
CREATED:20260220T171220Z
LAST-MODIFIED:20260220T171220Z
UID:5111-1773412200-1773419400@fortyninercc.com
SUMMARY:Improve Your Game at the Winter Golf Clinic!
DESCRIPTION:Are you looking to shave a few strokes off your handicap or just get more comfortable on the course? Join us at Forty Niner for our four-week Winter Golf Clinic\, hosted by our experts\, Head Golf Professional Chris and Assistant Walt. Whether you’re struggling with your short game or looking for more distance off the tee\, this series is designed to provide targeted instruction in a fun\, group environment. \nClinic Schedule\nWe’ve broken the game down into four essential pillars to help you build a more consistent swing and better scoring habits: \n\n\nWeek 1 (Feb 20): Putting – Mastering the “game within the game.” \n\n\nWeek 2 (Feb 27): Short Game – Chipping\, pitching\, and sand play. \n\n\nWeek 3 (March 6): Irons – Improving ball striking and accuracy. \n\n\nWeek 4 (March 13): Fairway Woods & Driver – Gaining confidence and distance from the tee and turf. \n\n\n\nEvent Details\n\n\nWhen: Every Friday | February 20th – March 13th\, 2026 \n\n\nTime: 2:30 PM – 4:30 PM \n\n\nCost: $25 Per Person per Session \n\n\nWhere: Forty Niner Practice Facilities \n\n\nSpace is limited! Don’t miss this opportunity to learn from the best and kick off your 2026 season on the right foot. \nhttps://fortyninercc.com/product/improve-your-game-at-the-winter-golf-clinic/
URL:https://fortyninercc.com/event/improve-your-game-at-the-winter-golf-clinic-2-2-2-2/
LOCATION:Forty Niner\, 12000 E. Tanque Verde\, Tucson\, AZ\, 85749\, United States
CATEGORIES:Golf Events
ATTACH;FMTTYPE=image/jpeg:https://fortyninercc.com/wp-content/uploads/2026/01/Winter-Golf-Clinic-2026-1.jpg
ORGANIZER;CN="Forty Niner":MAILTO:cklok@fortyninercc.com
END:VEVENT
BEGIN:VEVENT
DTSTART;TZID=America/Phoenix:20260306T143000
DTEND;TZID=America/Phoenix:20260306T163000
DTSTAMP:20260423T135808
CREATED:20260127T195245Z
LAST-MODIFIED:20260220T171156Z
UID:4962-1772807400-1772814600@fortyninercc.com
SUMMARY:Improve Your Game at the Winter Golf Clinic!
DESCRIPTION:Are you looking to shave a few strokes off your handicap or just get more comfortable on the course? Join us at Forty Niner for our four-week Winter Golf Clinic\, hosted by our experts\, Head Golf Professional Chris and Assistant Walt. Whether you’re struggling with your short game or looking for more distance off the tee\, this series is designed to provide targeted instruction in a fun\, group environment. \nClinic Schedule\nWe’ve broken the game down into four essential pillars to help you build a more consistent swing and better scoring habits: \n\n\nWeek 1 (Feb 20): Putting – Mastering the “game within the game.” \n\n\nWeek 2 (Feb 27): Short Game – Chipping\, pitching\, and sand play. \n\n\nWeek 3 (March 6): Irons – Improving ball striking and accuracy. \n\n\nWeek 4 (March 13): Fairway Woods & Driver – Gaining confidence and distance from the tee and turf. \n\n\n\nEvent Details\n\n\nWhen: Every Friday | February 20th – March 13th\, 2026 \n\n\nTime: 2:30 PM – 4:30 PM \n\n\nCost: $25 Per Person per Session \n\n\nWhere: Forty Niner Practice Facilities \n\n\nSpace is limited! Don’t miss this opportunity to learn from the best and kick off your 2026 season on the right foot. \nhttps://fortyninercc.com/product/improve-your-game-at-the-winter-golf-clinic/
URL:https://fortyninercc.com/event/improve-your-game-at-the-winter-golf-clinic-2-2-2/
LOCATION:Forty Niner\, 12000 E. Tanque Verde\, Tucson\, AZ\, 85749\, United States
CATEGORIES:Golf Events
ATTACH;FMTTYPE=image/jpeg:https://fortyninercc.com/wp-content/uploads/2026/01/Winter-Golf-Clinic-2026-1.jpg
ORGANIZER;CN="Forty Niner":MAILTO:cklok@fortyninercc.com
END:VEVENT
BEGIN:VEVENT
DTSTART;TZID=America/Phoenix:20260227T143000
DTEND;TZID=America/Phoenix:20260227T163000
DTSTAMP:20260423T135808
CREATED:20260127T195212Z
LAST-MODIFIED:20260220T171114Z
UID:4960-1772202600-1772209800@fortyninercc.com
SUMMARY:Improve Your Game at the Winter Golf Clinic!
DESCRIPTION:Are you looking to shave a few strokes off your handicap or just get more comfortable on the course? Join us at Forty Niner for our four-week Winter Golf Clinic\, hosted by our experts\, Head Golf Professional Chris and Assistant Walt. Whether you’re struggling with your short game or looking for more distance off the tee\, this series is designed to provide targeted instruction in a fun\, group environment. \nClinic Schedule\nWe’ve broken the game down into four essential pillars to help you build a more consistent swing and better scoring habits: \n\n\nWeek 1 (Feb 20): Putting – Mastering the “game within the game.” \n\n\nWeek 2 (Feb 27): Short Game – Chipping\, pitching\, and sand play. \n\n\nWeek 3 (March 6): Irons – Improving ball striking and accuracy. \n\n\nWeek 4 (March 13): Fairway Woods & Driver – Gaining confidence and distance from the tee and turf. \n\n\n\nEvent Details\n\n\nWhen: Every Friday | February 20th – March 13th\, 2026 \n\n\nTime: 2:30 PM – 4:30 PM \n\n\nCost: $25 Per Person per Session \n\n\nWhere: Forty Niner Practice Facilities \n\n\nSpace is limited! Don’t miss this opportunity to learn from the best and kick off your 2026 season on the right foot. \nhttps://fortyninercc.com/product/improve-your-game-at-the-winter-golf-clinic/
URL:https://fortyninercc.com/event/improve-your-game-at-the-winter-golf-clinic-2-2/
LOCATION:Forty Niner\, 12000 E. Tanque Verde\, Tucson\, AZ\, 85749\, United States
CATEGORIES:Golf Events
ATTACH;FMTTYPE=image/jpeg:https://fortyninercc.com/wp-content/uploads/2026/01/Winter-Golf-Clinic-2026-1.jpg
ORGANIZER;CN="Forty Niner":MAILTO:cklok@fortyninercc.com
END:VEVENT
BEGIN:VEVENT
DTSTART;TZID=America/Phoenix:20260220T143000
DTEND;TZID=America/Phoenix:20260220T163000
DTSTAMP:20260423T135808
CREATED:20260127T195140Z
LAST-MODIFIED:20260220T171030Z
UID:4958-1771597800-1771605000@fortyninercc.com
SUMMARY:Improve Your Game at the Winter Golf Clinic!
DESCRIPTION:Are you looking to shave a few strokes off your handicap or just get more comfortable on the course? Join us at Forty Niner for our four-week Winter Golf Clinic\, hosted by our experts\, Head Golf Professional Chris and Assistant Walt. Whether you’re struggling with your short game or looking for more distance off the tee\, this series is designed to provide targeted instruction in a fun\, group environment. \nClinic Schedule\nWe’ve broken the game down into four essential pillars to help you build a more consistent swing and better scoring habits: \n\n\nWeek 1 (Feb 20): Putting – Mastering the “game within the game.” \n\n\nWeek 2 (Feb 27): Short Game – Chipping\, pitching\, and sand play. \n\n\nWeek 3 (March 6): Irons – Improving ball striking and accuracy. \n\n\nWeek 4 (March 13): Fairway Woods & Driver – Gaining confidence and distance from the tee and turf. \n\n\n\nEvent Details\n\n\nWhen: Every Friday | February 20th – March 13th\, 2026 \n\n\nTime: 2:30 PM – 4:30 PM \n\n\nCost: $25 Per Person per Session \n\n\nWhere: Forty Niner Practice Facilities \n\n\nSpace is limited! Don’t miss this opportunity to learn from the best and kick off your 2026 season on the right foot. \nhttps://fortyninercc.com/product/improve-your-game-at-the-winter-golf-clinic/
URL:https://fortyninercc.com/event/improve-your-game-at-the-winter-golf-clinic-2/
LOCATION:Forty Niner\, 12000 E. Tanque Verde\, Tucson\, AZ\, 85749\, United States
CATEGORIES:Golf Events
ATTACH;FMTTYPE=image/jpeg:https://fortyninercc.com/wp-content/uploads/2026/01/Winter-Golf-Clinic-2026-1.jpg
ORGANIZER;CN="Forty Niner":MAILTO:cklok@fortyninercc.com
END:VEVENT
BEGIN:VEVENT
DTSTART;TZID=UTC:20250409T170000
DTEND;TZID=UTC:20250409T180000
DTSTAMP:20260423T135808
CREATED:20250306T030819Z
LAST-MODIFIED:20250306T030820Z
UID:1631-1744218000-1744221600@fortyninercc.com
SUMMARY:Forty Niner WGA Spring Social
DESCRIPTION:Celebrate Spring with the Forty Niner WGA Spring Social! \nJoin the Forty Niner Women’s Golf Association (WGA) for a delightful evening of camaraderie and springtime cheer at our Spring Social! This is the perfect opportunity to connect with fellow members\, unwind\, and enjoy the lovely atmosphere of the Rincon Room. \nDate: Wednesday\, April 9th\, 2025 Time: 5:00 PM – 6:00 PM \nLocation: The Rincon Room at Forty Niner \nCost: Only $5 per person! \nHighlights: \n\nSocialize and Connect: Enjoy a relaxed and fun happy hour with fellow WGA members. Bring a plus one and expand your network!\nDelicious Appetizers: Indulge in a selection of tasty appetizers included with your ticket.\nDrink Service Available: Quench your thirst with a variety of beverages available for purchase.\nBeautiful Setting: The Rincon Room provides the perfect backdrop for an enjoyable evening.\n\nDon’t miss out on this fantastic opportunity to celebrate spring and connect with your fellow WGA members! \nPlease RSVP ASAP to: \n\nCall/Text:\n\nKatie Warpinski: (281) 382-2687\nLaura Laporte: (739) 717-1041\n\n\nEmail:\n\nKatie Warpinski: ktwarpi@gmail.com\nLaura Laporte: lauralaporte@yahoo.com\n\n\n\nWe can’t wait to see you there!
URL:https://fortyninercc.com/event/forty-niner-wga-spring-social/
LOCATION:AZ
CATEGORIES:Golf Events
ATTACH;FMTTYPE=image/jpeg:https://fortyninercc.com/wp-content/uploads/2025/03/0409_WGASpringSocialai-scaled.jpg
END:VEVENT
BEGIN:VEVENT
DTSTART;TZID=UTC:20250401T073000
DTEND;TZID=UTC:20250401T140000
DTSTAMP:20260423T135808
CREATED:20250306T022931Z
LAST-MODIFIED:20250306T022932Z
UID:1628-1743492600-1743516000@fortyninercc.com
SUMMARY:Showers & Flowers: WGA Member Guest
DESCRIPTION:Celebrate Spring with the Forty Niner WGA’s Showers & Flowers Event! \nJoin the Forty Niner Women’s Golf Association (WGA) for a delightful day of golf\, camaraderie\, and springtime cheer! Our “Showers & Flowers” event\, a Member-Guest Four Person Scramble\, is the perfect way to kick off the season. \nDate: Tuesday\, April 1st\, 2025\nTime:  7:30 AM: Registration & Continental Breakfast | 8:30 AM: Tee Time\nFormat: Four Person Scramble (WGA Member + Guests)\nCost: $75 per person \nHighlights: \n\nFun & Friendly Competition: Enjoy a relaxed scramble format with your friends and fellow golfers.\nDelicious Food: Start your day with a complimentary continental breakfast during registration and refuel after your round with a delicious lunch during scoring.\nExciting Prizes: Compete for golf and raffle winner prizes!\nRaffle & 50/50: Try your luck with raffle tickets and the 50/50 raffle. Mulligans will also be available for purchase.\nBeautiful Setting: Enjoy the scenic views and well-maintained course at Forty Niner.\n\nDon’t miss out on this fantastic WGA event! Sign up yourself and your guest(s) in the book at the Pro Shop today! \nQuestions? Email Kay Brown at solana84@cox.net. \nCome join us for a day of golf\, laughter\, and springtime fun!
URL:https://fortyninercc.com/event/showers-flowers-wga-member-guest/
LOCATION:Forty Niner\, 12000 E. Tanque Verde\, Tucson\, AZ\, 85749\, United States
CATEGORIES:Golf Events
ATTACH;FMTTYPE=image/jpeg:https://fortyninercc.com/wp-content/uploads/2025/03/WGA-Member-Guest-100.jpg
ORGANIZER;CN="Forty Niner":MAILTO:cklok@fortyninercc.com
END:VEVENT
BEGIN:VEVENT
DTSTART;TZID=UTC:20250317T143000
DTEND;TZID=UTC:20250317T180000
DTSTAMP:20260423T135808
CREATED:20250220T033137Z
LAST-MODIFIED:20250220T033138Z
UID:1493-1742221800-1742234400@fortyninercc.com
SUMMARY:Forty Niner Shamrock Scramble
DESCRIPTION:et ready to sham-rock and roll at the Forty Niner Shamrock Scramble! \nJoin us for a fun-filled 9-hole tournament on Monday\, March 17th\, 2025\, starting at 2:30 PM. This St. Patrick’s Day themed event is perfect for teams of two\, offering a spirited competition with exciting chances to win. \nTest your skills and luck with challenges including: \n\nClosest to the Pin: Show off your precision!\nOverall Score: Aim for the lowest score and bragging rights.\nBest Themed Costume: Dress to impress in your most festive St. Patrick’s Day attire for a chance to win a prize!\n\nEntry fee is $70 per 2-person team. Don’t miss this opportunity to celebrate St. Patrick’s Day with friendly competition\, great company\, and a dash of Irish cheer! \nSign up today and get ready to scramble! \nhttps://fortyninercc.com/product/forty-niner-shamrock-scramble/
URL:https://fortyninercc.com/event/forty-niner-shamrock-scramble/
LOCATION:Forty Niner\, 12000 E. Tanque Verde\, Tucson\, AZ\, 85749\, United States
CATEGORIES:Golf Events
ATTACH;FMTTYPE=image/jpeg:https://fortyninercc.com/wp-content/uploads/2025/02/0314_StPatricksShamrockScramble-scaled.jpg
ORGANIZER;CN="Forty Niner":MAILTO:cklok@fortyninercc.com
END:VEVENT
END:VCALENDAR