BEGIN:VCALENDAR
VERSION:2.0
PRODID:-//Forty Niner - ECPv6.15.20//NONSGML v1.0//EN
CALSCALE:GREGORIAN
METHOD:PUBLISH
X-ORIGINAL-URL:https://fortyninercc.com
X-WR-CALDESC:Events for Forty Niner
REFRESH-INTERVAL;VALUE=DURATION:PT1H
X-Robots-Tag:noindex
X-PUBLISHED-TTL:PT1H
BEGIN:VTIMEZONE
TZID:America/Phoenix
BEGIN:STANDARD
TZOFFSETFROM:-0700
TZOFFSETTO:-0700
TZNAME:MST
DTSTART:20250101T000000
END:STANDARD
END:VTIMEZONE
BEGIN:VEVENT
DTSTART;TZID=America/Phoenix:20260328T180000
DTEND;TZID=America/Phoenix:20260328T220000
DTSTAMP:20260423T121315
CREATED:20260306T183313Z
LAST-MODIFIED:20260306T183317Z
UID:5236-1774720800-1774735200@fortyninercc.com
SUMMARY:TVHS PTSG Presents: A Totally Radical Casino Night
DESCRIPTION:Get ready to travel back in time for a night of high stakes and retro vibes! The TVHS PTSG is thrilled to present “Totally Radical Casino Night\,” a 1980s-themed fundraiser dedicated to supporting the community. All proceeds from the evening directly benefit the students\, teachers\, and faculty of Tanque Verde High School. \nEvent Details\n\n\nDate: Saturday\, March 21\, 2026  \n\n\nTime: 6:00 PM to 10:00 PM  \n\n\nLocation: Forty Niner Pavilion \n\n\nWhat to Expect\nIt’s going to be an evening packed with entertainment and nostalgia. Guests can enjoy: \n\n\nClassic Casino Games: Test your luck at the tables. \n\n\nRaffles & Silent Auction: Bid on exciting items and win big while giving back. \n\n\nFood & Drinks: Refuel with refreshments throughout the night. \n\n\nMusic & More: Groove to the beats and enjoy a variety of “totally radical” surprises. \n\n\n\nTicket Information\nDon’t wait to secure your spot! Early birds get a discount: \n\n\nEarly Bird Special: The first 80 tickets are available for $45 each. \n\nhttps://checkout.square.site/merchant/GMMM0MNC6ED77/checkout/AJYZ6P5IAZGFX6UQNGBZGXC2
URL:https://fortyninercc.com/event/tvhs-ptsg-presents-a-totally-radical-casino-night/
LOCATION:Forty Niner\, 12000 E. Tanque Verde\, Tucson\, AZ\, 85749\, United States
CATEGORIES:Hosted Event Tickets
ATTACH;FMTTYPE=application/pdf:https://fortyninercc.com/wp-content/uploads/2026/03/PTSG-Casino-Night-Flyer-2026.pdf
END:VEVENT
END:VCALENDAR