BEGIN:VCALENDAR
VERSION:2.0
PRODID:-//Forty Niner - ECPv6.15.20//NONSGML v1.0//EN
CALSCALE:GREGORIAN
METHOD:PUBLISH
X-ORIGINAL-URL:https://fortyninercc.com
X-WR-CALDESC:Events for Forty Niner
REFRESH-INTERVAL;VALUE=DURATION:PT1H
X-Robots-Tag:noindex
X-PUBLISHED-TTL:PT1H
BEGIN:VTIMEZONE
TZID:America/Denver
BEGIN:DAYLIGHT
TZOFFSETFROM:-0700
TZOFFSETTO:-0600
TZNAME:MDT
DTSTART:20240310T090000
END:DAYLIGHT
BEGIN:STANDARD
TZOFFSETFROM:-0600
TZOFFSETTO:-0700
TZNAME:MST
DTSTART:20241103T080000
END:STANDARD
BEGIN:DAYLIGHT
TZOFFSETFROM:-0700
TZOFFSETTO:-0600
TZNAME:MDT
DTSTART:20250309T090000
END:DAYLIGHT
BEGIN:STANDARD
TZOFFSETFROM:-0600
TZOFFSETTO:-0700
TZNAME:MST
DTSTART:20251102T080000
END:STANDARD
BEGIN:DAYLIGHT
TZOFFSETFROM:-0700
TZOFFSETTO:-0600
TZNAME:MDT
DTSTART:20260308T090000
END:DAYLIGHT
BEGIN:STANDARD
TZOFFSETFROM:-0600
TZOFFSETTO:-0700
TZNAME:MST
DTSTART:20261101T080000
END:STANDARD
END:VTIMEZONE
BEGIN:VEVENT
DTSTART;TZID=America/Denver:20250405T080000
DTEND;TZID=America/Denver:20250405T140000
DTSTAMP:20260424T185302
CREATED:20250402T144857Z
LAST-MODIFIED:20250402T144857Z
UID:2141-1743840000-1743861600@fortyninercc.com
SUMMARY:Golf Tournament at Forty Niner: 8th Annual 411 Golf Classic
DESCRIPTION:NOT A FORTY NINER HOME TOURNAMENT:\n\n\n\nPlease be advised that Forty Niner will be hosting a golf tournament\, the 8th Annual 411 GOLF CLASSIC\, on Saturday\, April 5th. \n\n8:00 am: Shotgun Start\n\nThe tournament is a fundraising event benefiting Tucson Cold Wet Noses. \nPlease note that the golf course will be occupied for this event on Saturday\, April 5th. We appreciate your understanding.
URL:https://fortyninercc.com/event/golf-tournament-at-forty-niner-8th-annual-411-golf-classic/
LOCATION:Forty Niner\, 12000 E. Tanque Verde\, Tucson\, AZ\, 85749\, United States
CATEGORIES:Hosted Golf Tournaments
ORGANIZER;CN="411 Golf Classic":MAILTO:411GolfTournament@gmail.com
END:VEVENT
BEGIN:VEVENT
DTSTART;TZID=America/Denver:20250406T073000
DTEND;TZID=America/Denver:20250406T140000
DTSTAMP:20260424T185302
CREATED:20250402T145419Z
LAST-MODIFIED:20250402T145419Z
UID:2144-1743924600-1743948000@fortyninercc.com
SUMMARY:Golf Tournament at Forty Niner: Sahuaro Fastpitch Golf Tournament
DESCRIPTION:NOT A FORTY NINER HOME TOURNAMENT:\n\n\n\nPlease be advised that Forty Niner will be hosting a golf tournament\, the Sahuaro Fastpitch Golf Tournament\, on Sunday\, April 6th. \n\n7:30 am: Shotgun Start\n\nThe tournament is a fundraising event to raising funds for essential field upgrades and updates for Sahuaro Fastpitch \nPlease note that the golf course will be occupied for this event on Sunday\, April 6th. We appreciate your understanding.
URL:https://fortyninercc.com/event/golf-tournament-at-forty-niner-sahuaro-fastpitch-golf-tournament/
LOCATION:Forty Niner\, 12000 E. Tanque Verde\, Tucson\, AZ\, 85749\, United States
CATEGORIES:Hosted Golf Tournaments
END:VEVENT
BEGIN:VEVENT
DTSTART;TZID=America/Denver:20250412T070000
DTEND;TZID=America/Denver:20250412T140000
DTSTAMP:20260424T185302
CREATED:20250402T153944Z
LAST-MODIFIED:20250402T155316Z
UID:2156-1744441200-1744466400@fortyninercc.com
SUMMARY:Golf Tournament at Forty Niner: 2nd Annual Trail Life Golf Tournament
DESCRIPTION:NOT A FORTY NINER HOME TOURNAMENT:\n\n\n\nPlease be advised that Forty Niner will be hosting a golf tournament\, the 2nd Annual Trail Life Golf Tournament\, on Saturday\, April 12th. \n\n7:00 am: Shotgun Start\n\nThe tournament is a fundraising event benefiting Trail Life Troop #0747. \nPlease note that the golf course will be occupied for this event on Saturday\, April 12th. We appreciate your understanding.
URL:https://fortyninercc.com/event/golf-tournament-at-forty-niner-2nd-annual-trail-life-golf-tournament/
LOCATION:Forty Niner\, 12000 E. Tanque Verde\, Tucson\, AZ\, 85749\, United States
CATEGORIES:Hosted Golf Tournaments
END:VEVENT
BEGIN:VEVENT
DTSTART;TZID=America/Denver:20250425T073000
DTEND;TZID=America/Denver:20250425T140000
DTSTAMP:20260424T185302
CREATED:20250402T180235Z
LAST-MODIFIED:20250402T180235Z
UID:2181-1745566200-1745589600@fortyninercc.com
SUMMARY:Golf Tournament at Forty Niner: Graybar Golf Tournament
DESCRIPTION:NOT A FORTY NINER HOME TOURNAMENT:\n\n\n\nPlease be advised that Forty Niner will be hosting a golf tournament\, the Graybar Golf Tournament\, on Friday\, April 25th. \n\n7:30 am: Shotgun Start\n\nPlease note that the golf course will be occupied for this event on Friday\, April 25th. We appreciate your understanding.
URL:https://fortyninercc.com/event/golf-tournament-at-forty-niner-graybar-golf-tournament/
LOCATION:Forty Niner\, 12000 E. Tanque Verde\, Tucson\, AZ\, 85749\, United States
CATEGORIES:Hosted Golf Tournaments
END:VEVENT
BEGIN:VEVENT
DTSTART;TZID=America/Denver:20250426T073000
DTEND;TZID=America/Denver:20250426T140000
DTSTAMP:20260424T185302
CREATED:20250402T182316Z
LAST-MODIFIED:20250402T182316Z
UID:2187-1745652600-1745676000@fortyninercc.com
SUMMARY:Golf Tournament at Forty Niner: Sahuaro High Cougar Foundation Golf Tournament
DESCRIPTION:NOT A FORTY NINER HOME TOURNAMENT:\n\n\n\nPlease be advised that Forty Niner will be hosting a golf tournament\, the Sahuaro High Cougar Foundation Golf Tournament\, on Saturday\, April 26th. \n\n7:30 am: Shotgun Start\n\nThe tournament is a fundraising event benefiting Sahuaro High School Cougar Foundation. \nPlease note that the golf course will be occupied for this event on Saturday\, April 26th. We appreciate your understanding.
URL:https://fortyninercc.com/event/golf-tournament-at-forty-niner-sahuaro-high-cougar-foundation-golf-tournament/
LOCATION:Forty Niner\, 12000 E. Tanque Verde\, Tucson\, AZ\, 85749\, United States
CATEGORIES:Hosted Golf Tournaments
END:VEVENT
END:VCALENDAR