BEGIN:VCALENDAR
VERSION:2.0
PRODID:-//Forty Niner - ECPv6.15.20//NONSGML v1.0//EN
CALSCALE:GREGORIAN
METHOD:PUBLISH
X-ORIGINAL-URL:https://fortyninercc.com
X-WR-CALDESC:Events for Forty Niner
REFRESH-INTERVAL;VALUE=DURATION:PT1H
X-Robots-Tag:noindex
X-PUBLISHED-TTL:PT1H
BEGIN:VTIMEZONE
TZID:America/Phoenix
BEGIN:STANDARD
TZOFFSETFROM:-0700
TZOFFSETTO:-0700
TZNAME:MST
DTSTART:20250101T000000
END:STANDARD
END:VTIMEZONE
BEGIN:VEVENT
DTSTART;TZID=America/Phoenix:20260305T180000
DTEND;TZID=America/Phoenix:20260305T210000
DTSTAMP:20260423T102710
CREATED:20260227T232614Z
LAST-MODIFIED:20260227T232617Z
UID:5164-1772733600-1772744400@fortyninercc.com
SUMMARY:Thursday Night Bingo
DESCRIPTION:Join us every Thursday night for some exciting Thursday Night Bingo!\n\nGet your game face on and try your luck with our weekly bingo sessions starting at 7:00 PM.\n\nFor just $10 per packet\, you’ll have a chance to win some fun prizes! Plus\, enjoy our full food and drink service while you play.\n\nIt’s the perfect way to unwind and socialize mid-week!\n\nEmail: Casey Polivchak caseyp@fortyninercc.com for RSVPs
URL:https://fortyninercc.com/event/thursday-night-bingo-18/
LOCATION:Forty Niner\, 12000 E. Tanque Verde\, Tucson\, AZ\, 85749\, United States
CATEGORIES:Thursday Night Bingo
ATTACH;FMTTYPE=image/jpeg:https://fortyninercc.com/wp-content/uploads/2026/02/03.05.26_Bingo.jpg
ORGANIZER;CN="Forty Niner":MAILTO:cklok@fortyninercc.com
END:VEVENT
BEGIN:VEVENT
DTSTART;TZID=America/Phoenix:20260312T180000
DTEND;TZID=America/Phoenix:20260312T210000
DTSTAMP:20260423T102710
CREATED:20260227T232737Z
LAST-MODIFIED:20260227T232739Z
UID:5167-1773338400-1773349200@fortyninercc.com
SUMMARY:Thursday Night Bingo
DESCRIPTION:Get your game face on and try your luck with our weekly bingo sessions starting at 7:00 PM.\n\nFor just $10 per packet\, you’ll have a chance to win some fun prizes! Plus\, enjoy our full food and drink service while you play.\n\nIt’s the perfect way to unwind and socialize mid-week!\n\nEmail: Casey Polivchak caseyp@fortyninercc.com for RSVPs
URL:https://fortyninercc.com/event/thursday-night-bingo-19/
LOCATION:Forty Niner\, 12000 E. Tanque Verde\, Tucson\, AZ\, 85749\, United States
CATEGORIES:Thursday Night Bingo
ATTACH;FMTTYPE=image/jpeg:https://fortyninercc.com/wp-content/uploads/2026/02/03.12.26_Bingo.jpg
ORGANIZER;CN="Forty Niner":MAILTO:cklok@fortyninercc.com
END:VEVENT
BEGIN:VEVENT
DTSTART;TZID=America/Phoenix:20260319T180000
DTEND;TZID=America/Phoenix:20260319T210000
DTSTAMP:20260423T102710
CREATED:20260227T232921Z
LAST-MODIFIED:20260227T232923Z
UID:5170-1773943200-1773954000@fortyninercc.com
SUMMARY:Thursday Night Bingo
DESCRIPTION:Get your game face on and try your luck with our weekly bingo sessions starting at 7:00 PM.\n\nFor just $10 per packet\, you’ll have a chance to win some fun prizes! Plus\, enjoy our full food and drink service while you play.\n\nIt’s the perfect way to unwind and socialize mid-week!\n\nEmail: Casey Polivchak caseyp@fortyninercc.com for RSVPs
URL:https://fortyninercc.com/event/thursday-night-bingo-20/
LOCATION:Forty Niner\, 12000 E. Tanque Verde\, Tucson\, AZ\, 85749\, United States
CATEGORIES:Thursday Night Bingo
ATTACH;FMTTYPE=image/jpeg:https://fortyninercc.com/wp-content/uploads/2026/02/03.19.26_Bingo.jpg
ORGANIZER;CN="Forty Niner":MAILTO:cklok@fortyninercc.com
END:VEVENT
BEGIN:VEVENT
DTSTART;TZID=America/Phoenix:20260326T180000
DTEND;TZID=America/Phoenix:20260326T210000
DTSTAMP:20260423T102710
CREATED:20260227T233251Z
LAST-MODIFIED:20260227T233254Z
UID:5173-1774548000-1774558800@fortyninercc.com
SUMMARY:Thursday Night Bingo
DESCRIPTION:Get your game face on and try your luck with our weekly bingo sessions starting at 7:00 PM.\n\nFor just $10 per packet\, you’ll have a chance to win some fun prizes! Plus\, enjoy our full food and drink service while you play.\n\nIt’s the perfect way to unwind and socialize mid-week!\n\nEmail: Casey Polivchak caseyp@fortyninercc.com for RSVPs
URL:https://fortyninercc.com/event/thursday-night-bingo-21/
LOCATION:Forty Niner\, 12000 E. Tanque Verde\, Tucson\, AZ\, 85749\, United States
CATEGORIES:Thursday Night Bingo
ATTACH;FMTTYPE=image/jpeg:https://fortyninercc.com/wp-content/uploads/2026/02/03.26.26_Bingo.jpg
ORGANIZER;CN="Forty Niner":MAILTO:cklok@fortyninercc.com
END:VEVENT
END:VCALENDAR