BEGIN:VCALENDAR
VERSION:2.0
PRODID:-//Forty Niner - ECPv6.15.20//NONSGML v1.0//EN
CALSCALE:GREGORIAN
METHOD:PUBLISH
X-ORIGINAL-URL:https://fortyninercc.com
X-WR-CALDESC:Events for Forty Niner
REFRESH-INTERVAL;VALUE=DURATION:PT1H
X-Robots-Tag:noindex
X-PUBLISHED-TTL:PT1H
BEGIN:VTIMEZONE
TZID:America/Phoenix
BEGIN:STANDARD
TZOFFSETFROM:-0700
TZOFFSETTO:-0700
TZNAME:MST
DTSTART:20250101T000000
END:STANDARD
END:VTIMEZONE
BEGIN:VEVENT
DTSTART;TZID=America/Phoenix:20260326T180000
DTEND;TZID=America/Phoenix:20260326T210000
DTSTAMP:20260424T072157
CREATED:20260227T233251Z
LAST-MODIFIED:20260227T233254Z
UID:5173-1774548000-1774558800@fortyninercc.com
SUMMARY:Thursday Night Bingo
DESCRIPTION:Get your game face on and try your luck with our weekly bingo sessions starting at 7:00 PM.\n\nFor just $10 per packet\, you’ll have a chance to win some fun prizes! Plus\, enjoy our full food and drink service while you play.\n\nIt’s the perfect way to unwind and socialize mid-week!\n\nEmail: Casey Polivchak caseyp@fortyninercc.com for RSVPs
URL:https://fortyninercc.com/event/thursday-night-bingo-21/
LOCATION:Forty Niner\, 12000 E. Tanque Verde\, Tucson\, AZ\, 85749\, United States
CATEGORIES:Thursday Night Bingo
ATTACH;FMTTYPE=image/jpeg:https://fortyninercc.com/wp-content/uploads/2026/02/03.26.26_Bingo.jpg
ORGANIZER;CN="Forty Niner":MAILTO:cklok@fortyninercc.com
END:VEVENT
BEGIN:VEVENT
DTSTART;TZID=America/Phoenix:20260402T180000
DTEND;TZID=America/Phoenix:20260402T210000
DTSTAMP:20260424T072157
CREATED:20260324T024542Z
LAST-MODIFIED:20260324T024557Z
UID:5285-1775152800-1775163600@fortyninercc.com
SUMMARY:Thursday Night Bingo
DESCRIPTION:Join us every Thursday night for some exciting Thursday Night Bingo!\n\nGet your game face on and try your luck with our weekly bingo sessions starting at 7:00 PM.\n\nFor just $10 per packet\, you’ll have a chance to win some fun prizes! Plus\, enjoy our full food and drink service while you play.\n\nIt’s the perfect way to unwind and socialize mid-week!\n\nEmail: Casey Polivchak caseyp@fortyninercc.com for RSVPs
URL:https://fortyninercc.com/event/thursday-night-bingo-22/
LOCATION:Forty Niner\, 12000 E. Tanque Verde\, Tucson\, AZ\, 85749\, United States
CATEGORIES:Community Events,Thursday Night Bingo
ATTACH;FMTTYPE=image/jpeg:https://fortyninercc.com/wp-content/uploads/2026/03/GenericBingoArtFile.jpg
ORGANIZER;CN="Forty Niner":MAILTO:cklok@fortyninercc.com
END:VEVENT
BEGIN:VEVENT
DTSTART;TZID=America/Phoenix:20260409T190000
DTEND;TZID=America/Phoenix:20260409T210000
DTSTAMP:20260424T072157
CREATED:20260324T024717Z
LAST-MODIFIED:20260324T024719Z
UID:5288-1775761200-1775768400@fortyninercc.com
SUMMARY:Thursday Night Bingo
DESCRIPTION:Join us every Thursday night for some exciting Thursday Night Bingo!\n\nGet your game face on and try your luck with our weekly bingo sessions starting at 7:00 PM.\n\nFor just $10 per packet\, you’ll have a chance to win some fun prizes! Plus\, enjoy our full food and drink service while you play.\n\nIt’s the perfect way to unwind and socialize mid-week!\n\nEmail: Casey Polivchak caseyp@fortyninercc.com for RSVPs
URL:https://fortyninercc.com/event/thursday-night-bingo-23/
LOCATION:Forty Niner\, 12000 E. Tanque Verde\, Tucson\, AZ\, 85749\, United States
CATEGORIES:Thursday Night Bingo
ATTACH;FMTTYPE=image/jpeg:https://fortyninercc.com/wp-content/uploads/2026/03/GenericBingoArtFile.jpg
ORGANIZER;CN="Forty Niner":MAILTO:cklok@fortyninercc.com
END:VEVENT
BEGIN:VEVENT
DTSTART;TZID=America/Phoenix:20260416T190000
DTEND;TZID=America/Phoenix:20260416T210000
DTSTAMP:20260424T072157
CREATED:20260324T024808Z
LAST-MODIFIED:20260324T024809Z
UID:5290-1776366000-1776373200@fortyninercc.com
SUMMARY:Thursday Night Bingo
DESCRIPTION:Join us every Thursday night for some exciting Thursday Night Bingo!\n\nGet your game face on and try your luck with our weekly bingo sessions starting at 7:00 PM.\n\nFor just $10 per packet\, you’ll have a chance to win some fun prizes! Plus\, enjoy our full food and drink service while you play.\n\nIt’s the perfect way to unwind and socialize mid-week!\n\nEmail: Casey Polivchak caseyp@fortyninercc.com for RSVPs
URL:https://fortyninercc.com/event/thursday-night-bingo-24/
LOCATION:Forty Niner\, 12000 E. Tanque Verde\, Tucson\, AZ\, 85749\, United States
CATEGORIES:Thursday Night Bingo
ATTACH;FMTTYPE=image/jpeg:https://fortyninercc.com/wp-content/uploads/2026/03/GenericBingoArtFile.jpg
ORGANIZER;CN="Forty Niner":MAILTO:cklok@fortyninercc.com
END:VEVENT
BEGIN:VEVENT
DTSTART;TZID=America/Phoenix:20260423T190000
DTEND;TZID=America/Phoenix:20260423T210000
DTSTAMP:20260424T072157
CREATED:20260324T024901Z
LAST-MODIFIED:20260324T024904Z
UID:5292-1776970800-1776978000@fortyninercc.com
SUMMARY:Thursday Night Bingo
DESCRIPTION:Join us every Thursday night for some exciting Thursday Night Bingo!\n\nGet your game face on and try your luck with our weekly bingo sessions starting at 7:00 PM.\n\nFor just $10 per packet\, you’ll have a chance to win some fun prizes! Plus\, enjoy our full food and drink service while you play.\n\nIt’s the perfect way to unwind and socialize mid-week!\n\nEmail: Casey Polivchak caseyp@fortyninercc.com for RSVPs
URL:https://fortyninercc.com/event/thursday-night-bingo-25/
LOCATION:Forty Niner\, 12000 E. Tanque Verde\, Tucson\, AZ\, 85749\, United States
CATEGORIES:Thursday Night Bingo
ATTACH;FMTTYPE=image/jpeg:https://fortyninercc.com/wp-content/uploads/2026/03/GenericBingoArtFile.jpg
ORGANIZER;CN="Forty Niner":MAILTO:cklok@fortyninercc.com
END:VEVENT
BEGIN:VEVENT
DTSTART;TZID=America/Phoenix:20260430T190000
DTEND;TZID=America/Phoenix:20260430T210000
DTSTAMP:20260424T072157
CREATED:20260324T024949Z
LAST-MODIFIED:20260324T024950Z
UID:5294-1777575600-1777582800@fortyninercc.com
SUMMARY:Thursday Night Bingo
DESCRIPTION:Join us every Thursday night for some exciting Thursday Night Bingo!\n\nGet your game face on and try your luck with our weekly bingo sessions starting at 7:00 PM.\n\nFor just $10 per packet\, you’ll have a chance to win some fun prizes! Plus\, enjoy our full food and drink service while you play.\n\nIt’s the perfect way to unwind and socialize mid-week!\n\nEmail: Casey Polivchak caseyp@fortyninercc.com for RSVPs
URL:https://fortyninercc.com/event/thursday-night-bingo-26/
LOCATION:Forty Niner\, 12000 E. Tanque Verde\, Tucson\, AZ\, 85749\, United States
CATEGORIES:Thursday Night Bingo
ATTACH;FMTTYPE=image/jpeg:https://fortyninercc.com/wp-content/uploads/2026/03/GenericBingoArtFile.jpg
ORGANIZER;CN="Forty Niner":MAILTO:cklok@fortyninercc.com
END:VEVENT
BEGIN:VEVENT
DTSTART;TZID=America/Phoenix:20260507T190000
DTEND;TZID=America/Phoenix:20260507T210000
DTSTAMP:20260424T072157
CREATED:20260424T013923Z
LAST-MODIFIED:20260424T013925Z
UID:5517-1778180400-1778187600@fortyninercc.com
SUMMARY:Thursday Night Bingo
DESCRIPTION:Join us every Thursday night for some exciting Thursday Night Bingo!\n\nGet your game face on and try your luck with our weekly bingo sessions starting at 7:00 PM.\nFor just $10 per packet\, you’ll have a chance to win some fun prizes! Plus\, enjoy our full food and drink service while you play.It’s the perfect way to unwind and socialize mid-week!\n\nEmail: Casey Polivchak caseyp@fortyninercc.com for RSVPs
URL:https://fortyninercc.com/event/thursday-night-bingo-27/
LOCATION:Forty Niner\, 12000 E. Tanque Verde\, Tucson\, AZ\, 85749\, United States
CATEGORIES:Thursday Night Bingo
ATTACH;FMTTYPE=image/jpeg:https://fortyninercc.com/wp-content/uploads/2026/03/GenericBingoArtFile.jpg
ORGANIZER;CN="Forty Niner":MAILTO:cklok@fortyninercc.com
END:VEVENT
BEGIN:VEVENT
DTSTART;TZID=America/Phoenix:20260514T190000
DTEND;TZID=America/Phoenix:20260514T210000
DTSTAMP:20260424T072157
CREATED:20260424T023547Z
LAST-MODIFIED:20260424T023547Z
UID:5544-1778785200-1778792400@fortyninercc.com
SUMMARY:Thursday Night Bingo
DESCRIPTION:Join us every Thursday night for some exciting Thursday Night Bingo!\n\nGet your game face on and try your luck with our weekly bingo sessions starting at 7:00 PM.\nFor just $10 per packet\, you’ll have a chance to win some fun prizes! Plus\, enjoy our full food and drink service while you play.It’s the perfect way to unwind and socialize mid-week!\n\nEmail: Casey Polivchak caseyp@fortyninercc.com for RSVPs
URL:https://fortyninercc.com/event/thursday-night-bingo-27-2/
LOCATION:Forty Niner\, 12000 E. Tanque Verde\, Tucson\, AZ\, 85749\, United States
CATEGORIES:Thursday Night Bingo
ATTACH;FMTTYPE=image/jpeg:https://fortyninercc.com/wp-content/uploads/2026/03/GenericBingoArtFile.jpg
ORGANIZER;CN="Forty Niner":MAILTO:cklok@fortyninercc.com
END:VEVENT
BEGIN:VEVENT
DTSTART;TZID=America/Phoenix:20260521T190000
DTEND;TZID=America/Phoenix:20260521T210000
DTSTAMP:20260424T072157
CREATED:20260424T023615Z
LAST-MODIFIED:20260424T023615Z
UID:5546-1779390000-1779397200@fortyninercc.com
SUMMARY:Thursday Night Bingo
DESCRIPTION:Join us every Thursday night for some exciting Thursday Night Bingo!\n\nGet your game face on and try your luck with our weekly bingo sessions starting at 7:00 PM.\nFor just $10 per packet\, you’ll have a chance to win some fun prizes! Plus\, enjoy our full food and drink service while you play.It’s the perfect way to unwind and socialize mid-week!\n\nEmail: Casey Polivchak caseyp@fortyninercc.com for RSVPs
URL:https://fortyninercc.com/event/thursday-night-bingo-27-2-2/
LOCATION:Forty Niner\, 12000 E. Tanque Verde\, Tucson\, AZ\, 85749\, United States
CATEGORIES:Thursday Night Bingo
ATTACH;FMTTYPE=image/jpeg:https://fortyninercc.com/wp-content/uploads/2026/03/GenericBingoArtFile.jpg
ORGANIZER;CN="Forty Niner":MAILTO:cklok@fortyninercc.com
END:VEVENT
BEGIN:VEVENT
DTSTART;TZID=America/Phoenix:20260528T190000
DTEND;TZID=America/Phoenix:20260528T210000
DTSTAMP:20260424T072157
CREATED:20260424T025032Z
LAST-MODIFIED:20260424T025032Z
UID:5551-1779994800-1780002000@fortyninercc.com
SUMMARY:Thursday Night Bingo
DESCRIPTION:Join us every Thursday night for some exciting Thursday Night Bingo!\n\nGet your game face on and try your luck with our weekly bingo sessions starting at 7:00 PM.\nFor just $10 per packet\, you’ll have a chance to win some fun prizes! Plus\, enjoy our full food and drink service while you play.It’s the perfect way to unwind and socialize mid-week!\n\nEmail: Casey Polivchak caseyp@fortyninercc.com for RSVPs
URL:https://fortyninercc.com/event/thursday-night-bingo-27-2-2-2/
LOCATION:Forty Niner\, 12000 E. Tanque Verde\, Tucson\, AZ\, 85749\, United States
CATEGORIES:Thursday Night Bingo
ATTACH;FMTTYPE=image/jpeg:https://fortyninercc.com/wp-content/uploads/2026/03/GenericBingoArtFile.jpg
ORGANIZER;CN="Forty Niner":MAILTO:cklok@fortyninercc.com
END:VEVENT
END:VCALENDAR