BEGIN:VCALENDAR
VERSION:2.0
PRODID:-//Forty Niner - ECPv6.15.20//NONSGML v1.0//EN
CALSCALE:GREGORIAN
METHOD:PUBLISH
X-ORIGINAL-URL:https://fortyninercc.com
X-WR-CALDESC:Events for Forty Niner
REFRESH-INTERVAL;VALUE=DURATION:PT1H
X-Robots-Tag:noindex
X-PUBLISHED-TTL:PT1H
BEGIN:VTIMEZONE
TZID:America/Denver
BEGIN:DAYLIGHT
TZOFFSETFROM:-0700
TZOFFSETTO:-0600
TZNAME:MDT
DTSTART:20240310T090000
END:DAYLIGHT
BEGIN:STANDARD
TZOFFSETFROM:-0600
TZOFFSETTO:-0700
TZNAME:MST
DTSTART:20241103T080000
END:STANDARD
BEGIN:DAYLIGHT
TZOFFSETFROM:-0700
TZOFFSETTO:-0600
TZNAME:MDT
DTSTART:20250309T090000
END:DAYLIGHT
BEGIN:STANDARD
TZOFFSETFROM:-0600
TZOFFSETTO:-0700
TZNAME:MST
DTSTART:20251102T080000
END:STANDARD
BEGIN:DAYLIGHT
TZOFFSETFROM:-0700
TZOFFSETTO:-0600
TZNAME:MDT
DTSTART:20260308T090000
END:DAYLIGHT
BEGIN:STANDARD
TZOFFSETFROM:-0600
TZOFFSETTO:-0700
TZNAME:MST
DTSTART:20261101T080000
END:STANDARD
END:VTIMEZONE
BEGIN:VTIMEZONE
TZID:America/Phoenix
BEGIN:STANDARD
TZOFFSETFROM:-0700
TZOFFSETTO:-0700
TZNAME:MST
DTSTART:20240101T000000
END:STANDARD
END:VTIMEZONE
BEGIN:VTIMEZONE
TZID:UTC
BEGIN:STANDARD
TZOFFSETFROM:+0000
TZOFFSETTO:+0000
TZNAME:UTC
DTSTART:20240101T000000
END:STANDARD
END:VTIMEZONE
BEGIN:VEVENT
DTSTART;TZID=America/Denver:20250716T190000
DTEND;TZID=America/Denver:20250716T210000
DTSTAMP:20260424T061210
CREATED:20250708T175503Z
LAST-MODIFIED:20250708T175503Z
UID:3360-1752692400-1752699600@fortyninercc.com
SUMMARY:Bingo Night at Forty Niner!
DESCRIPTION:Join us every Thursday night for some exciting Thursday Night Bingo!\n\nGet your game face on and try your luck with our weekly bingo sessions starting at 7:00 PM.\nFor just $10 per packet\, you’ll have a chance to win some fun prizes! Plus\, enjoy our full food and drink service while you play.\nIt’s the perfect way to unwind and socialize mid-week!\nEmail: Casey Polivchak caseyp@fortyninercc.com for RSVPs
URL:https://fortyninercc.com/event/bingo-night-at-forty-niner-12/
LOCATION:Forty Niner\, 12000 E. Tanque Verde\, Tucson\, AZ\, 85749\, United States
CATEGORIES:Thursday Night Bingo
ATTACH;FMTTYPE=image/jpeg:https://fortyninercc.com/wp-content/uploads/2025/04/ThursdayBingo-scaled.jpg
ORGANIZER;CN="Forty Niner":MAILTO:cklok@fortyninercc.com
END:VEVENT
BEGIN:VEVENT
DTSTART;TZID=America/Phoenix:20250710T190000
DTEND;TZID=America/Phoenix:20250710T210000
DTSTAMP:20260424T061210
CREATED:20250501T192624Z
LAST-MODIFIED:20250501T192624Z
UID:2475-1752174000-1752181200@fortyninercc.com
SUMMARY:Bingo Night at Forty Niner!
DESCRIPTION:Join us every Thursday night for some exciting Thursday Night Bingo!\n\nGet your game face on and try your luck with our weekly bingo sessions starting at 7:00 PM.\n\nFor just $10 per packet\, you’ll have a chance to win some fun prizes! Plus\, enjoy our full food and drink service while you play.\n\nIt’s the perfect way to unwind and socialize mid-week!\n\nEmail: Casey Polivchak caseyp@fortyninercc.com for RSVPs
URL:https://fortyninercc.com/event/bingo-night-at-forty-niner-11/
LOCATION:Forty Niner\, 12000 E. Tanque Verde\, Tucson\, AZ\, 85749\, United States
CATEGORIES:Thursday Night Bingo
ATTACH;FMTTYPE=image/jpeg:https://fortyninercc.com/wp-content/uploads/2025/04/ThursdayBingo-scaled.jpg
ORGANIZER;CN="Forty Niner":MAILTO:cklok@fortyninercc.com
END:VEVENT
BEGIN:VEVENT
DTSTART;TZID=America/Phoenix:20250702T190000
DTEND;TZID=America/Phoenix:20250702T210000
DTSTAMP:20260424T061210
CREATED:20250501T192559Z
LAST-MODIFIED:20250702T225857Z
UID:2473-1751482800-1751490000@fortyninercc.com
SUMMARY:Bingo Night at Forty Niner!
DESCRIPTION:Join us every Thursday night for some exciting Thursday Night Bingo!\n\nGet your game face on and try your luck with our weekly bingo sessions starting at 7:00 PM.\n\nFor just $10 per packet\, you’ll have a chance to win some fun prizes! Plus\, enjoy our full food and drink service while you play.\n\nIt’s the perfect way to unwind and socialize mid-week!\n\nEmail: Casey Polivchak caseyp@fortyninercc.com for RSVPs
URL:https://fortyninercc.com/event/bingo-night-at-forty-niner-10/
LOCATION:Forty Niner\, 12000 E. Tanque Verde\, Tucson\, AZ\, 85749\, United States
CATEGORIES:Thursday Night Bingo
ATTACH;FMTTYPE=image/jpeg:https://fortyninercc.com/wp-content/uploads/2025/04/ThursdayBingo-scaled.jpg
ORGANIZER;CN="Forty Niner":MAILTO:cklok@fortyninercc.com
END:VEVENT
BEGIN:VEVENT
DTSTART;TZID=America/Phoenix:20250626T190000
DTEND;TZID=America/Phoenix:20250626T210000
DTSTAMP:20260424T061210
CREATED:20250501T192532Z
LAST-MODIFIED:20250501T192532Z
UID:2474-1750964400-1750971600@fortyninercc.com
SUMMARY:Bingo Night at Forty Niner!
DESCRIPTION:Join us every Thursday night for some exciting Thursday Night Bingo!\n\nGet your game face on and try your luck with our weekly bingo sessions starting at 7:00 PM.\n\nFor just $10 per packet\, you’ll have a chance to win some fun prizes! Plus\, enjoy our full food and drink service while you play.\n\nIt’s the perfect way to unwind and socialize mid-week!\n\nEmail: Casey Polivchak caseyp@fortyninercc.com for RSVPs
URL:https://fortyninercc.com/event/bingo-night-at-forty-niner-9/
LOCATION:Forty Niner\, 12000 E. Tanque Verde\, Tucson\, AZ\, 85749\, United States
CATEGORIES:Thursday Night Bingo
ATTACH;FMTTYPE=image/jpeg:https://fortyninercc.com/wp-content/uploads/2025/04/ThursdayBingo-scaled.jpg
ORGANIZER;CN="Forty Niner":MAILTO:cklok@fortyninercc.com
END:VEVENT
BEGIN:VEVENT
DTSTART;TZID=America/Phoenix:20250619T190000
DTEND;TZID=America/Phoenix:20250619T210000
DTSTAMP:20260424T061210
CREATED:20250501T192515Z
LAST-MODIFIED:20250501T192515Z
UID:2472-1750359600-1750366800@fortyninercc.com
SUMMARY:Bingo Night at Forty Niner!
DESCRIPTION:Join us every Thursday night for some exciting Thursday Night Bingo!\n\nGet your game face on and try your luck with our weekly bingo sessions starting at 7:00 PM.\n\nFor just $10 per packet\, you’ll have a chance to win some fun prizes! Plus\, enjoy our full food and drink service while you play.\n\nIt’s the perfect way to unwind and socialize mid-week!\n\nEmail: Casey Polivchak caseyp@fortyninercc.com for RSVPs
URL:https://fortyninercc.com/event/bingo-night-at-forty-niner-8/
LOCATION:Forty Niner\, 12000 E. Tanque Verde\, Tucson\, AZ\, 85749\, United States
CATEGORIES:Thursday Night Bingo
ATTACH;FMTTYPE=image/jpeg:https://fortyninercc.com/wp-content/uploads/2025/04/ThursdayBingo-scaled.jpg
ORGANIZER;CN="Forty Niner":MAILTO:cklok@fortyninercc.com
END:VEVENT
BEGIN:VEVENT
DTSTART;TZID=America/Phoenix:20250612T190000
DTEND;TZID=America/Phoenix:20250612T210000
DTSTAMP:20260424T061210
CREATED:20250501T192505Z
LAST-MODIFIED:20250501T192505Z
UID:2471-1749754800-1749762000@fortyninercc.com
SUMMARY:Bingo Night at Forty Niner!
DESCRIPTION:Join us every Thursday night for some exciting Thursday Night Bingo!\n\nGet your game face on and try your luck with our weekly bingo sessions starting at 7:00 PM.\n\nFor just $10 per packet\, you’ll have a chance to win some fun prizes! Plus\, enjoy our full food and drink service while you play.\n\nIt’s the perfect way to unwind and socialize mid-week!\n\nEmail: Casey Polivchak caseyp@fortyninercc.com for RSVPs
URL:https://fortyninercc.com/event/bingo-night-at-forty-niner-7/
LOCATION:Forty Niner\, 12000 E. Tanque Verde\, Tucson\, AZ\, 85749\, United States
CATEGORIES:Thursday Night Bingo
ATTACH;FMTTYPE=image/jpeg:https://fortyninercc.com/wp-content/uploads/2025/04/ThursdayBingo-scaled.jpg
ORGANIZER;CN="Forty Niner":MAILTO:cklok@fortyninercc.com
END:VEVENT
BEGIN:VEVENT
DTSTART;TZID=America/Phoenix:20250605T190000
DTEND;TZID=America/Phoenix:20250605T210000
DTSTAMP:20260424T061210
CREATED:20250501T192438Z
LAST-MODIFIED:20250501T192438Z
UID:2470-1749150000-1749157200@fortyninercc.com
SUMMARY:Bingo Night at Forty Niner!
DESCRIPTION:Join us every Thursday night for some exciting Thursday Night Bingo!\n\nGet your game face on and try your luck with our weekly bingo sessions starting at 7:00 PM.\n\nFor just $10 per packet\, you’ll have a chance to win some fun prizes! Plus\, enjoy our full food and drink service while you play.\n\nIt’s the perfect way to unwind and socialize mid-week!\n\nEmail: Casey Polivchak caseyp@fortyninercc.com for RSVPs
URL:https://fortyninercc.com/event/bingo-night-at-forty-niner-6/
LOCATION:Forty Niner\, 12000 E. Tanque Verde\, Tucson\, AZ\, 85749\, United States
CATEGORIES:Thursday Night Bingo
ATTACH;FMTTYPE=image/jpeg:https://fortyninercc.com/wp-content/uploads/2025/04/ThursdayBingo-scaled.jpg
ORGANIZER;CN="Forty Niner":MAILTO:cklok@fortyninercc.com
END:VEVENT
BEGIN:VEVENT
DTSTART;TZID=America/Phoenix:20250529T190000
DTEND;TZID=America/Phoenix:20250529T210000
DTSTAMP:20260424T061210
CREATED:20250430T201759Z
LAST-MODIFIED:20250430T201759Z
UID:2433-1748545200-1748552400@fortyninercc.com
SUMMARY:Bingo Night at Forty Niner!
DESCRIPTION:Join us every Thursday night for some exciting Thursday Night Bingo!\n\nGet your game face on and try your luck with our weekly bingo sessions starting at 7:00 PM.\nFor just $10 per packet\, you’ll have a chance to win some fun prizes! Plus\, enjoy our full food and drink service while you play.\nIt’s the perfect way to unwind and socialize mid-week!\nEmail: Casey Polivchak caseyp@fortyninercc.com for RSVPs
URL:https://fortyninercc.com/event/bingo-night-at-forty-niner-5/
LOCATION:Forty Niner\, 12000 E. Tanque Verde\, Tucson\, AZ\, 85749\, United States
CATEGORIES:Thursday Night Bingo
ATTACH;FMTTYPE=image/jpeg:https://fortyninercc.com/wp-content/uploads/2025/04/ThursdayBingo-scaled.jpg
ORGANIZER;CN="Forty Niner":MAILTO:cklok@fortyninercc.com
END:VEVENT
BEGIN:VEVENT
DTSTART;TZID=America/Denver:20250522T190000
DTEND;TZID=America/Denver:20250522T210000
DTSTAMP:20260424T061210
CREATED:20250430T201127Z
LAST-MODIFIED:20250430T201127Z
UID:2431-1747940400-1747947600@fortyninercc.com
SUMMARY:Bingo Night at Forty Niner!
DESCRIPTION:Join us every Thursday night for some exciting Thursday Night Bingo!\n\nGet your game face on and try your luck with our weekly bingo sessions starting at 7:00 PM.\nFor just $10 per packet\, you’ll have a chance to win some fun prizes! Plus\, enjoy our full food and drink service while you play.\nIt’s the perfect way to unwind and socialize mid-week!\nEmail: Casey Polivchak caseyp@fortyninercc.com for RSVPs
URL:https://fortyninercc.com/event/bingo-night-at-forty-niner-4/
LOCATION:Forty Niner\, 12000 E. Tanque Verde\, Tucson\, AZ\, 85749\, United States
CATEGORIES:Thursday Night Bingo
ATTACH;FMTTYPE=image/jpeg:https://fortyninercc.com/wp-content/uploads/2025/04/ThursdayBingo-scaled.jpg
ORGANIZER;CN="Forty Niner":MAILTO:cklok@fortyninercc.com
END:VEVENT
BEGIN:VEVENT
DTSTART;TZID=America/Denver:20250515T190000
DTEND;TZID=America/Denver:20250515T210000
DTSTAMP:20260424T061210
CREATED:20250430T200609Z
LAST-MODIFIED:20250430T200715Z
UID:2427-1747335600-1747342800@fortyninercc.com
SUMMARY:Bingo Night at Forty Niner!
DESCRIPTION:Join us every Thursday night for some exciting Thursday Night Bingo!\n\nGet your game face on and try your luck with our weekly bingo sessions starting at 7:00 PM.\nFor just $10 per packet\, you’ll have a chance to win some fun prizes! Plus\, enjoy our full food and drink service while you play.\nIt’s the perfect way to unwind and socialize mid-week!\nEmail: Casey Polivchak caseyp@fortyninercc.com for RSVPs
URL:https://fortyninercc.com/event/bingo-night-at-forty-niner-3/
LOCATION:Forty Niner\, 12000 E. Tanque Verde\, Tucson\, AZ\, 85749\, United States
CATEGORIES:Thursday Night Bingo
ATTACH;FMTTYPE=image/jpeg:https://fortyninercc.com/wp-content/uploads/2025/04/ThursdayBingo-scaled.jpg
ORGANIZER;CN="Forty Niner":MAILTO:cklok@fortyninercc.com
END:VEVENT
BEGIN:VEVENT
DTSTART;TZID=America/Denver:20250508T190000
DTEND;TZID=America/Denver:20250508T210000
DTSTAMP:20260424T061210
CREATED:20250429T214115Z
LAST-MODIFIED:20250429T214115Z
UID:2405-1746730800-1746738000@fortyninercc.com
SUMMARY:Bingo Night at Forty Niner!
DESCRIPTION:Join us every Thursday night for some exciting Thursday Night Bingo!\n\nGet your game face on and try your luck with our weekly bingo sessions starting at 7:00 PM.\n\nFor just $10 per packet\, you’ll have a chance to win some fun prizes! Plus\, enjoy our full food and drink service while you play.\n\nIt’s the perfect way to unwind and socialize mid-week!\n\nEmail: Casey Polivchak caseyp@fortyninercc.com for RSVPs
URL:https://fortyninercc.com/event/bingo-night-at-forty-niner-2/
LOCATION:Forty Niner\, 12000 E. Tanque Verde\, Tucson\, AZ\, 85749\, United States
CATEGORIES:Thursday Night Bingo
ATTACH;FMTTYPE=image/jpeg:https://fortyninercc.com/wp-content/uploads/2025/04/ThursdayBingo-scaled.jpg
ORGANIZER;CN="Forty Niner":MAILTO:cklok@fortyninercc.com
END:VEVENT
BEGIN:VEVENT
DTSTART;TZID=America/Denver:20250501T190000
DTEND;TZID=America/Denver:20250501T210000
DTSTAMP:20260424T061210
CREATED:20250429T214027Z
LAST-MODIFIED:20250429T214028Z
UID:2403-1746126000-1746133200@fortyninercc.com
SUMMARY:Bingo Night at Forty Niner!
DESCRIPTION:Join us every Thursday night for some exciting Thursday Night Bingo!\n\nGet your game face on and try your luck with our weekly bingo sessions starting at 7:00 PM.\n\nFor just $10 per packet\, you’ll have a chance to win some fun prizes! Plus\, enjoy our full food and drink service while you play.\n\nIt’s the perfect way to unwind and socialize mid-week!\n\nEmail: Casey Polivchak caseyp@fortyninercc.com for RSVPs
URL:https://fortyninercc.com/event/bingo-night-at-forty-niner/
LOCATION:Forty Niner\, 12000 E. Tanque Verde\, Tucson\, AZ\, 85749\, United States
CATEGORIES:Thursday Night Bingo
ATTACH;FMTTYPE=image/jpeg:https://fortyninercc.com/wp-content/uploads/2025/04/ThursdayBingo-scaled.jpg
ORGANIZER;CN="Forty Niner":MAILTO:cklok@fortyninercc.com
END:VEVENT
BEGIN:VEVENT
DTSTART;TZID=America/Denver:20250424T190000
DTEND;TZID=America/Denver:20250424T210000
DTSTAMP:20260424T061210
CREATED:20250402T175637Z
LAST-MODIFIED:20250402T175637Z
UID:2179-1745521200-1745528400@fortyninercc.com
SUMMARY:Thursday Night Bingo
DESCRIPTION:Join us every Thursday night for some exciting Thursday Night Bingo! Get your game face on and try your luck with our weekly bingo sessions starting at 7:00 PM. For just $10 per packet\, you’ll have a chance to win some fun prizes! Plus\, enjoy our full food and drink service while you play. It’s the perfect way to unwind and socialize mid-week! \nEmail: Casey Polivchak for RSVPs
URL:https://fortyninercc.com/event/thursday-night-bingo-4/
LOCATION:Forty Niner\, 12000 E. Tanque Verde\, Tucson\, AZ\, 85749\, United States
CATEGORIES:Thursday Night Bingo
ATTACH;FMTTYPE=image/jpeg:https://fortyninercc.com/wp-content/uploads/2025/04/ThursdayBingo-scaled.jpg
ORGANIZER;CN="Forty Niner":MAILTO:cklok@fortyninercc.com
END:VEVENT
BEGIN:VEVENT
DTSTART;TZID=America/Denver:20250417T190000
DTEND;TZID=America/Denver:20250417T210000
DTSTAMP:20260424T061210
CREATED:20250402T175559Z
LAST-MODIFIED:20250402T175600Z
UID:2177-1744916400-1744923600@fortyninercc.com
SUMMARY:Thursday Night Bingo
DESCRIPTION:Join us every Thursday night for some exciting Thursday Night Bingo! Get your game face on and try your luck with our weekly bingo sessions starting at 7:00 PM. For just $10 per packet\, you’ll have a chance to win some fun prizes! Plus\, enjoy our full food and drink service while you play. It’s the perfect way to unwind and socialize mid-week! \nEmail: Casey Polivchak for RSVPs
URL:https://fortyninercc.com/event/thursday-night-bingo-3/
LOCATION:Forty Niner\, 12000 E. Tanque Verde\, Tucson\, AZ\, 85749\, United States
CATEGORIES:Thursday Night Bingo
ATTACH;FMTTYPE=image/jpeg:https://fortyninercc.com/wp-content/uploads/2025/04/ThursdayBingo-scaled.jpg
ORGANIZER;CN="Forty Niner":MAILTO:cklok@fortyninercc.com
END:VEVENT
BEGIN:VEVENT
DTSTART;TZID=America/Denver:20250410T190000
DTEND;TZID=America/Denver:20250410T210000
DTSTAMP:20260424T061210
CREATED:20250402T175519Z
LAST-MODIFIED:20250402T175519Z
UID:2175-1744311600-1744318800@fortyninercc.com
SUMMARY:Thursday Night Bingo
DESCRIPTION:Join us every Thursday night for some exciting Thursday Night Bingo! Get your game face on and try your luck with our weekly bingo sessions starting at 7:00 PM. For just $10 per packet\, you’ll have a chance to win some fun prizes! Plus\, enjoy our full food and drink service while you play. It’s the perfect way to unwind and socialize mid-week! \nEmail: Casey Polivchak for RSVPs
URL:https://fortyninercc.com/event/thursday-night-bingo-2/
LOCATION:Forty Niner\, 12000 E. Tanque Verde\, Tucson\, AZ\, 85749\, United States
CATEGORIES:Thursday Night Bingo
ATTACH;FMTTYPE=image/jpeg:https://fortyninercc.com/wp-content/uploads/2025/04/ThursdayBingo-scaled.jpg
ORGANIZER;CN="Forty Niner":MAILTO:cklok@fortyninercc.com
END:VEVENT
BEGIN:VEVENT
DTSTART;TZID=America/Denver:20250403T190000
DTEND;TZID=America/Denver:20250403T210000
DTSTAMP:20260424T061210
CREATED:20250402T175327Z
LAST-MODIFIED:20250402T175328Z
UID:2172-1743706800-1743714000@fortyninercc.com
SUMMARY:Thursday Night Bingo
DESCRIPTION:Join us every Thursday night for some exciting Thursday Night Bingo! Get your game face on and try your luck with our weekly bingo sessions starting at 7:00 PM. For just $10 per packet\, you’ll have a chance to win some fun prizes! Plus\, enjoy our full food and drink service while you play. It’s the perfect way to unwind and socialize mid-week! \nEmail: Casey Polivchak for RSVPs
URL:https://fortyninercc.com/event/thursday-night-bingo/
LOCATION:Forty Niner\, 12000 E. Tanque Verde\, Tucson\, AZ\, 85749\, United States
CATEGORIES:Thursday Night Bingo
ATTACH;FMTTYPE=image/jpeg:https://fortyninercc.com/wp-content/uploads/2025/04/ThursdayBingo-scaled.jpg
ORGANIZER;CN="Forty Niner":MAILTO:cklok@fortyninercc.com
END:VEVENT
BEGIN:VEVENT
DTSTART;TZID=UTC:20250130T190000
DTEND;TZID=UTC:20250130T210000
DTSTAMP:20260424T061210
CREATED:20250103T000915Z
LAST-MODIFIED:20250103T000915Z
UID:878-1738263600-1738270800@fortyninercc.com
SUMMARY:Forty Niner Bingo
DESCRIPTION:Join us every Thursday starting at 7PM for a fun-filled evening of Bingo. Cards are just $10 each\, and we offer full food and drink service. Come try your luck and win some money!\nEmail caseyp@fortyninercc.com for reservations.
URL:https://fortyninercc.com/event/forty-niner-bingo-3-2-2/
LOCATION:Forty Niner\, 12000 E. Tanque Verde\, Tucson\, AZ\, 85749\, United States
CATEGORIES:Thursday Night Bingo
ATTACH;FMTTYPE=image/jpeg:https://fortyninercc.com/wp-content/uploads/2025/01/ThursdayBingo-scaled.jpg
ORGANIZER;CN="Forty Niner":MAILTO:cklok@fortyninercc.com
END:VEVENT
BEGIN:VEVENT
DTSTART;TZID=UTC:20250123T190000
DTEND;TZID=UTC:20250123T210000
DTSTAMP:20260424T061210
CREATED:20250103T000855Z
LAST-MODIFIED:20250103T000855Z
UID:876-1737658800-1737666000@fortyninercc.com
SUMMARY:Forty Niner Bingo
DESCRIPTION:Join us every Thursday starting at 7PM for a fun-filled evening of Bingo. Cards are just $10 each\, and we offer full food and drink service. Come try your luck and win some money!\nEmail caseyp@fortyninercc.com for reservations.
URL:https://fortyninercc.com/event/forty-niner-bingo-3-2/
LOCATION:Forty Niner\, 12000 E. Tanque Verde\, Tucson\, AZ\, 85749\, United States
CATEGORIES:Thursday Night Bingo
ATTACH;FMTTYPE=image/jpeg:https://fortyninercc.com/wp-content/uploads/2025/01/ThursdayBingo-scaled.jpg
ORGANIZER;CN="Forty Niner":MAILTO:cklok@fortyninercc.com
END:VEVENT
BEGIN:VEVENT
DTSTART;TZID=UTC:20250116T190000
DTEND;TZID=UTC:20250116T210000
DTSTAMP:20260424T061210
CREATED:20250103T000837Z
LAST-MODIFIED:20250103T000837Z
UID:874-1737054000-1737061200@fortyninercc.com
SUMMARY:Forty Niner Bingo
DESCRIPTION:Join us every Thursday starting at 7PM for a fun-filled evening of Bingo. Cards are just $10 each\, and we offer full food and drink service. Come try your luck and win some money!\nEmail caseyp@fortyninercc.com for reservations.
URL:https://fortyninercc.com/event/forty-niner-bingo-3/
LOCATION:Forty Niner\, 12000 E. Tanque Verde\, Tucson\, AZ\, 85749\, United States
CATEGORIES:Thursday Night Bingo
ATTACH;FMTTYPE=image/jpeg:https://fortyninercc.com/wp-content/uploads/2025/01/ThursdayBingo-scaled.jpg
ORGANIZER;CN="Forty Niner":MAILTO:cklok@fortyninercc.com
END:VEVENT
BEGIN:VEVENT
DTSTART;TZID=UTC:20250109T190000
DTEND;TZID=UTC:20250109T210000
DTSTAMP:20260424T061210
CREATED:20250103T000813Z
LAST-MODIFIED:20250103T000813Z
UID:872-1736449200-1736456400@fortyninercc.com
SUMMARY:Forty Niner Bingo
DESCRIPTION:Join us every Thursday starting at 7PM for a fun-filled evening of Bingo. Cards are just $10 each\, and we offer full food and drink service. Come try your luck and win some money!\nEmail caseyp@fortyninercc.com for reservations.
URL:https://fortyninercc.com/event/forty-niner-bingo-2/
LOCATION:Forty Niner\, 12000 E. Tanque Verde\, Tucson\, AZ\, 85749\, United States
CATEGORIES:Thursday Night Bingo
ATTACH;FMTTYPE=image/jpeg:https://fortyninercc.com/wp-content/uploads/2025/01/ThursdayBingo-scaled.jpg
ORGANIZER;CN="Forty Niner":MAILTO:cklok@fortyninercc.com
END:VEVENT
BEGIN:VEVENT
DTSTART;TZID=UTC:20250102T190000
DTEND;TZID=UTC:20250102T210000
DTSTAMP:20260424T061210
CREATED:20250103T000521Z
LAST-MODIFIED:20250103T000753Z
UID:869-1735844400-1735851600@fortyninercc.com
SUMMARY:Forty Niner Bingo
DESCRIPTION:Join us every Thursday starting at 7PM for a fun-filled evening of Bingo. Cards are just $10 each\, and we offer full food and drink service. Come try your luck and win some money!\nEmail caseyp@fortyninercc.com for reservations.
URL:https://fortyninercc.com/event/forty-niner-bingo/
LOCATION:Forty Niner\, 12000 E. Tanque Verde\, Tucson\, AZ\, 85749\, United States
CATEGORIES:Thursday Night Bingo
ATTACH;FMTTYPE=image/jpeg:https://fortyninercc.com/wp-content/uploads/2025/01/ThursdayBingo-scaled.jpg
ORGANIZER;CN="Forty Niner":MAILTO:cklok@fortyninercc.com
END:VEVENT
END:VCALENDAR