BEGIN:VCALENDAR
VERSION:2.0
PRODID:-//Forty Niner - ECPv6.15.20//NONSGML v1.0//EN
CALSCALE:GREGORIAN
METHOD:PUBLISH
X-ORIGINAL-URL:https://fortyninercc.com
X-WR-CALDESC:Events for Forty Niner
REFRESH-INTERVAL;VALUE=DURATION:PT1H
X-Robots-Tag:noindex
X-PUBLISHED-TTL:PT1H
BEGIN:VTIMEZONE
TZID:America/Phoenix
BEGIN:STANDARD
TZOFFSETFROM:-0700
TZOFFSETTO:-0700
TZNAME:MST
DTSTART:20250101T000000
END:STANDARD
END:VTIMEZONE
BEGIN:VEVENT
DTSTART;TZID=America/Phoenix:20260411T160000
DTEND;TZID=America/Phoenix:20260411T200000
DTSTAMP:20260423T124220
CREATED:20260324T205126Z
LAST-MODIFIED:20260324T205129Z
UID:5317-1775923200-1775937600@fortyninercc.com
SUMMARY:4/11 Vendor Market and Motorcycle Roll In
DESCRIPTION:4-11 Market & Motorcycle Roll-In\nRev your engines and get ready for a night of community\, chrome\, and local culture! Join us at Forty Niner for the 4-11 Market & Motorcycle Roll-In\, an evening dedicated to riders\, collectors\, and fans of unique local finds. \nEvent Highlights\n\n\nThe Roll-In: Whether you’re riding a custom build\, a vintage classic\, or a sleek modern machine\, all bikes are welcome. Roll in\, park\, and show off your ride while you swap stories and “talk shop” with fellow enthusiasts. \n\n\nLocal Market: Discover a curated selection of unique\, local\, and artisanal treasures. From home décor and one-of-a-kind art to stylish accessories\, there’s plenty to browse. \n\n\nFuel Up & Chill: Hungry? Our full restaurant and bar will be open all night serving up menu favorites and refreshing cocktails. Enjoy live music and sweet or savory snacks while you soak in the atmosphere \n\n\nRegistration\nDo you have a bike you want to showcase? Fill out the registration form below. \n\n\n\n\n411 Motorcycle Registration\n\n\n\n\n\n\n\n\n	Name\n		*\n	\n	\n	\n	\n\n\n	Email\n		*\n	\n	\n	\n	\n\n\n	Phone\n		*\n	\n	\n	\n	\n\n\n	Bike Make & Model\n		*\n	\n	\n	\n	\n\n\n	Club Affiliation (if applicable) \n		\n	\n	\n	\n	\n\n\n	\nSubmit\n\n\n\n\n\n	\n			\n			\n				If you are human\, leave this field blank.
URL:https://fortyninercc.com/event/4-11-vendor-market-and-motorcycle-roll-in/
LOCATION:Forty Niner\, 12000 E. Tanque Verde\, Tucson\, AZ\, 85749\, United States
CATEGORIES:Community Events,Free Community Events
ATTACH;FMTTYPE=image/png:https://fortyninercc.com/wp-content/uploads/2026/03/411-Market-Motorcycle-Roll-In-Presentation-1.png
ORGANIZER;CN="Forty Niner":MAILTO:cklok@fortyninercc.com
END:VEVENT
BEGIN:VEVENT
DTSTART;TZID=America/Phoenix:20260411T170000
DTEND;TZID=America/Phoenix:20260411T200000
DTSTAMP:20260423T124220
CREATED:20260324T030142Z
LAST-MODIFIED:20260324T030145Z
UID:5302-1775926800-1775937600@fortyninercc.com
SUMMARY:LIVE MUSIC – Daytrails – The Bar @ Forty Niner
DESCRIPTION:Daytrails & Downshifts! \n\n\nJoin us Saturday\, April 11th @ 5 PM for some live music at the Forty Niner Market & Motorcycle Round-Up! \nWe’re bringing back fan-favorites Daytrails to fuel the night with their signature Indie Rock sound. Shop local vendors\, check out a stunning lineup of bikes\, and grab a drink while the band takes the stage. \n It’s the ultimate Saturday vibe.
URL:https://fortyninercc.com/event/live-music-daytrails-the-bar-forty-niner-2/
LOCATION:Forty Niner\, 12000 E. Tanque Verde\, Tucson\, AZ\, 85749\, United States
CATEGORIES:Community Events,Free Community Events
ATTACH;FMTTYPE=image/jpeg:https://fortyninercc.com/wp-content/uploads/2026/03/041126_Daytrails.jpg
ORGANIZER;CN="Forty Niner":MAILTO:cklok@fortyninercc.com
END:VEVENT
BEGIN:VEVENT
DTSTART;TZID=America/Phoenix:20260415T180000
DTEND;TZID=America/Phoenix:20260415T210000
DTSTAMP:20260423T124220
CREATED:20260324T030429Z
LAST-MODIFIED:20260324T030431Z
UID:5305-1776276000-1776286800@fortyninercc.com
SUMMARY:Team Trivia
DESCRIPTION:Put Your Thinking Caps On for Team Trivia Night!\nIt’s time to gather your smartest friends and join us for another legendary Trivia Night at Forty Niner! Whether you’re a history buff\, a pop culture guru\, or just love some friendly competition\, this is the night to prove your expertise and claim bragging rights. \nThe event is open to everyone\, so round up a squad and get ready for a fast-paced evening in the Dining Room!
URL:https://fortyninercc.com/event/team-trivia-11/
LOCATION:Forty Niner\, 12000 E. Tanque Verde\, Tucson\, AZ\, 85749\, United States
CATEGORIES:Community Events,Free Community Events
ATTACH;FMTTYPE=image/jpeg:https://fortyninercc.com/wp-content/uploads/2026/03/041526_TriviaNight.jpg
ORGANIZER;CN="Forty Niner":MAILTO:cklok@fortyninercc.com
END:VEVENT
BEGIN:VEVENT
DTSTART;TZID=America/Phoenix:20260416T190000
DTEND;TZID=America/Phoenix:20260416T210000
DTSTAMP:20260423T124220
CREATED:20260324T024808Z
LAST-MODIFIED:20260324T024809Z
UID:5290-1776366000-1776373200@fortyninercc.com
SUMMARY:Thursday Night Bingo
DESCRIPTION:Join us every Thursday night for some exciting Thursday Night Bingo!\n\nGet your game face on and try your luck with our weekly bingo sessions starting at 7:00 PM.\n\nFor just $10 per packet\, you’ll have a chance to win some fun prizes! Plus\, enjoy our full food and drink service while you play.\n\nIt’s the perfect way to unwind and socialize mid-week!\n\nEmail: Casey Polivchak caseyp@fortyninercc.com for RSVPs
URL:https://fortyninercc.com/event/thursday-night-bingo-24/
LOCATION:Forty Niner\, 12000 E. Tanque Verde\, Tucson\, AZ\, 85749\, United States
CATEGORIES:Thursday Night Bingo
ATTACH;FMTTYPE=image/jpeg:https://fortyninercc.com/wp-content/uploads/2026/03/GenericBingoArtFile.jpg
ORGANIZER;CN="Forty Niner":MAILTO:cklok@fortyninercc.com
END:VEVENT
BEGIN:VEVENT
DTSTART;TZID=America/Phoenix:20260417T180000
DTEND;TZID=America/Phoenix:20260417T210000
DTSTAMP:20260423T124220
CREATED:20260324T030633Z
LAST-MODIFIED:20260324T030636Z
UID:5308-1776448800-1776459600@fortyninercc.com
SUMMARY:LIVE MUSIC – Smokin’ Smalls & Hot Toddy – The Bar @ Forty Niner
DESCRIPTION:Live Music with Smokin Smalls & Hot Toddy at Forty Niner \n Friday\, April 17th\, 2025\n6:00 PM – 9:00 PM \nIf you’ve seen them before\, you know you’re in for a treat! If this is your first time\, get ready to enjoy some incredible tunes. Come on down and show some love!
URL:https://fortyninercc.com/event/live-music-smokin-smalls-hot-toddy-the-bar-forty-niner/
LOCATION:Forty Niner\, 12000 E. Tanque Verde\, Tucson\, AZ\, 85749\, United States
CATEGORIES:Free Community Events,Free Live Music
ATTACH;FMTTYPE=image/jpeg:https://fortyninercc.com/wp-content/uploads/2026/03/041726_SmokinSmallsHotToddy.jpg
ORGANIZER;CN="Forty Niner":MAILTO:cklok@fortyninercc.com
END:VEVENT
BEGIN:VEVENT
DTSTART;TZID=America/Phoenix:20260418T110000
DTEND;TZID=America/Phoenix:20260418T170000
DTSTAMP:20260423T124220
CREATED:20260325T194152Z
LAST-MODIFIED:20260325T194154Z
UID:5334-1776510000-1776531600@fortyninercc.com
SUMMARY:4th Annual Do It For Daylen
DESCRIPTION:Join us for the 4th Annual Do It For Daylen event\, a day of community\, fun\, and purpose at the Forty Niner Country Club. We are coming together to raise vital funds for DIPG Research\, with all proceeds benefiting “Do It For Daylen\,” an operating fund of Arms Wide Open.\n\n\n\n\n\n\n\n\nWhether you’re hitting the links or bringing the family for a day by the pool\, your presence helps make a difference in the fight against childhood cancer.
URL:https://fortyninercc.com/event/4th-annual-do-it-for-daylen/
LOCATION:Forty Niner\, 12000 E. Tanque Verde\, Tucson\, AZ\, 85749\, United States
CATEGORIES:Community Events
ATTACH;FMTTYPE=image/jpeg:https://fortyninercc.com/wp-content/uploads/2026/03/IMG_0699.jpeg
END:VEVENT
BEGIN:VEVENT
DTSTART;TZID=America/Phoenix:20260418T160000
DTEND;TZID=America/Phoenix:20260418T200000
DTSTAMP:20260423T124220
CREATED:20260324T211206Z
LAST-MODIFIED:20260413T142145Z
UID:5322-1776528000-1776542400@fortyninercc.com
SUMMARY:Third Saturday - Prime Rib Special
DESCRIPTION:Third Saturdays at Forty Niner!\n\nMake your third Saturday of the month truly a cut above the rest. We’re extending the hours and raising the bar with an evening dedicated to great food and late-night energy.\n\nStart your night with our signature Prime Rib Special\, served exclusively until 8:00 PM. Whether you’re fueling up for the night ahead or looking for the perfect weekend dinner\, our succulent\, slow-roasted prime rib is the centerpiece of the evening.\n\nThe SchedulePrime Rib Special: Available until 8:00 PMKitchen Service: Wraps up at 9:00 PMThe Bar: Stays open until 12:00 AM with Free adult only comedy!
URL:https://fortyninercc.com/event/third-saturday-prime-rib-special-bar-open-late/
LOCATION:Forty Niner\, 12000 E. Tanque Verde\, Tucson\, AZ\, 85749\, United States
CATEGORIES:Community Events,Restaurant Events
ATTACH;FMTTYPE=image/jpeg:https://fortyninercc.com/wp-content/uploads/2026/03/Premium-Steak-Night-Poster-1920-x-1080-px.jpg
ORGANIZER;CN="Forty Niner":MAILTO:cklok@fortyninercc.com
END:VEVENT
BEGIN:VEVENT
DTSTART;TZID=America/Phoenix:20260418T210000
DTEND;TZID=America/Phoenix:20260418T210000
DTSTAMP:20260423T124220
CREATED:20260413T142319Z
LAST-MODIFIED:20260413T165302Z
UID:5410-1776546000-1776546000@fortyninercc.com
SUMMARY:Third Saturday's Comedy Night - The Bar @ Forty Niner
DESCRIPTION:Third Saturday’s Comedy Night @ The Bar\nSaturday\, April 18\, 2026\, 9:00 PM – 12:00 AM\nForty Niner – The Bar @ Forty Niner\n12000 E. Tanque Verde Rd.\, Tucson\, AZ 85749 \nAdmission is FREE \nGet ready to laugh till it hurts! Join us for the first of our Third Saturday’s Comedy Night\, hosted at The Bar @ Forty Niner. \nWe’re bringing together some of the best comic talent for an unforgettable night of stand-up comedy and great vibes. \nThis is a FREE\, Adult-only (21+) event. So gather your crew\, grab a drink\, and enjoy some seriously funny people! \nWe have an incredible lineup of comedians ready to deliver: \nJustin Pinzon\nPhil Gordon\nJose Joey\nDarryl Graves\nKenny Shade\nNicole Rieeso \nVisit our website for more information: www.fortyninercc.c \n 
URL:https://fortyninercc.com/event/third-saturdays-comedy-night-the-bar-forty-niner/
LOCATION:Forty Niner\, 12000 E. Tanque Verde\, Tucson\, AZ\, 85749\, United States
CATEGORIES:Community Events,Free Community Events
ATTACH;FMTTYPE=image/jpeg:https://fortyninercc.com/wp-content/uploads/2026/04/0418_ComedyNightScrren.jpg
ORGANIZER;CN="Forty Niner":MAILTO:cklok@fortyninercc.com
END:VEVENT
BEGIN:VEVENT
DTSTART;TZID=America/Phoenix:20260419T163000
DTEND;TZID=America/Phoenix:20260419T190000
DTSTAMP:20260423T124220
CREATED:20260325T194452Z
LAST-MODIFIED:20260325T194454Z
UID:5337-1776616200-1776625200@fortyninercc.com
SUMMARY:Forty Niner Member Appreciation Event
DESCRIPTION:RSVP Required\nTo ensure we have plenty of food and drink for everyone\, please confirm your attendance. \n\n\nContact: Casey at caseyp@fortyninercc.com \n\n\nTo our valued members: this evening is all about you! Join us for the Forty Niner Member Appreciation Event\, a special “thank you” for being a part of our community. \nWe’re closing out the weekend with an exclusive evening of relaxation and connection. Enjoy complimentary appetizers\, beer\, and wine while listening to live music—all on us. It’s the perfect opportunity to mingle with fellow members and enjoy the club atmosphere in an adults-only setting. \n\nMember-Exclusive Perks\n\n\nComplimentary Bites: A curated selection of appetizers. \n\n\nOpen Bar: Complimentary beer and wine throughout the event. \n\n\nLive Entertainment: Set the mood with live music on the patio.
URL:https://fortyninercc.com/event/forty-niner-member-appreciation-event-2/
LOCATION:Forty Niner\, 12000 E. Tanque Verde\, Tucson\, AZ\, 85749\, United States
CATEGORIES:Member Only Events
ATTACH;FMTTYPE=image/jpeg:https://fortyninercc.com/wp-content/uploads/2026/03/0419_MembersAppreciaiton.jpg
ORGANIZER;CN="Forty Niner":MAILTO:cklok@fortyninercc.com
END:VEVENT
BEGIN:VEVENT
DTSTART;TZID=America/Phoenix:20260420T180000
DTEND;TZID=America/Phoenix:20260420T200000
DTSTAMP:20260423T124220
CREATED:20260324T211415Z
LAST-MODIFIED:20260324T211417Z
UID:5325-1776708000-1776715200@fortyninercc.com
SUMMARY:Linedancing at Forty Niner
DESCRIPTION:Join us for an evening of line dancing with our very own instructor Viki Welling in the Pavilion at Forty Niner.\n\nOn Monday\, April 20th\, dust off your boots and get ready to groove! Check-in starts at 6:00 PM\, with dancing kicking off at 6:15 PM. For just $10\, you’ll get a rootin’ tootin’ good time\, including a drink ticket\, good for any domestic beer or house wine!\n\nKick up your heels and dance the night away with us!
URL:https://fortyninercc.com/event/linedancing-at-forty-niner-13/
LOCATION:Forty Niner\, 12000 E. Tanque Verde\, Tucson\, AZ\, 85749\, United States
CATEGORIES:Community Events
ATTACH;FMTTYPE=image/jpeg:https://fortyninercc.com/wp-content/uploads/2026/03/042026_LineDancing.jpg
ORGANIZER;CN="Forty Niner":MAILTO:cklok@fortyninercc.com
END:VEVENT
BEGIN:VEVENT
DTSTART;TZID=America/Phoenix:20260423T190000
DTEND;TZID=America/Phoenix:20260423T210000
DTSTAMP:20260423T124220
CREATED:20260324T024901Z
LAST-MODIFIED:20260324T024904Z
UID:5292-1776970800-1776978000@fortyninercc.com
SUMMARY:Thursday Night Bingo
DESCRIPTION:Join us every Thursday night for some exciting Thursday Night Bingo!\n\nGet your game face on and try your luck with our weekly bingo sessions starting at 7:00 PM.\n\nFor just $10 per packet\, you’ll have a chance to win some fun prizes! Plus\, enjoy our full food and drink service while you play.\n\nIt’s the perfect way to unwind and socialize mid-week!\n\nEmail: Casey Polivchak caseyp@fortyninercc.com for RSVPs
URL:https://fortyninercc.com/event/thursday-night-bingo-25/
LOCATION:Forty Niner\, 12000 E. Tanque Verde\, Tucson\, AZ\, 85749\, United States
CATEGORIES:Thursday Night Bingo
ATTACH;FMTTYPE=image/jpeg:https://fortyninercc.com/wp-content/uploads/2026/03/GenericBingoArtFile.jpg
ORGANIZER;CN="Forty Niner":MAILTO:cklok@fortyninercc.com
END:VEVENT
BEGIN:VEVENT
DTSTART;TZID=America/Phoenix:20260424T183000
DTEND;TZID=America/Phoenix:20260424T213000
DTSTAMP:20260423T124221
CREATED:20260324T031748Z
LAST-MODIFIED:20260324T031751Z
UID:5314-1777055400-1777066200@fortyninercc.com
SUMMARY:LIVE MUSIC – Vadana Hegde – The Bar @ Forty Niner
DESCRIPTION:Live Music with Vadana Hegde! \nWe’re thrilled to welcome Vadana Hegde to our stage for the very first time! Bringing a fresh Pop/Indie/Rock sound to the lineup\, she’s a must-see talent we can’t wait for you to hear. \nCome early\, grab a drink\, and experience an unforgettable evening of music and good vibes!
URL:https://fortyninercc.com/event/live-music-vadana-hegde-the-bar-forty-niner/
LOCATION:Forty Niner\, 12000 E. Tanque Verde\, Tucson\, AZ\, 85749\, United States
CATEGORIES:Free Live Music
ATTACH;FMTTYPE=image/jpeg:https://fortyninercc.com/wp-content/uploads/2026/03/042426_VadabaHegde.jpg
ORGANIZER;CN="Forty Niner":MAILTO:cklok@fortyninercc.com
END:VEVENT
BEGIN:VEVENT
DTSTART;TZID=America/Phoenix:20260425T183000
DTEND;TZID=America/Phoenix:20260425T213000
DTSTAMP:20260423T124221
CREATED:20260325T193731Z
LAST-MODIFIED:20260325T193733Z
UID:5328-1777141800-1777152600@fortyninercc.com
SUMMARY:LIVE MUSIC - Cassio - The Bar @ Forty Niner
DESCRIPTION:Experience an evening of high-energy performance as Cassio takes the stage at Forty Niner. This live session brings together an eclectic blend of Rock and Country\, promising a soulful yet rugged soundscape perfect for a Saturday night in the desert. \n\n\n\n\n\n\nWhether you’re there for the storytelling of country or the raw edge of rock\, Cassio’s unique artistry provides the perfect backdrop for great food\, drinks\, and company.
URL:https://fortyninercc.com/event/live-music-cassio-the-bar-forty-niner/
LOCATION:Forty Niner\, 12000 E. Tanque Verde\, Tucson\, AZ\, 85749\, United States
CATEGORIES:Free Live Music
ATTACH;FMTTYPE=image/jpeg:https://fortyninercc.com/wp-content/uploads/2026/03/042526_Cassio.jpg
ORGANIZER;CN="Forty Niner":MAILTO:cklok@fortyninercc.com
END:VEVENT
BEGIN:VEVENT
DTSTART;TZID=America/Phoenix:20260430T190000
DTEND;TZID=America/Phoenix:20260430T210000
DTSTAMP:20260423T124221
CREATED:20260324T024949Z
LAST-MODIFIED:20260324T024950Z
UID:5294-1777575600-1777582800@fortyninercc.com
SUMMARY:Thursday Night Bingo
DESCRIPTION:Join us every Thursday night for some exciting Thursday Night Bingo!\n\nGet your game face on and try your luck with our weekly bingo sessions starting at 7:00 PM.\n\nFor just $10 per packet\, you’ll have a chance to win some fun prizes! Plus\, enjoy our full food and drink service while you play.\n\nIt’s the perfect way to unwind and socialize mid-week!\n\nEmail: Casey Polivchak caseyp@fortyninercc.com for RSVPs
URL:https://fortyninercc.com/event/thursday-night-bingo-26/
LOCATION:Forty Niner\, 12000 E. Tanque Verde\, Tucson\, AZ\, 85749\, United States
CATEGORIES:Thursday Night Bingo
ATTACH;FMTTYPE=image/jpeg:https://fortyninercc.com/wp-content/uploads/2026/03/GenericBingoArtFile.jpg
ORGANIZER;CN="Forty Niner":MAILTO:cklok@fortyninercc.com
END:VEVENT
BEGIN:VEVENT
DTSTART;TZID=America/Phoenix:20261120T140000
DTEND;TZID=America/Phoenix:20261122T150000
DTSTAMP:20260423T124221
CREATED:20260327T181016Z
LAST-MODIFIED:20260408T171116Z
UID:5346-1795183200-1795359600@fortyninercc.com
SUMMARY:2nd Annual Forty Niner Golden Nugget Invitational
DESCRIPTION:Get ready for one of the most anticipated events on the desert golf calendar! The 2nd Annual Forty Niner Golden Nugget Invitational is returning this fall\, offering three days of premier competition\, camaraderie\, and the stunning backdrop of the Southwest landscape.\n\nSet against the rugged beauty of the mountains and towering saguaros\, this invitational brings together top-tier players for a weekend of high-stakes golf and legendary hospitality. Whether you’re coming for the competitive edge or the social atmosphere\, the Golden Nugget promises an unforgettable experience on the green.\n\nWhat to Expect-\n\nDay 1: The KickoffWe start things off with a high-energy Par 3\, 9-Hole Social Shootout. This is the perfect opportunity to dial in your short game and get a feel for the greens. Following the round\, join us for a Social Hour to connect with fellow competitors and toast to the weekend ahead.\n\nDay 2: The Opening RoundThe stakes rise as we move into the first round of the 18-hole tournament. Precision and strategy will be key as the field begins its quest for the leaderboard. After a full day on the course\, players are invited to an Exclusive Formal Dinner\, a sophisticated evening dedicated to celebrating the spirit of the game.\n\nDay 3: The Championship RoundIt all comes down to this. The tournament concludes with the Final Championship Round\, where the top players face off under the desert sun to see who will walk away with the Golden Nugget title.\n\nDesert Views: Enjoy the unique\, golden-hour aesthetics of our desert mountain setting.\n\nExclusive Networking: Connect with fellow golf enthusiasts and community members during and after the rounds.\n\nStay Tuned: Full registration details\, tournament brackets\, and social event schedules are coming soon.\n\nRegistration will open for members Wednesday\, April 8 and sign ups will be available online or in the ProShop.
URL:https://fortyninercc.com/event/2nd-annual-forty-niner-golden-nugget-invitational/
LOCATION:Forty Niner\, 12000 E. Tanque Verde\, Tucson\, AZ\, 85749\, United States
CATEGORIES:Community Events,Golf Events
ATTACH;FMTTYPE=image/jpeg:https://fortyninercc.com/wp-content/uploads/2026/03/112026_GoldenNugget.jpg
ORGANIZER;CN="Forty Niner":MAILTO:cklok@fortyninercc.com
END:VEVENT
END:VCALENDAR