BEGIN:VCALENDAR
VERSION:2.0
PRODID:-//Forty Niner - ECPv6.15.20//NONSGML v1.0//EN
CALSCALE:GREGORIAN
METHOD:PUBLISH
X-WR-CALNAME:Forty Niner
X-ORIGINAL-URL:https://fortyninercc.com
X-WR-CALDESC:Events for Forty Niner
REFRESH-INTERVAL;VALUE=DURATION:PT1H
X-Robots-Tag:noindex
X-PUBLISHED-TTL:PT1H
BEGIN:VTIMEZONE
TZID:America/Phoenix
BEGIN:STANDARD
TZOFFSETFROM:-0700
TZOFFSETTO:-0700
TZNAME:MST
DTSTART:20240101T000000
END:STANDARD
END:VTIMEZONE
BEGIN:VTIMEZONE
TZID:America/Denver
BEGIN:DAYLIGHT
TZOFFSETFROM:-0700
TZOFFSETTO:-0600
TZNAME:MDT
DTSTART:20240310T090000
END:DAYLIGHT
BEGIN:STANDARD
TZOFFSETFROM:-0600
TZOFFSETTO:-0700
TZNAME:MST
DTSTART:20241103T080000
END:STANDARD
BEGIN:DAYLIGHT
TZOFFSETFROM:-0700
TZOFFSETTO:-0600
TZNAME:MDT
DTSTART:20250309T090000
END:DAYLIGHT
BEGIN:STANDARD
TZOFFSETFROM:-0600
TZOFFSETTO:-0700
TZNAME:MST
DTSTART:20251102T080000
END:STANDARD
BEGIN:DAYLIGHT
TZOFFSETFROM:-0700
TZOFFSETTO:-0600
TZNAME:MDT
DTSTART:20260308T090000
END:DAYLIGHT
BEGIN:STANDARD
TZOFFSETFROM:-0600
TZOFFSETTO:-0700
TZNAME:MST
DTSTART:20261101T080000
END:STANDARD
END:VTIMEZONE
BEGIN:VEVENT
DTSTART;TZID=America/Phoenix:20250702T190000
DTEND;TZID=America/Phoenix:20250702T210000
DTSTAMP:20260423T205620
CREATED:20250501T192559Z
LAST-MODIFIED:20250702T225857Z
UID:2473-1751482800-1751490000@fortyninercc.com
SUMMARY:Bingo Night at Forty Niner!
DESCRIPTION:Join us every Thursday night for some exciting Thursday Night Bingo!\n\nGet your game face on and try your luck with our weekly bingo sessions starting at 7:00 PM.\n\nFor just $10 per packet\, you’ll have a chance to win some fun prizes! Plus\, enjoy our full food and drink service while you play.\n\nIt’s the perfect way to unwind and socialize mid-week!\n\nEmail: Casey Polivchak caseyp@fortyninercc.com for RSVPs
URL:https://fortyninercc.com/event/bingo-night-at-forty-niner-10/
LOCATION:Forty Niner\, 12000 E. Tanque Verde\, Tucson\, AZ\, 85749\, United States
CATEGORIES:Thursday Night Bingo
ATTACH;FMTTYPE=image/jpeg:https://fortyninercc.com/wp-content/uploads/2025/04/ThursdayBingo-scaled.jpg
ORGANIZER;CN="Forty Niner":MAILTO:cklok@fortyninercc.com
END:VEVENT
BEGIN:VEVENT
DTSTART;TZID=America/Denver:20250704T193000
DTEND;TZID=America/Denver:20250704T210000
DTSTAMP:20260423T205620
CREATED:20250701T192702Z
LAST-MODIFIED:20250701T194805Z
UID:3259-1751657400-1751662800@fortyninercc.com
SUMMARY:Forty Niner Summer Dive In Movie - The Sandlot
DESCRIPTION:⚾🎆 You’re killin’ me\, Smalls — don’t miss this!Join us for a classic Summer Dive-In Movie at Forty Niner featuring the all-time favorite\, The Sandlot! Celebrate July 4th with fireworks\, floaties\, and feel-good nostalgia. \n📅 Friday\, July 4th | 7:30pmGrab your swimsuits\, your coolest pool floats\, and get ready to watch the gang hit homers and get into hilarious trouble — all from the comfort of the pool! \nIt’s the perfect mix of summer\, baseball\, and backyard adventure — with a splash of patriotic fun. Whether you’re reliving your childhood or introducing the kids to this timeless gem\, The Sandlot is a home run for the whole family. \nWe’ll see you poolside for a star-spangled night of laughs\, friendship\, and movie magic! 🇺🇸🍿🌭
URL:https://fortyninercc.com/event/forty-niner-summer-dive-in-movie-the-sandlot/
LOCATION:Forty Niner\, 12000 E. Tanque Verde\, Tucson\, AZ\, 85749\, United States
CATEGORIES:Free Community Events
ATTACH;FMTTYPE=image/jpeg:https://fortyninercc.com/wp-content/uploads/2025/07/070425_SummerDiveInMovie.jpg
ORGANIZER;CN="Forty Niner":MAILTO:cklok@fortyninercc.com
END:VEVENT
BEGIN:VEVENT
DTSTART;TZID=America/Denver:20250705T193000
DTEND;TZID=America/Denver:20250705T210000
DTSTAMP:20260423T205620
CREATED:20250701T191900Z
LAST-MODIFIED:20250701T194538Z
UID:3256-1751743800-1751749200@fortyninercc.com
SUMMARY:Forty Niner Summer Dive In Movie - Miracle
DESCRIPTION:🏒Get ready for a night of inspiration under the stars!Join us for a powerful Summer Dive-In Movie at Forty Niner featuring the uplifting sports drama\, Miracle — the true story of the legendary 1980 U.S. Olympic hockey team! \n📅 Mark your calendars for Saturday\, July 5th\, | 7:30pm.Bring your swimsuits\, your favorite pool floats\, and dive into an unforgettable evening of teamwork\, determination\, and American pride — all from the cool comfort of the pool! \nFeel the adrenaline and heart of one of the greatest moments in sports history\, surrounded by family\, friends\, and floating fun. \nWe can’t wait to see you there for a splash-worthy movie night that will leave you cheering! 🏊‍♂️🎥🏆
URL:https://fortyninercc.com/event/forty-niner-summer-dive-in-movie-miracle/
LOCATION:Forty Niner\, 12000 E. Tanque Verde\, Tucson\, AZ\, 85749\, United States
CATEGORIES:Free Community Events
ATTACH;FMTTYPE=image/jpeg:https://fortyninercc.com/wp-content/uploads/2025/07/070525_SummerDiveInMovie.jpg
ORGANIZER;CN="Forty Niner":MAILTO:cklok@fortyninercc.com
END:VEVENT
BEGIN:VEVENT
DTSTART;TZID=America/Denver:20250709T180000
DTEND;TZID=America/Denver:20250709T210000
DTSTAMP:20260423T205621
CREATED:20250701T202238Z
LAST-MODIFIED:20250709T173629Z
UID:3275-1752084000-1752094800@fortyninercc.com
SUMMARY:Team Trivia
DESCRIPTION:Join Chris for this months team Trivia in the Dining Room! Come taste some of the new menu offerings while nerding out with your favorite people! \nTeams up to 8 People!
URL:https://fortyninercc.com/event/team-trivia-4/
LOCATION:Forty Niner\, 12000 E. Tanque Verde\, Tucson\, AZ\, 85749\, United States
CATEGORIES:Free Community Events
ATTACH;FMTTYPE=image/jpeg:https://fortyninercc.com/wp-content/uploads/2025/07/0709_TeamTrivia.jpg
ORGANIZER;CN="Forty Niner":MAILTO:cklok@fortyninercc.com
END:VEVENT
BEGIN:VEVENT
DTSTART;TZID=America/Phoenix:20250710T190000
DTEND;TZID=America/Phoenix:20250710T210000
DTSTAMP:20260423T205621
CREATED:20250501T192624Z
LAST-MODIFIED:20250501T192624Z
UID:2475-1752174000-1752181200@fortyninercc.com
SUMMARY:Bingo Night at Forty Niner!
DESCRIPTION:Join us every Thursday night for some exciting Thursday Night Bingo!\n\nGet your game face on and try your luck with our weekly bingo sessions starting at 7:00 PM.\n\nFor just $10 per packet\, you’ll have a chance to win some fun prizes! Plus\, enjoy our full food and drink service while you play.\n\nIt’s the perfect way to unwind and socialize mid-week!\n\nEmail: Casey Polivchak caseyp@fortyninercc.com for RSVPs
URL:https://fortyninercc.com/event/bingo-night-at-forty-niner-11/
LOCATION:Forty Niner\, 12000 E. Tanque Verde\, Tucson\, AZ\, 85749\, United States
CATEGORIES:Thursday Night Bingo
ATTACH;FMTTYPE=image/jpeg:https://fortyninercc.com/wp-content/uploads/2025/04/ThursdayBingo-scaled.jpg
ORGANIZER;CN="Forty Niner":MAILTO:cklok@fortyninercc.com
END:VEVENT
BEGIN:VEVENT
DTSTART;TZID=America/Denver:20250711T190000
DTEND;TZID=America/Denver:20250711T210000
DTSTAMP:20260423T205621
CREATED:20250701T215317Z
LAST-MODIFIED:20250701T221503Z
UID:3292-1752260400-1752267600@fortyninercc.com
SUMMARY:DJ BY THE POOL - DJ MASSI
DESCRIPTION:Get ready to groove poolside at Forty Niner!\nJoin us Friday\, July 11th\, 7:00-9:00 PM for a vibrant evening with guest DJ Massi\nWhere the fairways fade\, the night begins — dance under the desert stars
URL:https://fortyninercc.com/event/dj-by-the-pool-dj-massi/
LOCATION:Forty Niner\, 12000 E. Tanque Verde\, Tucson\, AZ\, 85749\, United States
CATEGORIES:Free Live Music
ATTACH;FMTTYPE=image/jpeg:https://fortyninercc.com/wp-content/uploads/2025/07/Pink-and-Blue-Illustrative-Pool-Party-Invitation.jpg
ORGANIZER;CN="Forty Niner":MAILTO:cklok@fortyninercc.com
END:VEVENT
BEGIN:VEVENT
DTSTART;TZID=America/Denver:20250712T180000
DTEND;TZID=America/Denver:20250712T210000
DTSTAMP:20260423T205621
CREATED:20250701T214811Z
LAST-MODIFIED:20250701T215113Z
UID:3283-1752343200-1752354000@fortyninercc.com
SUMMARY:LIVE MUSIC – Whiskey & Wine – The Bar @ Forty Niner
DESCRIPTION:Join us on Saturday\, July 12th\, 2025\, from 6:00 PM to 9:00 PM for an evening of live acoustic music with the Whiskey & Wine Acoustic Duo!\n\nThis talented pair brings you the best acoustic hits from the ’60s through today\, blending timeless classics with modern favorites. Whether you’re out for dinner\, drinks\, or just good vibes\, their smooth sound and rich harmonies make the perfect backdrop for a great night at Forty Niner.\n\nDon’t miss it—great music\, great atmosphere\, and a great time!\n\nWhiskey & Wine Facebook Page
URL:https://fortyninercc.com/event/live-music-whiskey-wine-the-bar-forty-niner/
LOCATION:Forty Niner\, 12000 E. Tanque Verde\, Tucson\, AZ\, 85749\, United States
CATEGORIES:Free Live Music
ATTACH;FMTTYPE=image/jpeg:https://fortyninercc.com/wp-content/uploads/2025/07/071225_WhiskeyWine-1.jpg
ORGANIZER;CN="Forty Niner":MAILTO:cklok@fortyninercc.com
END:VEVENT
BEGIN:VEVENT
DTSTART;TZID=America/Denver:20250716T190000
DTEND;TZID=America/Denver:20250716T210000
DTSTAMP:20260423T205621
CREATED:20250708T175503Z
LAST-MODIFIED:20250708T175503Z
UID:3360-1752692400-1752699600@fortyninercc.com
SUMMARY:Bingo Night at Forty Niner!
DESCRIPTION:Join us every Thursday night for some exciting Thursday Night Bingo!\n\nGet your game face on and try your luck with our weekly bingo sessions starting at 7:00 PM.\nFor just $10 per packet\, you’ll have a chance to win some fun prizes! Plus\, enjoy our full food and drink service while you play.\nIt’s the perfect way to unwind and socialize mid-week!\nEmail: Casey Polivchak caseyp@fortyninercc.com for RSVPs
URL:https://fortyninercc.com/event/bingo-night-at-forty-niner-12/
LOCATION:Forty Niner\, 12000 E. Tanque Verde\, Tucson\, AZ\, 85749\, United States
CATEGORIES:Thursday Night Bingo
ATTACH;FMTTYPE=image/jpeg:https://fortyninercc.com/wp-content/uploads/2025/04/ThursdayBingo-scaled.jpg
ORGANIZER;CN="Forty Niner":MAILTO:cklok@fortyninercc.com
END:VEVENT
BEGIN:VEVENT
DTSTART;TZID=America/Denver:20250718T190000
DTEND;TZID=America/Denver:20250718T210000
DTSTAMP:20260423T205621
CREATED:20250701T215416Z
LAST-MODIFIED:20250701T221558Z
UID:3294-1752865200-1752872400@fortyninercc.com
SUMMARY:DJ By The Pool – Guest DJ – PICO DE GALLO
DESCRIPTION:Get ready to groove poolside at Forty Niner!\nJoin us Friday\, July 18th\, 7:00-9:00 PM for a vibrant evening with guest DJ Pico De Gallo spinning the tunes.\nWhen the sun sets\, we turn up — join us for a night of music under the stars.
URL:https://fortyninercc.com/event/dj-by-the-pool-dj-pico-de-gallo/
LOCATION:Forty Niner\, 12000 E. Tanque Verde\, Tucson\, AZ\, 85749\, United States
CATEGORIES:Free Live Music
ATTACH;FMTTYPE=image/jpeg:https://fortyninercc.com/wp-content/uploads/2025/07/Pico-De-Gallo-.jpg
ORGANIZER;CN="Forty Niner":MAILTO:cklok@fortyninercc.com
END:VEVENT
BEGIN:VEVENT
DTSTART;TZID=America/Denver:20250719T193000
DTEND;TZID=America/Denver:20250719T210000
DTSTAMP:20260423T205621
CREATED:20250701T193300Z
LAST-MODIFIED:20250701T194611Z
UID:3262-1752953400-1752958800@fortyninercc.com
SUMMARY:Forty Niner Summer Dive In Movie - The Goonies
DESCRIPTION:💎🏴‍☠️ Hey you guys!Get ready for an epic night of treasure-hunting fun at our Summer Dive-In Movie at Forty Niner featuring the cult classic\, The Goonies! \n📅 Saturday\, July 19th | 7:30 PMSuit up in your swimsuits\, grab your favorite pool floats\, and join Mikey\, Chunk\, Data\, and the gang on a wild ride — all from the refreshing comfort of the pool! \nFrom secret maps to booby traps\, it’s a splashing good time full of laughs\, adventure\, and heart. Whether you’re a longtime fan or watching it for the first time\, The Goonies is the ultimate summer throwback for the whole family. \nSo pack your treasure-hunting spirit and join us for a poolside movie night that’s sure to make you say\, “Goonies never say die!” 🏊‍♀️🍿🗺️
URL:https://fortyninercc.com/event/forty-niner-summer-dive-in-movie-the-goonies/
LOCATION:Forty Niner\, 12000 E. Tanque Verde\, Tucson\, AZ\, 85749\, United States
CATEGORIES:Free Community Events
ATTACH;FMTTYPE=image/jpeg:https://fortyninercc.com/wp-content/uploads/2025/07/071925_SummerDiveInMovie.jpg
ORGANIZER;CN="Forty Niner":MAILTO:cklok@fortyninercc.com
END:VEVENT
BEGIN:VEVENT
DTSTART;TZID=America/Denver:20250721T180000
DTEND;TZID=America/Denver:20250721T200000
DTSTAMP:20260423T205621
CREATED:20250701T195043Z
LAST-MODIFIED:20250701T195043Z
UID:3272-1753120800-1753128000@fortyninercc.com
SUMMARY:Linedancing at Forty Niner
DESCRIPTION: Dust off your boots and get ready to groove!Join us for Line Dancing at Forty Niner with the fantastic instructor Viki Welling! Monday\, July 21st\, 2025 6:00 PM Check-in | 6:15 PM Dancing $10 (includes a drink ticket!)Kick up your heels and dance the night away with us! It’s going to be a rootin’ tootin’ good time!
URL:https://fortyninercc.com/event/linedancing-at-forty-niner-5/
LOCATION:Forty Niner\, 12000 E. Tanque Verde\, Tucson\, AZ\, 85749\, United States
CATEGORIES:Fitness Events
ATTACH;FMTTYPE=image/jpeg:https://fortyninercc.com/wp-content/uploads/2025/07/072125_LineDancing.jpg
ORGANIZER;CN="Forty Niner":MAILTO:cklok@fortyninercc.com
END:VEVENT
BEGIN:VEVENT
DTSTART;TZID=America/Denver:20250722T180000
DTEND;TZID=America/Denver:20250722T210000
DTSTAMP:20260423T205621
CREATED:20250707T192821Z
LAST-MODIFIED:20250711T192417Z
UID:3352-1753207200-1753218000@fortyninercc.com
SUMMARY:SWAS End of Season Banquet
DESCRIPTION:Celebrate a successful season at the SWAS End of Season Banquet! Join Southwest Aquatic Sports for a fun evening featuring a delicious taco bar. The banquet will be held on Sunday\, June 20th\, from 6:00 PM to 8:00 PM. \nThe listed price includes food for the SWAS End-of-Season Banquet. All other transactions related to this event\, are the sole responsibility of the attendee. \nWhat’s on the Taco Bar?\nShredded Chicken and Ground Beef\, Red Salsa\, Shredded Cheese\, Shredded Lettuce\, Guacamole\, Diced Tomatoes\, Sour Cream\, Tortilla Chips\, Refried Beans\, Spanish Rice\, Cinnamon Sugar Churros with your choice or Flour or Corn Tortilla
URL:https://fortyninercc.com/event/swas-end-of-season-banquet/
LOCATION:Forty Niner\, 12000 E. Tanque Verde\, Tucson\, AZ\, 85749\, United States
CATEGORIES:Hosted Event Tickets
ATTACH;FMTTYPE=image/png:https://fortyninercc.com/wp-content/uploads/2025/07/image0-1.png
END:VEVENT
BEGIN:VEVENT
DTSTART;TZID=America/Denver:20250723T180000
DTEND;TZID=America/Denver:20250723T210000
DTSTAMP:20260423T205621
CREATED:20250702T221723Z
LAST-MODIFIED:20250711T174303Z
UID:3310-1753293600-1753304400@fortyninercc.com
SUMMARY:Forty Niner Poggio Anima Wine Dinner
DESCRIPTION:🍷 Join Us for an Elegant Evening of Wine & Dining!\nForty Niner is proud to present the Poggio Anima Wine Dinner on July 23rd\, 2025 — a special night featuring 3 courses expertly paired with 3 exceptional wines. \n📍 6–9 PM | $65++ per guest (plus tax & gratuity)\n🍽️ Menu coming soon\n📲 Reserve your seat by scanning the QR code or clicking this link! \nBook Your Poggio Anima Wine Dinner Event With Forty Niner Country Club on Resy \nSip\, savor\, and celebrate the summer with us in style. Cheers!
URL:https://fortyninercc.com/event/poggio-anima-wine-dinner/
LOCATION:Forty Niner\, 12000 E. Tanque Verde\, Tucson\, AZ\, 85749\, United States
CATEGORIES:Restaurant Events
ATTACH;FMTTYPE=image/png:https://fortyninercc.com/wp-content/uploads/2025/07/July-Wine-Dinner-Menu-4-x-6-in-e1752254991628.png
ORGANIZER;CN="Forty Niner":MAILTO:cklok@fortyninercc.com
END:VEVENT
BEGIN:VEVENT
DTSTART;TZID=America/Phoenix:20250724T190000
DTEND;TZID=America/Phoenix:20250724T210000
DTSTAMP:20260423T205621
CREATED:20250501T192656Z
LAST-MODIFIED:20250501T192656Z
UID:2477-1753383600-1753390800@fortyninercc.com
SUMMARY:Bingo Night at Forty Niner!
DESCRIPTION:Join us every Thursday night for some exciting Thursday Night Bingo!\n\nGet your game face on and try your luck with our weekly bingo sessions starting at 7:00 PM.\n\nFor just $10 per packet\, you’ll have a chance to win some fun prizes! Plus\, enjoy our full food and drink service while you play.\n\nIt’s the perfect way to unwind and socialize mid-week!\n\nEmail: Casey Polivchak caseyp@fortyninercc.com for RSVPs
URL:https://fortyninercc.com/event/bingo-night-at-forty-niner-13/
LOCATION:Forty Niner\, 12000 E. Tanque Verde\, Tucson\, AZ\, 85749\, United States
CATEGORIES:Thursday Night Bingo
ATTACH;FMTTYPE=image/jpeg:https://fortyninercc.com/wp-content/uploads/2025/04/ThursdayBingo-scaled.jpg
ORGANIZER;CN="Forty Niner":MAILTO:cklok@fortyninercc.com
END:VEVENT
BEGIN:VEVENT
DTSTART;TZID=America/Denver:20250726T193000
DTEND;TZID=America/Denver:20250726T210000
DTSTAMP:20260423T205621
CREATED:20250701T193725Z
LAST-MODIFIED:20250701T193725Z
UID:3265-1753558200-1753563600@fortyninercc.com
SUMMARY:Forty Niner Summer Dive In Movie - Moana
DESCRIPTION:🌺🌊 Set sail for a magical movie night under the stars!Join us at Forty Niner for a Summer Dive-In Movie featuring Disney’s Moana — the epic adventure of courage\, heart\, and finding your true way. \n📅 Saturday\, July 26th | 7:30 PMBring your swimsuits\, your favorite pool floats\, and get ready to watch Moana and Maui journey across the ocean — all while you float in the pool under the night sky! \nWith unforgettable music\, lovable characters\, and island vibes\, this is the perfect summer night for the whole family. Whether you’re singing along to “How Far I’ll Go” or just soaking in the splashy fun\, it’s a night you won’t want to miss. \nWe can’t wait to see you there for a wave of adventure\, laughter\, and movie magic! 🐚🎥🏝️
URL:https://fortyninercc.com/event/forty-niner-summer-dive-in-movie-moana/
LOCATION:Forty Niner\, 12000 E. Tanque Verde\, Tucson\, AZ\, 85749\, United States
CATEGORIES:Free Community Events
ATTACH;FMTTYPE=image/jpeg:https://fortyninercc.com/wp-content/uploads/2025/07/072625_SummerDiveInMovie.jpg
ORGANIZER;CN="Forty Niner":MAILTO:cklok@fortyninercc.com
END:VEVENT
BEGIN:VEVENT
DTSTART;TZID=America/Denver:20250731T080000
DTEND;TZID=America/Denver:20250731T100000
DTSTAMP:20260423T205621
CREATED:20250701T204429Z
LAST-MODIFIED:20250701T223003Z
UID:3279-1753948800-1753956000@fortyninercc.com
SUMMARY:Mom's & Mimosas
DESCRIPTION:Celebrate the first day of school with a well-deserved morning out at the Rincon Mountain Grill at Forty Niner “Moms and Mimosas” event! \nJoin us on Thursday\, July 31st\, 2025\, from 8:00 A.M. to 10:00 A.M.\, for a relaxing and refreshing start to the school year. \nEnjoy $6 mimosas and $5 avocado toast in a cozy\, inviting atmosphere filled with citrusy charm and good vibes. \nIt’s the perfect chance for moms (and friends!) to unwind\, catch up\, and toast to the new school year. \nWhether you’re celebrating sending the kids off or just looking for a peaceful morning\, this is your moment!
URL:https://fortyninercc.com/event/moms-mimosas/
LOCATION:Forty Niner\, 12000 E. Tanque Verde\, Tucson\, AZ\, 85749\, United States
CATEGORIES:Restaurant Events
ATTACH;FMTTYPE=image/jpeg:https://fortyninercc.com/wp-content/uploads/2025/07/073125_MomsMimosas.jpg
ORGANIZER;CN="Forty Niner":MAILTO:cklok@fortyninercc.com
END:VEVENT
END:VCALENDAR