BEGIN:VCALENDAR
VERSION:2.0
PRODID:-//Forty Niner - ECPv6.15.20//NONSGML v1.0//EN
CALSCALE:GREGORIAN
METHOD:PUBLISH
X-WR-CALNAME:Forty Niner
X-ORIGINAL-URL:https://fortyninercc.com
X-WR-CALDESC:Events for Forty Niner
REFRESH-INTERVAL;VALUE=DURATION:PT1H
X-Robots-Tag:noindex
X-PUBLISHED-TTL:PT1H
BEGIN:VTIMEZONE
TZID:America/Phoenix
BEGIN:STANDARD
TZOFFSETFROM:-0700
TZOFFSETTO:-0700
TZNAME:MST
DTSTART:20240101T000000
END:STANDARD
END:VTIMEZONE
BEGIN:VEVENT
DTSTART;TZID=America/Phoenix:20251226T080000
DTEND;TZID=America/Phoenix:20260109T180000
DTSTAMP:20260423T104933
CREATED:20251126T192229Z
LAST-MODIFIED:20251126T192229Z
UID:4707-1766736000-1767981600@fortyninercc.com
SUMMARY:Forty Niner Treecycle Fest
DESCRIPTION:Give your natural Christmas tree a second life! The Forty Niner is offering tree recycling for all members and neighbors. Instead of discarding your tree\, drop it off with us\, and we will chip it for use as mulch right here on the golf course. \nThe Treecycle Fest runs from December 26 through January 9. Please bring your tree to the designated area in the lot by the driving range (the curve on Forty Niner Dr.). \nTo ensure a smooth chipping process\, please make sure your tree is clean and free of all decorations\, including ornaments\, tinsel\, lights\, and stands. Your participation helps us support a beautiful\, sustainable course!
URL:https://fortyninercc.com/event/forty-niner-treecycle-fest/
LOCATION:Forty Niner\, 12000 E. Tanque Verde\, Tucson\, AZ\, 85749\, United States
ATTACH;FMTTYPE=image/jpeg:https://fortyninercc.com/wp-content/uploads/2025/11/1226_TreecycleFest-scaled.jpg
ORGANIZER;CN="Forty Niner":MAILTO:cklok@fortyninercc.com
END:VEVENT
BEGIN:VEVENT
DTSTART;TZID=America/Phoenix:20260101T190000
DTEND;TZID=America/Phoenix:20260101T210000
DTSTAMP:20260423T104933
CREATED:20251226T173733Z
LAST-MODIFIED:20251226T173735Z
UID:4776-1767294000-1767301200@fortyninercc.com
SUMMARY:Thursday Night Bingo
DESCRIPTION:Join us every Thursday night for some exciting Thursday Night Bingo!\n\nGet your game face on and try your luck with our weekly bingo sessions starting at 7:00 PM.\n\nFor just $10 per packet\, you’ll have a chance to win some fun prizes! Plus\, enjoy our full food and drink service while you play.\n\nIt’s the perfect way to unwind and socialize mid-week!\n\nEmail: Casey Polivchak caseyp@fortyninercc.com for RSVPs
URL:https://fortyninercc.com/event/thursday-night-bingo-13/
LOCATION:Forty Niner\, 12000 E. Tanque Verde\, Tucson\, AZ\, 85749\, United States
CATEGORIES:Thursday Night Bingo
ATTACH;FMTTYPE=image/jpeg:https://fortyninercc.com/wp-content/uploads/2025/12/01.01.26_Bingo.jpg
ORGANIZER;CN="Forty Niner":MAILTO:cklok@fortyninercc.com
END:VEVENT
BEGIN:VEVENT
DTSTART;TZID=America/Phoenix:20260102T180000
DTEND;TZID=America/Phoenix:20260102T210000
DTSTAMP:20260423T104933
CREATED:20251126T195211Z
LAST-MODIFIED:20251126T195213Z
UID:4720-1767376800-1767387600@fortyninercc.com
SUMMARY:LIVE MUSIC – Paul Opocensky Project – The Bar @ Forty Niner
DESCRIPTION:Live Music with The Paul Opocensky Project at Forty Niner \nFriday\, January 2nd | 6:00 PM – 9:00 PMWelcome back to The Bar @ Forty Niner! Join us for an evening of amazing live music with The Paul Opocensky Project. Bring a blanket or lawn chair and enjoy great tunes and good vibes outdoors. \nFree performance for all to enjoy.
URL:https://fortyninercc.com/event/live-music-paul-opocensky-project-the-bar-forty-niner-7/
LOCATION:Forty Niner\, 12000 E. Tanque Verde\, Tucson\, AZ\, 85749\, United States
CATEGORIES:Free Live Music
ATTACH;FMTTYPE=image/jpeg:https://fortyninercc.com/wp-content/uploads/2025/11/01.02.26_PaulOpocenskyProject.jpg
ORGANIZER;CN="Forty Niner":MAILTO:cklok@fortyninercc.com
END:VEVENT
BEGIN:VEVENT
DTSTART;TZID=America/Phoenix:20260103T180000
DTEND;TZID=America/Phoenix:20260103T210000
DTSTAMP:20260423T104933
CREATED:20251226T172536Z
LAST-MODIFIED:20251226T172538Z
UID:4773-1767463200-1767474000@fortyninercc.com
SUMMARY:LIVE MUSIC – Asphalt Astronaut – The Bar @ Forty Niner
DESCRIPTION:Live Music with Asphalt Astronaut at Forty Niner \nSaturday\, January 3rd | 6:00 PM – 9:00 PMWelcome back to The Bar @ Forty Niner! Join us for an evening of amazing live music with Asphalt Astronaut. Bring a blanket or lawn chair and enjoy great tunes and good vibes outdoors. \nFree performance for all to enjoy.
URL:https://fortyninercc.com/event/live-music-asphalt-astronaut-the-bar-forty-niner-4/
LOCATION:Forty Niner\, 12000 E. Tanque Verde\, Tucson\, AZ\, 85749\, United States
CATEGORIES:Free Live Music
ATTACH;FMTTYPE=image/jpeg:https://fortyninercc.com/wp-content/uploads/2025/12/01.03.26_AsphaltAstronaut.jpg
ORGANIZER;CN="Forty Niner":MAILTO:cklok@fortyninercc.com
END:VEVENT
BEGIN:VEVENT
DTSTART;TZID=America/Phoenix:20260108T180000
DTEND;TZID=America/Phoenix:20260108T210000
DTSTAMP:20260423T104933
CREATED:20251226T211609Z
LAST-MODIFIED:20251226T211611Z
UID:4780-1767895200-1767906000@fortyninercc.com
SUMMARY:Thursday Night Bingo
DESCRIPTION:Join us every Thursday night for some exciting Thursday Night Bingo!\n\nGet your game face on and try your luck with our weekly bingo sessions starting at 7:00 PM.\n\nFor just $10 per packet\, you’ll have a chance to win some fun prizes! Plus\, enjoy our full food and drink service while you play.\n\nIt’s the perfect way to unwind and socialize mid-week!\n\nEmail: Casey Polivchak caseyp@fortyninercc.com for RSVPs
URL:https://fortyninercc.com/event/thursday-night-bingo-14/
LOCATION:Forty Niner\, 12000 E. Tanque Verde\, Tucson\, AZ\, 85749\, United States
CATEGORIES:Thursday Night Bingo
ATTACH;FMTTYPE=image/jpeg:https://fortyninercc.com/wp-content/uploads/2025/12/01.08.26_Bingo.jpg
ORGANIZER;CN="Forty Niner":MAILTO:cklok@fortyninercc.com
END:VEVENT
BEGIN:VEVENT
DTSTART;TZID=America/Phoenix:20260109T180000
DTEND;TZID=America/Phoenix:20260109T210000
DTSTAMP:20260423T104933
CREATED:20260109T194855Z
LAST-MODIFIED:20260109T194857Z
UID:4843-1767981600-1767992400@fortyninercc.com
SUMMARY:LIVE MUSIC – Caleb Bloom – The Bar @ Forty Niner
DESCRIPTION:Live Music with Caleb Bloom at Forty Niner \nFriday\, January 9th | 6:00 PM – 9:00 PMWelcome back to The Bar @ Forty Niner! Join us for an evening of amazing live music with Caleb Bloom. Bring a blanket or lawn chair and enjoy great tunes and good vibes outdoors. \nFree performance for all to enjoy.
URL:https://fortyninercc.com/event/live-music-caleb-bloom-the-bar-forty-niner-4/
LOCATION:Forty Niner\, 12000 E. Tanque Verde\, Tucson\, AZ\, 85749\, United States
CATEGORIES:Free Live Music
ATTACH;FMTTYPE=image/jpeg:https://fortyninercc.com/wp-content/uploads/2026/01/01.09.26_CalebBloom.jpg
ORGANIZER;CN="Forty Niner":MAILTO:cklok@fortyninercc.com
END:VEVENT
BEGIN:VEVENT
DTSTART;TZID=America/Phoenix:20260110T180000
DTEND;TZID=America/Phoenix:20260110T210000
DTSTAMP:20260423T104933
CREATED:20251226T213525Z
LAST-MODIFIED:20251226T213527Z
UID:4792-1768068000-1768078800@fortyninercc.com
SUMMARY:LIVE MUSIC – SORE! – The Bar @ Forty Niner
DESCRIPTION:Join us for an evening of live music with the artist Sore! on the stage at Forty Niner. \nOn Saturday\, January 10\, from 6:00 PM to 9:00 PM\, prepare to be moved as Sore! takes you on an emotional journey\, exploring the depths of feeling through poignant lyrics and heartfelt compositions. Come enjoy a night of powerful and expressive music in a cozy atmosphere. \nFree for all to enjoy. Blanket and lawn chairs are always welcomed.
URL:https://fortyninercc.com/event/live-music-sore-the-bar-forty-niner-2/
LOCATION:Forty Niner\, 12000 E. Tanque Verde\, Tucson\, AZ\, 85749\, United States
CATEGORIES:Free Live Music
ATTACH;FMTTYPE=image/jpeg:https://fortyninercc.com/wp-content/uploads/2025/12/01.10.26_Sore.jpg
ORGANIZER;CN="Forty Niner":MAILTO:cklok@fortyninercc.com
END:VEVENT
BEGIN:VEVENT
DTSTART;TZID=America/Phoenix:20260114T060000
DTEND;TZID=America/Phoenix:20260114T210000
DTSTAMP:20260423T104933
CREATED:20260109T200445Z
LAST-MODIFIED:20260109T200448Z
UID:4855-1768370400-1768424400@fortyninercc.com
SUMMARY:Team Trivia
DESCRIPTION:Open to everyone. \nGather your smartest friends and get ready for some brain-teasing fun! \nIn the restaurant for teams up to 8 players
URL:https://fortyninercc.com/event/team-trivia-8/
LOCATION:Forty Niner\, 12000 E. Tanque Verde\, Tucson\, AZ\, 85749\, United States
CATEGORIES:Community Events,Free Community Events
ATTACH;FMTTYPE=image/jpeg:https://fortyninercc.com/wp-content/uploads/2026/01/01.14.26_TeamTrivia.jpg
ORGANIZER;CN="Forty Niner":MAILTO:cklok@fortyninercc.com
END:VEVENT
BEGIN:VEVENT
DTSTART;TZID=America/Phoenix:20260115T180000
DTEND;TZID=America/Phoenix:20260115T210000
DTSTAMP:20260423T104933
CREATED:20251226T211714Z
LAST-MODIFIED:20251226T211717Z
UID:4783-1768500000-1768510800@fortyninercc.com
SUMMARY:Thursday Night Bingo
DESCRIPTION:Join us every Thursday night for some exciting Thursday Night Bingo!\n\nGet your game face on and try your luck with our weekly bingo sessions starting at 7:00 PM.\n\nFor just $10 per packet\, you’ll have a chance to win some fun prizes! Plus\, enjoy our full food and drink service while you play.\n\nIt’s the perfect way to unwind and socialize mid-week!\n\nEmail: Casey Polivchak caseyp@fortyninercc.com for RSVPs
URL:https://fortyninercc.com/event/thursday-night-bingo-15/
LOCATION:Forty Niner\, 12000 E. Tanque Verde\, Tucson\, AZ\, 85749\, United States
CATEGORIES:Thursday Night Bingo
ATTACH;FMTTYPE=image/jpeg:https://fortyninercc.com/wp-content/uploads/2025/12/01.15.26_Bingo.jpg
ORGANIZER;CN="Forty Niner":MAILTO:cklok@fortyninercc.com
END:VEVENT
BEGIN:VEVENT
DTSTART;TZID=America/Phoenix:20260116T180000
DTEND;TZID=America/Phoenix:20260116T210000
DTSTAMP:20260423T104933
CREATED:20260109T195123Z
LAST-MODIFIED:20260109T195126Z
UID:4846-1768586400-1768597200@fortyninercc.com
SUMMARY:LIVE MUSIC – Ben Tully – The Bar @ Forty Niner
DESCRIPTION:Live Music with Ben Tully at Forty Niner \nFriday\, January 16th | 6:00 PM – 9:00 PMWelcome back to The Bar @ Forty Niner! Join us for an evening of amazing live music with Ben Tully. Bring a blanket or lawn chair and enjoy great tunes and good vibes outdoors. \nFree performance for all to enjoy.
URL:https://fortyninercc.com/event/live-music-ben-tully-the-bar-forty-niner/
LOCATION:Forty Niner\, 12000 E. Tanque Verde\, Tucson\, AZ\, 85749\, United States
CATEGORIES:Free Live Music
ATTACH;FMTTYPE=image/jpeg:https://fortyninercc.com/wp-content/uploads/2026/01/01.16.26_BenTully.jpg
ORGANIZER;CN="Forty Niner":MAILTO:cklok@fortyninercc.com
END:VEVENT
BEGIN:VEVENT
DTSTART;TZID=America/Phoenix:20260117T180000
DTEND;TZID=America/Phoenix:20260117T210000
DTSTAMP:20260423T104933
CREATED:20260109T195829Z
LAST-MODIFIED:20260109T195831Z
UID:4849-1768672800-1768683600@fortyninercc.com
SUMMARY:LIVE MUSIC – Deven Wagner – The Bar @ Forty Niner
DESCRIPTION:Live Music with Deven Wagner at Forty Niner \nSaturday\, January 17th | 6:00 PM – 9:00 PMWelcome back to The Bar @ Forty Niner! Join us for an evening of amazing live music with Deven Wagner. Bring a blanket or lawn chair and enjoy great tunes and good vibes outdoors. \nFree performance for all to enjoy.
URL:https://fortyninercc.com/event/live-music-deven-wagner-the-bar-forty-niner-2/
LOCATION:Forty Niner\, 12000 E. Tanque Verde\, Tucson\, AZ\, 85749\, United States
CATEGORIES:Free Live Music
ATTACH;FMTTYPE=image/jpeg:https://fortyninercc.com/wp-content/uploads/2026/01/01.17.26_DevenWagner.jpg
ORGANIZER;CN="Forty Niner":MAILTO:cklok@fortyninercc.com
END:VEVENT
BEGIN:VEVENT
DTSTART;TZID=America/Phoenix:20260119T180000
DTEND;TZID=America/Phoenix:20260119T200000
DTSTAMP:20260423T104933
CREATED:20260109T200123Z
LAST-MODIFIED:20260109T200126Z
UID:4852-1768845600-1768852800@fortyninercc.com
SUMMARY:Linedancing at Forty Niner
DESCRIPTION:Join us for an evening of line dancing with our very own instructor Viki Welling in the Pavilion at Forty Niner.\n\nOn Monday\, January 19th\, dust off your boots and get ready to groove! Check-in starts at 6:00 PM\, with dancing kicking off at 6:15 PM. For just $10\, you’ll get a rootin’ tootin’ good time\, including a drink ticket\, good for any domestic beer or house wine!\n\nKick up your heels and dance the night away with us!
URL:https://fortyninercc.com/event/linedancing-at-forty-niner-11/
LOCATION:Forty Niner\, 12000 E. Tanque Verde\, Tucson\, AZ\, 85749\, United States
CATEGORIES:Community Events
ATTACH;FMTTYPE=image/jpeg:https://fortyninercc.com/wp-content/uploads/2026/01/01.19.26_LineDancing.jpg
ORGANIZER;CN="Forty Niner":MAILTO:cklok@fortyninercc.com
END:VEVENT
BEGIN:VEVENT
DTSTART;TZID=America/Phoenix:20260122T180000
DTEND;TZID=America/Phoenix:20260122T210000
DTSTAMP:20260423T104933
CREATED:20251226T211829Z
LAST-MODIFIED:20251226T211831Z
UID:4786-1769104800-1769115600@fortyninercc.com
SUMMARY:Thursday Night Bingo
DESCRIPTION:Join us every Thursday night for some exciting Thursday Night Bingo!\n\nGet your game face on and try your luck with our weekly bingo sessions starting at 7:00 PM.\n\nFor just $10 per packet\, you’ll have a chance to win some fun prizes! Plus\, enjoy our full food and drink service while you play.\n\nIt’s the perfect way to unwind and socialize mid-week!\n\nEmail: Casey Polivchak caseyp@fortyninercc.com for RSVPs
URL:https://fortyninercc.com/event/thursday-night-bingo-16/
LOCATION:Forty Niner\, 12000 E. Tanque Verde\, Tucson\, AZ\, 85749\, United States
CATEGORIES:Thursday Night Bingo
ATTACH;FMTTYPE=image/jpeg:https://fortyninercc.com/wp-content/uploads/2025/12/01.22.26_Bingo.jpg
ORGANIZER;CN="Forty Niner":MAILTO:cklok@fortyninercc.com
END:VEVENT
BEGIN:VEVENT
DTSTART;TZID=America/Phoenix:20260123T180000
DTEND;TZID=America/Phoenix:20260123T210000
DTSTAMP:20260423T104933
CREATED:20251226T222654Z
LAST-MODIFIED:20251226T222656Z
UID:4795-1769191200-1769202000@fortyninercc.com
SUMMARY:Karaoke Night – The Bar @ Forty Niner
DESCRIPTION:Karaoke Night\nFriday\, January 23rd | 6:00 PM – 9:00 PM \nGet ready to sing your heart out! Join us for a lively Karaoke Night at the Forty Niner Bar on Friday\, January 23rd. \nIt is FREE to sing\, making it the perfect opportunity to grab the mic\, belt out your favorite tunes\, and be a star for the night! \nFrom pop anthems to classic rock and everything in between\, we have the tracks—you just bring the talent! Bring your friends and make it a memorable evening of music and fun!
URL:https://fortyninercc.com/event/karaoke-night-the-bar-forty-niner-2/
LOCATION:Forty Niner\, 12000 E. Tanque Verde\, Tucson\, AZ\, 85749\, United States
CATEGORIES:Community Events,Free Community Events
ATTACH;FMTTYPE=image/png:https://fortyninercc.com/wp-content/uploads/2025/12/1.23-Karaoke-Night-1920x1080-1.png
ORGANIZER;CN="Forty Niner":MAILTO:cklok@fortyninercc.com
END:VEVENT
BEGIN:VEVENT
DTSTART;TZID=America/Phoenix:20260129T180000
DTEND;TZID=America/Phoenix:20260129T210000
DTSTAMP:20260423T104933
CREATED:20251226T212107Z
LAST-MODIFIED:20251226T212109Z
UID:4789-1769709600-1769720400@fortyninercc.com
SUMMARY:Thursday Night Bingo
DESCRIPTION:Join us every Thursday night for some exciting Thursday Night Bingo!\n\nGet your game face on and try your luck with our weekly bingo sessions starting at 7:00 PM.\n\nFor just $10 per packet\, you’ll have a chance to win some fun prizes! Plus\, enjoy our full food and drink service while you play.\n\nIt’s the perfect way to unwind and socialize mid-week!\n\nEmail: Casey Polivchak caseyp@fortyninercc.com for RSVPs
URL:https://fortyninercc.com/event/thursday-night-bingo-17/
LOCATION:Forty Niner\, 12000 E. Tanque Verde\, Tucson\, AZ\, 85749\, United States
CATEGORIES:Thursday Night Bingo
ATTACH;FMTTYPE=image/jpeg:https://fortyninercc.com/wp-content/uploads/2025/12/01.29.26_Bingo.jpg
ORGANIZER;CN="Forty Niner":MAILTO:cklok@fortyninercc.com
END:VEVENT
BEGIN:VEVENT
DTSTART;TZID=America/Phoenix:20260130T180000
DTEND;TZID=America/Phoenix:20260130T210000
DTSTAMP:20260423T104933
CREATED:20260127T200429Z
LAST-MODIFIED:20260127T200439Z
UID:4976-1769796000-1769806800@fortyninercc.com
SUMMARY:LIVE MUSIC - The Cherry Springers - The Bar @ Forty Niner
DESCRIPTION:Live Music Night with The Cherry Springers!\nGet ready for an evening of killer tunes and desert vibes. This Friday\, we’re thrilled to host The Cherry Springers at Forty Niner. Whether you’re a fan of fresh original tracks or love singing along to your favorite covers\, this duo brings a unique energy you won’t want to miss. \nGrab a drink\, find a spot on the patio\, and enjoy some live music under the Arizona sky.
URL:https://fortyninercc.com/event/live-music-the-cherry-springers-the-bar-forty-niner-2/
LOCATION:Forty Niner\, 12000 E. Tanque Verde\, Tucson\, AZ\, 85749\, United States
CATEGORIES:Free Live Music
ATTACH;FMTTYPE=image/jpeg:https://fortyninercc.com/wp-content/uploads/2026/01/01.30.26_CherrySpringers.jpg
ORGANIZER;CN="Forty Niner":MAILTO:cklok@fortyninercc.com
END:VEVENT
BEGIN:VEVENT
DTSTART;TZID=America/Phoenix:20260131T180000
DTEND;TZID=America/Phoenix:20260131T210000
DTSTAMP:20260423T104933
CREATED:20260127T200619Z
LAST-MODIFIED:20260127T200619Z
UID:4979-1769882400-1769893200@fortyninercc.com
SUMMARY:LIVE MUSIC - Whiskey & Wine - The Bar @ Forty Niner
DESCRIPTION:Live Music Night with Whiskey & Wine!\n\n\n\n\n\n\n\n\nCap off your January with a soulful evening featuring Whiskey & Wine. This acoustic duo is taking the stage to perform a wide range of acoustic covers that are perfect for a relaxed Saturday night at the club. \nWhether you’re looking for a great date night spot or a place to unwind with friends\, come join us for great music\, good drinks\, and the best company in Tucson.
URL:https://fortyninercc.com/event/live-music-whiskey-and-wine/
LOCATION:Forty Niner\, 12000 E. Tanque Verde\, Tucson\, AZ\, 85749\, United States
CATEGORIES:Free Live Music
ATTACH;FMTTYPE=image/jpeg:https://fortyninercc.com/wp-content/uploads/2026/01/01.31.26_WhiskeyWine.jpg
ORGANIZER;CN="Forty Niner":MAILTO:cklok@fortyninercc.com
END:VEVENT
END:VCALENDAR